Workbook

Sheet Projetos
A2: Nº PROJETO | D2: NOME DO PROJETO | E2: Resumo do Projeto | F2: VIGÊNCIA | G2: Carga Horária Total do Projeto (H) | H2: Classificação | I2: Área do conhecimento | J2: COORDENADOR | K2: CAMPUS | L2: Situação | M2: Alteração/Prorrogação
A3: PJE2018 | B3: PEL | C3: 1 | D3: Atividade Extracurricular: Atletismo | E3: Caracteriza-se por uma atividade extracurricular com o objetivo de proporcionar um ambiente de vivências esportivas que contribua no processo de formação integral dos alunos do IFSul Câmpus Pelotas. | F3: Jan/18 a Dez/18 | G3: 480 | H3: Outro: Atividade Esportiva | I3: Linguagens e códigos | J3: Valdir José A. Lacerda Jr. | K3: Pelotas | L3: Aprovado em 09/01/2018 | M3: -
A4: =A3 -> PJE2018 | B4: PEL | C4: 2 | D4: Atividade Extracurricular: Handebol | E4: Caracteriza-se por uma atividade extracurricular com o objetivo de proporcionar um ambiente de vivências esportivas que contribua no processo de formação integral dos alunos do IFSul Câmpus Pelotas. | F4: Fev/18 a Dez/18 | G4: 720 | H4: Outro: Atividade Esportiva | I4: Linguagens e códigos | J4: Vinícius Costa da Costa | K4: Pelotas | L4: Aprovado em 09/01/2018 | M4: -
A5: =A4 -> PJE2018 | B5: PEL | C5: 3 | D5: Atividade Extracurricular: Futsal | E5: Caracteriza-se por uma atividade extracurricular com o objetivo de proporcionar um ambiente de vivências esportivas que contribua no processo de formação integral dos alunos do IFSul Câmpus Pelotas. | F5: Fev/18 a Dez/18 | G5: 720 | H5: Outro: Atividade Esportiva | I5: Linguagens e códigos | J5: Márcia Rejane Vieira Guimarães e César Augusto Häfle | K5: Pelotas | L5: Aprovado em 09/01/2018 | M5: -
A6: =A5 -> PJE2018 | B6: PEL | C6: 4 | D6: Atividade Extracurricular: Voleibol | E6: Caracteriza-se por uma atividade extracurricular com o objetivo de proporcionar um ambiente de vivências esportivas que contribua no processo de formação integral dos alunos do IFSul Câmpus Pelotas. | F6: Fev/18 a Dez/18 | G6: 720 | H6: Outro: Atividade Esportiva | I6: Linguagens e códigos | J6: Thiago Terra Borges | K6: Pelotas | L6: Aprovado em 09/01/2018 | M6: -
A7: =A6 -> PJE2018 | B7: PEL | C7: 5 | D7: Atividade Extracurricular: Basquetebol | E7: Caracteriza-se por uma atividade extracurricular com o objetivo de proporcionar um ambiente de vivências esportivas que contribua no processo de formação integral dos alunos do IFSul Câmpus Pelotas. | F7: Fev/18 a Dez/18 | G7: 720 | H7: Outro: Atividade Esportiva | I7: Linguagens e códigos | J7: Jorge Otte | K7: Pelotas | L7: Aprovado em 09/01/2018 | M7: -
A8: =A7 -> PJE2018 | B8: PEL | C8: 6 | D8: Clube de Xadrez | E8: O projeto visa estimular a participação dos alunos nas atividades desenvolvidas no clube de xadrez, aulas, palestras, torneios e campeonatos, com o objetivo de representar a instituição nos diversos eventos competitivos | F8: Fev/18 a Dez/18 | G8: 180 | H8: Outro: Atividade Esportiva | I8: Linguagens e códigos | J8: Rony Centeno Soares Júnior | K8: Pelotas | L8: Aprovado em 09/01/2018 | M8: -
A9: =A8 -> PJE2018 | B9: CHA | C9: 7 | D9: Monitoria voluntária do Curso Superior de Tecnologia em Sistemas para Internet | E9: Este programa de monitoria propõem-se a auxiliar os alunos com exercícios e resoluções propostos pelos professores, com atendimento fora do horário de aula, assim contando com a ajuda de alunos que se encontram em semestres mais avançados do curso | F9: Out/18 a Fev/19 | G9: 40 | H9: Outro: Monitoria | I9: Ciências da Natureza e Matemática | J9: João Orlando Ollé Corrêa | K9: Charqueadas | L9: Aprovado em 24/01/2018 | M9: -
A10: =A9 -> PJE2018 | B10: CHA | C10: 8 | D10: Indicadores sociais: Conhecendo o território a partir dos números. | E10: Produzir, sistematizar, analisar e divulgar informações capazes de refletir determinada realidade econômica através de indicadores sintéticos, demonstrando o quanto são fontes ricas de informações para gestores e formuladores de politicas publicas. | F10: 43101 | G10: 2 | H10: Palestra | I10: Ciências Humanas | J10: Andrea Cristina Conceição Lemos | K10: Charqueadas | L10: Aprovado em 12/01/2018 | M10: -
A11: =A10 -> PJE2018 | B11: CMQ | C11: 9 | D11: Curso de Férias: Matemática Básica | E11: Esta iniciativa busca promover a aproximação entre os futuros ingressantes (aprovados no Vestibular de Verão 2018) e o IFSul. Essa necessidade decorre do inicio tardio do ano letivo 2018. Além disso, este "curso de férias" em Matemática poderá auxiliar esses jovens e dirimir várias dúvidas e dificuldades nessa área. | F11: Jan/18 a Dez/18 | G11: 60 | H11: Curso/Minicurso | I11: Ciências da Natureza e Matemática | J11: Vagner Euzebio Bastos | K11: Camaquã | L11: Aprovado em 3/01/2018 | M11: -
A12: =A11 -> PJE2018 | B12: PEL | C12: 10 | D12: Curso básico de linguagem de programação Java | E12: O projeto tem como objetivo oferecer aos alunos do Curso Técnico em Eletrônica um curso extraclasse de introdução à linguagem Java, onde serão apresentados os fundamentos e estruturas de controle da linguagem e os principais conceitos da programação orientada a objetos. | F12: mar /18 a Mai/18 | G12: =28/60*45 -> 21 | H12: Curso/Minicurso | I12: Linguagens e códigos | J12: Ricardo Andrade Cava | K12: Pelotas | L12: Aprovado em 02/03/2018 | M12: -
A13: =A12 -> PJE2018 | B13: PEL | C13: 11 | D13: Cursos de Arduíno Básico, Intermediário e Avançado | E13: Este projeto visa ensinar uma nova tecnologia, utilizando-se de métodos de rápido ensino seguido de prática intensiva com Arduínos e projetos previamente pensados. Ao final de cada aula, o aluno utilizará o tempo livre para que possa desenvolver algo do próprio interesse, para assim estimular o conhecimento o conhecimento que foi adquirido na aula. | F13: Ago/18 a dez/18 | G13: =540/60*45 -> 405 | H13: Curso/Minicurso | I13: Linguagens e códigos | J13: Rogerio Ramos Weymar | K13: Pelotas | L13: Aprovado em 02/03/2018 | M13: -
A14: =A13 -> PJE2018 | B14: NHO | C14: 12 | D14: Iniciação Cientifica | E14: Tem como escopo proporcionar o exercício dos primeiros momentos da pesquisa cientifica, como a escrita apropriada, a apresentação de resultados em eventos científicos, a sistematização de ideias, a estruturação de referenciais teóricos, o registro de observações ou experiências, a elaboração de relatórios e demais atividades vinculadas a iniciação cientifica. | F14: abr/18 a set/18 | G14: 44 | H14: Curso/Minicurso | I14: Linguagens e códigos | J14: Rodrigo Dias Daniel Derrossi Meyer | K14: Novo Hamburgo | L14: Aprovado em 02/03/2018 | M14: -
A15: =A14 -> PJE2018 | B15: NHO | C15: 13 | D15: Atividade multidisciplinar para melhoria do aprendizado do educando | E15: Este projeto visa fortalecer estrutura básica para a familiarização de conceitos da matemática, eletricidade e lógica. Estes que são úteis em disciplinas no decorrer do curso técnico subsequente em mecatrônica. | F15: mar/18 a jul/18 | G15: 56 | H15: Curso/Minicurso | I15: Ciências da Natureza e Matemática | J15: Juneor dos Santos Brehm | K15: Novo Hamburgo | L15: Aprovado em 02/03/2018 | M15: -
A16: =A15 -> PJE2018 | B16: NHO | C16: 14 | D16: Conceitos básicos de linguagem C | E16: Este projeto de ensino está sendo construído a partir da observação que os estudantes possuem dificuldades de aprendizagem dos conceitos apresentados na disciplina de Lógica de Programação. Visando melhorar o desempenho dos estudantes decidiu-se ofertar um curso almejando dar um maior apoio aos alunos do conteúdo abordado na mesma. | F16: mar/18 a jun/18 | G16: 11 | H16: Curso/Minicurso | I16: Linguagens e códigos | J16: Yuri das Neves Valadão | K16: Novo Hamburgo | L16: Aprovado em 02/03/2018 | M16: -
A17: =A16 -> PJE2018 | B17: BGE | C17: 15 | D17: Educação e cidadania: Março, mês de luta das mulheres! | E17: O presente projeto visa ampliar o debate sobre os papéis sociais e identitários atribuídos ao feminino e as conquistas e lutas das mulheres por garantias de direitos no espaço social e privado ao longo da história. O espaço educativo requer momentos de reflexão que propiciem à comunidade analisar as mudanças culturais, sociais e históricas, com o objetivo de reduzir o preconceito de gênero e étnico-racial no ambiente escolar. A discussão da temática pretende ser alusiva ao dia internacional da mulher. | F17: fev/18 a mar/18 | G17: 4 | H17: Evento | I17: Ciências Humanas | J17: Eugênia Squeff de Oliveira Rosana Alves Gomes | K17: Bagé | L17: Aprovado em 06/03/2015 | M17: -
A18: =A17 -> PJE2018 | B18: PEL | C18: 16 | D18: Curta o intervalo | E18: Tem como objetivo exibir e divulgar projetos audiovisuais/curta-metragem produzidos por alunos do IFSul/Campus Pelotas, como resultado de experiências pedagógicas nas aulas de Lingua Portuguesa e Literatura Brasileira, nas quais se exploram diferentes tipo de linguagem, dentre eles a aduividual. | F18: mar/18 a abr/18 | G18: 20 | H18: Evento | I18: Linguagens e códigos | J18: Camila Daldin Viviane Peres de Jesus Lino Gilnei Oleiro Corrêa | K18: Pelotas | L18: Aprovado em 12/03/2018
A19: PJE2018 | B19: SPR | C19: 17 | D19: Palestra: Formação e Experiência Profissional | E19: O projeto trata da realização de palestras da área sobre a formação técnica e a experiência no mundo do trabalho para os alunos dos 1º anos dos cursos de Eletro mecânica e Informática. | F19: mar/18 a abr/18 | G19: 4 | H19: Palestra | I19: Linguagens e códigos | J19: Rita de Cassia Dias Costa | K19: Sapiranga | L19: Aprovado em 09/03/2018
A20: PJE2018 | B20: CVG | C20: 18 | D20: (Re)conhecendo os sentidos através educação estética | E20: O projeto versa sobre práticas de eco cidadãos sintonizados com uma educação estética para o presente e o futuro, visando entender os sentidos que temos, ou não, na percepção do habitat. Ações concretizadas no contexto do Curso Técnico em Meio Ambiente, tendo como objetivo geral contribuir para uma tomada de consciência sobre a capacidade do ser humano sentir a si próprio e a o habitat todo integrado. | F20: mar/18 a jun/18 | G20: 26 | H20: Evento | I20: Ciências da Natureza e Matemática | J20: Luciana Roso de Arrial | K20: Pelotas - Visconde da Graça (CaVG) | L20: Aprovado em 09/03/2018
A21: PJE2018 | B21: CVG | C21: 19 | D21: Entendendo a Educação Ambiental através do humor gráfico | E21: O projeto versa sobre o entendimento e conceituação da Educação ambiental através da representação gráfica utilizada em charges. Tem como objetivo geral contribuir para um percepção ambiental através do exercício criativo da manifestação da arte. | F21: mar/18 a jun/18 | G21: 24 | H21: Evento | I21: Ciências da Natureza e Matemática | J21: Luciana Roso de Arrial | K21: Pelotas - Visconde da Graça (CaVG) | L21: Aprovado em 09/03/2018
A22: PJE2018 | B22: NHO | C22: 20 | D22: Inglês básico aplicado à leitura de textos técnicos - Módulo II | E22: Este projeto tem o intuito de proporcionar conhecimentos básicos e intermediários de inglês para uma comunicação efetiva na língua em questão, principalmente no que diz respeito à leitura e textos técnicos da área de Mecatrônica. Inicialmente, tópicos de gramática e de vocabulários serão explorados. Na sequência, habilidades de leitura e interpretação textual serão trabalhadas, com o reconhecimento de como se utilizam determinados recursos linguisticos-estruturarais. | F22: mar/18 a jul/18 | G22: 20 | H22: Curso/Minicurso | I22: Linguagens e códigos | J22: Camila de Bona | K22: Novo Hamburgo | L22: Aprovado em 09/03/2018
A23: PJE2018 | B23: PEL | C23: 21 | D23: Cia. Cem Caras de Teatro - Oficina Permanente de Montagens | E23: Tem o objetivo de proporcionar aos alunos o encontro com as artes cênicas, contribuindo para o desenvolvimento social, intelectual e artístico, integrando como uma atividade complementar aos seu processo de ensino. | F23: abr/18 a mar/19 | G23: 360 | H23: Curso/Minicurso | I23: Linguagens e códigos | J23: Gladimir da Silva | K23: Pelotas | L23: Aprovado em 14/03/2018
A24: PJE2018 | B24: NHO | C24: 22 | D24: Clube de Xadrez | E24: Esta ação tem como meta contribuir com as atividades de desenvolvimento dos estudantes no que se refere às competências de raciocínio lógico e concentração. | F24: mar/18 a dez/18 | G24: 160 | H24: Outro: Clube | I24: Linguagens e códigos | J24: Fernanda Goldani | K24: Novo Hamburgo | L24: Aprovado em 14/03/2018
A25: PJE2018 | B25: CVG | C25: 23 | D25: VII Semana Acadêmica CST Gestão de Cooperativas | E25: A VII Semana Acadêmica do Curso Superior em Gestão de Cooperativas tem por objetivo trabalhar o conceito de Gestão de Pessoas dentro do cooperativismo e conhecimentos gerais, apresentar técnicas, conceitos e atividades relacionadas a temática. Fazer a integração dos alunos e o público em geral interessado promovendo o contato com o tema e o curso | F25: mar/18 a abr/18 | G25: 12 | H25: Outro: Semana Acadêmica | I25: Ciências Humanas | J25: Ivana Caldeira Siqueira | K25: Pelotas - Visconde da Graça (CaVG) | L25: Aprovado em 16/03/2018
A26: PJE2018 | B26: CVG | C26: 24 | D26: Semana Acadêmica do Curso Técnico de Meio Ambiente | E26: A Semana Acadêmica do Curso Técnico de Meio Ambiente tem como tema "Meio Ambiente e Sustentabilidade". O evento proporcionará aos alunos o contato com profissionais atuantes nas mais diversas áreas da Ciência e Tecnologia Ambiental, através das palestras, oficinas e mesa redonda, possibilitando debate sobre o tema escolhido. | F26: jul/17 a set/17 | G26: 30 | H26: Evento | I26: Ciências Humanas | J26: Maria de Fátima Magalhães Jorge | K26: Pelotas - Visconde da Graça (CaVG) | L26: Relatório final aprovado em 16/03/2018
A27: PJE2018 | B27: CVG | C27: 25 | D27: Monitoria destinada aos acadêmicos do CST em Agroindústria - 2018/1 | E27: O projeto visa dar continuidade ao auxilio aos estudantes do CST Agroindústria frente a conteúdos de disciplinas ofertadas pelo referido curso, contribuindo para uma melhor aprendizagem, diminuição da evasão e retenção, bem como possibilitar melhor compreensão e complementação de estudos. | F27: mar/18 a jul/18 | G27: 60 | H27: Outro: Monitoria | I27: Ciências da Natureza e Matemática | J27: Cristiane Brauer Zaicovski | K27: Pelotas - Visconde da Graça (CaVG) | L27: Aprovado em 26/03/2018
A28: PJE2018 | B28: SLO | C28: 26 | D28: Treinamento de Voleibol - formação de equipes representativas | E28: O projeto visa a prática/treinamento da modalidade voleibol, nos naipes masculino e feminino, com objetivo de formar equipes competitivas, representando o IFSul campis Santana do Livramento, na participação de competições escolares como JERGS, JIFIFSul e JIF. | F28: mar/18 a dez/18 | G28: 160 | H28: Outro: Atividade Esportiva | I28: Linguagens e códigos | J28: Paulo Jassin Gutiérrez | K28: Santana do Livramento | L28: Aprovado em 16/03/2018
A29: PJE2018 | B29: SSL | C29: 27 | D29: Clube de Xadrez | E29: O projeto prevê a retomada do habito do jogo nas dependências do instituto com horários semanais de treinamento com acesso às regras, estrutura de jogo e notação para os participantes e horários variados de prática com o oferecimento de tabuleiro e peças para os demais interessados. | F29: abr/18 a dez/18 | G29: 111 | H29: Outro: Oficina de ocorrência contínua | I29: Ciências da Natureza e Matemática | J29: Marcelio Adriano Diogo Mauricio dos Santos | K29: Sapucaia do Sul | L29: Aprovado em 21/03/2018
A30: PJE2018 | B30: CVG | C30: 28 | D30: Curta IFSUL - CAVG | E30: apresentação e debate sobre filmes curta-metragem e documentários com temáticas atuais e vinculadas às áreas das ciências humanas. O projeto visa ampliar discussões oriundas da as de aula, assim como, perceber e refletir sobre temas de interesse estudantil que não estejam comtemplados nos currículos das disciplinas | F30: mar/18 a nov/18 | G30: 150 | H30: Outro: Cine-debate | I30: Ciências Humanas | J30: Daiana Lopes Dias Rafael Peter de Lima Vinicius Pereira de Oliveira | K30: Pelotas - Visconde da Graça (CaVG) | L30: Aprovado em 26/03/2018
... A35: PJE2018 | B35: PEL | C35: 33 | D35: Avaliação automatizada de exercícios de programação | E35: O objetivo principal é integrar um motor de maratona de programação ao site das disciplinas de programação do curso de Eng. Elétrica. Os exercícios serão disponibilizados de forma progressiva, ao resolver corretamente um exercício, outro mais complexo é apresentado. | F35: fev/18 a dez/18 | G35: 240 | H35: Outro: Sistema informático | I35: Ciências da Natureza e Matemática | J35: André Pinto Geraldo | K35: Pelotas | L35: Aprovado em 21/03/2018
A36: PJE2018 | B36: PEL | C36: 34 | D36: Qualificação de equipe para projeto e construção de um mecanismo de robô Scara para uso em disciplinas de automação industrial e robótica | E36: O objetivo deste trabalho é a formação de equipe de alunos capazes de desenhar e produzir componentes e mecanismos de um robô Scara que apresente propriedades especificas, permitindo que outros robôs sejam produzidos e que os alunos dominem o desenho e a produção de peças. | F36: abr/18 a mai/18 | G36: =12*8 -> 96 | H36: Curso/Minicurso | I36: Ciências da Natureza e Matemática | J36: Cláudio Luis d'Elia Machado | K36: Pelotas | L36: Aprovado em 02/04/2018.
A37: PJE2018 | B37: PEL | C37: 35 | D37: Intercambio IFSul - Liceu Eugène Livet França | E37: Visa promover o intercâmbio com mobilidade de um estudante francês do Curso Técnico de Concepção e Industrialização Mecânica (CIM), do Liceu Eugène Livet (Nantes), para participar de projetos interdisciplinares no Lab 14 do Curso de Técnico de Eletrônica do campus Pelotas, bem como realizar estágio curricular na Empresa MESP Industria e Comércio de Máquinas Especiais Ltda., com duração prevista de sete semanas. | F37: fev/18 a set/18 | G37: 300 | H37: Outro: Intercambio internacional com mobilidade | I37: Linguagens e códigos | J37: Marco Antônio Simões de Souza | K37: Pelotas | L37: Aprovado em 02/04/2018.
A38: PJE2018 | B38: SSL | C38: 36 | D38: Dia Mundial da Água - 22 de Março 2018 | E38: O objetivo principal é criar um momento de reflexão, análise, conscientização e elaboração de medidas práticas para resolver tal problema. | F38: 43160 | G38: 5 | H38: Evento | I38: Ciências da Natureza e Matemática | J38: Maria Helena Polgati Moreira | K38: Sapucaia do Sul | L38: Aprovado em 02/04/2018.
A39: PJE2018 | B39: SSL | C39: 37 | D39: Intervenções no Dia da Água | E39: Do dia 15 a o dia 22 de março serão expostas algumas intervenções nos corredores e saguão do Campus que tem como temática principal a preservação dos mananciais aquíferos para as atuais e futuras gerações. | F39: 43160 | G39: 12 | H39: Evento | I39: Ciências da Natureza e Matemática | J39: Daniela Gervazoni Viana | K39: Sapucaia do Sul | L39: Relatório final aprovado em 16/04/2018.
A40: PJE2018 | B40: NHO | C40: 38 | D40: Roboburgo - Competição de Robótica do Campus Avançado Novo Hamburgo | E40: Realizar uma competição de robótica com várias categorias, realizada a partir de projetos desenvolvidos por estudantes do curso técnico subsequente de Mecatrônica, além da participação de escolas de ensino fundamental da região e campus convidados do IFSul. | F40: fev/18 a abr/18 | G40: 16 | H40: Evento | I40: Ciências da Natureza e Matemática | J40: Yuri das Neves Valadão | K40: Novo Hamburgo | L40: Aprovado em 02/04/2018.
A41: PJE2018 | B41: CVG | C41: 39 | D41: Curso de elaboração de slides para alunos ingressantes dos cursos superiores do CAVG | E41: Inicialmente pensado como auxiliar ou nivelamento para a disciplina de Seminários do CSTGA, o participante aprenderá a criar um novo documento, editar textos alterando tamanho, cor, efeitos especiais, assim como inserir imagens, fotos, tabelas, vídeos, cor de fundo do slide, dentre outras práticas importantes na elaboração de slides. | F41: abr/18 a jun/18 | G41: 12 | H41: Curso/Minicurso | I41: Linguagens e códigos | J41: Pablo Machado Mendes | K41: Pelotas - Visconde da Graça (CaVG) | L41: Aprovado em 29/03/2018.
A42: PJE2018 | B42: CVG | C42: 40 | D42: VI Semana Acadêmica do Curso Superior de Tecnologia em Agroindústria: "Métodos e Práticas: Conhecer e aplicar" | E42: O evento proporcionará aos alunos o contato com profissionais atuantes nas mais diversas áreas dentro do universo da Ciência e Tecnologia em Alimentos com a possibilidade de debate sobre o tema escolhido. | F42: nov/17 a mai/18 | G42: 20 | H42: Evento | I42: Ciências da Natureza e Matemática | J42: Ana Paula do Sacramento Wally | K42: Pelotas - Visconde da Graça (CaVG) | L42: Aprovado em 09/04/2018.
A43: PJE2018 | B43: LAJ | C43: 41 | D43: Desenvolvimento de páginas Web usando Angular | E43: Este projeto propõe o ensino de tecnologias de desenvolvimento de páginas Web para os alunos interessados do curso integrado em Automação Industrial. Através desde projeto os alunos serão capazes de se qualificar para trabalhar como bolsistas no projeto de pesquisa chamado: Um modelo de software como Serviço de Suporte a Ciência de Contexto. | F43: abr/18 a dez/18 | G43: 70 | H43: Curso/Minicurso | I43: Linguagens e códigos | J43: João Henrique da Rosa | K43: Lajeado | L43: Aprovado em 09/04/2018.
A44: PJE2018 | B44: LAJ | C44: 42 | D44: Geopolítica, Relações Internacionais e inserção estratégica | E44: O projeto tem como objetivo analisar e interpretar o desenvolvimento das politicas de estado e das estruturas do mercado; seus atores internacionais, conflitos e tendências na busca do fortalecimento do poder político e econômico Nacional. | F44: abr/18 a out/18 | H44: Curso/Minicurso | I44: Ciências Humanas | J44: Evandro Fernandes | K44: Lajeado | L44: Aprovado em 09/04/2018.
A45: PJE2018 | B45: SLO | C45: 43 | D45: Clube de Sobrevivencialismo | E45: O clube de sobrevivencialismo é um projeto que visa orientar e capacitar seu público alvo a se preparar para eventuais desajustes e emergencias em ordens sociais, politicas e/ou ambientais. | F45: abr/18 a dez/18 | G45: 152 | H45: Curso/Minicurso | I45: Ciências Humanas | J45: Alexandre Garcia Amaral | K45: Santana do Livramento | L45: Aprovado em 16/04/2018.
...

Sheet Tabelas
B2: Código dos Câmpus | D2: =SUM(D3:D16) -> 70 | E2: Áreas do Conhecimento | K2: Classificação
B3: Bagé | C3: BGE | D3: =COUNTIF(Projetos!B$2:B$73,Tabelas!C3) -> 3 | E3: Área | F3: Linguagens e códigos | G3: Ciências da Natureza e Matemática | H3: Ciências Humanas | I3: Outros | K3: Curso/Minicurso
B4: Camaquã | C4: CMQ | D4: =COUNTIF(Projetos!B$2:B$73,Tabelas!C4) -> 1 | E4: Disciplina | F4: Língua Portuguesa | G4: Biologia | H4: História | K4: Palestra
B5: Charqueadas | C5: CHA | D5: =COUNTIF(Projetos!B$2:B$73,Tabelas!C5) -> 7 | F5: Língua Estrangeira | G5: Química | H5: Geografia | K5: Evento
B6: Gravataí | C6: GRI | D6: =COUNTIF(Projetos!B$2:B$73,Tabelas!C6) -> 0 | F6: Educação Física | G6: Física | H6: Sociologia, Antropologia e Política | K6: Outro:
B7: Jaguarão | C7: JGO | D7: =COUNTIF(Projetos!B$2:B$73,Tabelas!C7) -> 0 | F7: Arte | G7: Matemática | H7: Filosofia | K7: Outro: Atividade Esportiva
B8: Lajeado | C8: LAJ | D8: =COUNTIF(Projetos!B$2:B$73,Tabelas!C8) -> 4 | F8: Informática | K8: Outro: Cine-debate
B9: Novo Hamburgo | C9: NHO | D9: =COUNTIF(Projetos!B$2:B$73,Tabelas!C9) -> 6 | K9: Outro: Clube
B10: Passo Fundo | C10: PFU | D10: =COUNTIF(Projetos!B$2:B$73,Tabelas!C10) -> 1 | K10: Outro: Grupo de estudo
B11: Pelotas | C11: PEL | D11: =COUNTIF(Projetos!B$2:B$73,Tabelas!C11) -> 18 | K11: Outro: Intercambio internacional com mobilidade
B12: Pelotas - Visconde da Graça (CaVG) | C12: CVG | D12: =COUNTIF(Projetos!B$2:B$73,Tabelas!C12) -> 14 | K12: Outro: Monitoria
B13: Santana do Livramento | C13: SLO | D13: =COUNTIF(Projetos!B$2:B$73,Tabelas!C13) -> 3 | K13: Outro: Oficina de ocorrência contínua
B14: Sapiranga | C14: SPR | D14: =COUNTIF(Projetos!B$2:B$73,Tabelas!C14) -> 5 | K14: Outro: Produção de material didático
B15: Sapucaia do Sul | C15: SSL | D15: =COUNTIF(Projetos!B$2:B$73,Tabelas!C15) -> 6 | K15: Outro: Produção de vídeo
B16: Venâncio Aires | C16: VAS | D16: =COUNTIF(Projetos!B$2:B$73,Tabelas!C16) -> 2 | K16: Outro: Projeto
K17: Outro: Resolução de exercícios
K18: Outro: Semana Acadêmica
K19: Outro: Sistema informático
