Workbook

Sheet Projetos
A2: Nº PROJETO | D2: NOME DO PROJETO | E2: Resumo do Projeto | F2: VIGÊNCIA | G2: Carga Horária Total do Projeto (H) | H2: Classificação | I2: Área do conhecimento | J2: COORDENADOR | K2: CAMPUS | L2: Situação | M2: Alteração/Prorrogação
A3: PJE2018 | B3: PEL | C3: 1 | D3: Atividade Extracurricular: Atletismo | E3: Caracteriza-se por uma atividade extracurricular com o objetivo de proporcionar um ambiente de vivências esportivas que contribua no processo de formação integral dos alunos do IFSul Câmpus Pelotas. | F3: Jan/18 a Dez/18 | G3: 480 | H3: Outro: Atividade Esportiva | I3: Linguagens e códigos | J3: Valdir José A. Lacerda Jr. | K3: Pelotas | L3: Aprovado em 09/01/2018 | M3: -
A4: =A3 -> PJE2018 | B4: PEL | C4: 2 | D4: Atividade Extracurricular: Handebol | E4: Caracteriza-se por uma atividade extracurricular com o objetivo de proporcionar um ambiente de vivências esportivas que contribua no processo de formação integral dos alunos do IFSul Câmpus Pelotas. | F4: Fev/18 a Dez/18 | G4: 720 | H4: Outro: Atividade Esportiva | I4: Linguagens e códigos | J4: Vinícius Costa da Costa | K4: Pelotas | L4: Aprovado em 09/01/2018 | M4: -
A5: =A4 -> PJE2018 | B5: PEL | C5: 3 | D5: Atividade Extracurricular: Futsal | E5: Caracteriza-se por uma atividade extracurricular com o objetivo de proporcionar um ambiente de vivências esportivas que contribua no processo de formação integral dos alunos do IFSul Câmpus Pelotas. | F5: Fev/18 a Dez/18 | G5: 720 | H5: Outro: Atividade Esportiva | I5: Linguagens e códigos | J5: Márcia Rejane Vieira Guimarães e César Augusto Häfle | K5: Pelotas | L5: Aprovado em 09/01/2018 | M5: -
A6: =A5 -> PJE2018 | B6: PEL | C6: 4 | D6: Atividade Extracurricular: Voleibol | E6: Caracteriza-se por uma atividade extracurricular com o objetivo de proporcionar um ambiente de vivências esportivas que contribua no processo de formação integral dos alunos do IFSul Câmpus Pelotas. | F6: Fev/18 a Dez/18 | G6: 720 | H6: Outro: Atividade Esportiva | I6: Linguagens e códigos | J6: Thiago Terra Borges | K6: Pelotas | L6: Aprovado em 09/01/2018 | M6: -
A7: =A6 -> PJE2018 | B7: PEL | C7: 5 | D7: Atividade Extracurricular: Basquetebol | E7: Caracteriza-se por uma atividade extracurricular com o objetivo de proporcionar um ambiente de vivências esportivas que contribua no processo de formação integral dos alunos do IFSul Câmpus Pelotas. | F7: Fev/18 a Dez/18 | G7: 720 | H7: Outro: Atividade Esportiva | I7: Linguagens e códigos | J7: Jorge Otte | K7: Pelotas | L7: Aprovado em 09/01/2018 | M7: -
A8: =A7 -> PJE2018 | B8: PEL | C8: 6 | D8: Clube de Xadrez | E8: O projeto visa estimular a participação dos alunos nas atividades desenvolvidas no clube de xadrez, aulas, palestras, torneios e campeonatos, com o objetivo de representar a instituição nos diversos eventos competitivos | F8: Fev/18 a Dez/18 | G8: 180 | H8: Outro: Atividade Esportiva | I8: Linguagens e códigos | J8: Rony Centeno Soares Júnior | K8: Pelotas | L8: Aprovado em 09/01/2018 | M8: -
A9: =A8 -> PJE2018 | B9: CHA | C9: 7 | D9: Monitoria voluntária do Curso Superior de Tecnologia em Sistemas para Internet | E9: Este programa de monitoria propõem-se a auxiliar os alunos com exercícios e resoluções propostos pelos professores, com atendimento fora do horário de aula, assim contando com a ajuda de alunos que se encontram em semestres mais avançados do curso | F9: Out/18 a Fev/19 | G9: 40 | H9: Outro: Monitoria | I9: Ciências da Natureza e Matemática | J9: João Orlando Ollé Corrêa | K9: Charqueadas | L9: Aprovado em 24/01/2018 | M9: -
A10: =A9 -> PJE2018 | B10: CHA | C10: 8 | D10: Indicadores sociais: Conhecendo o território a partir dos números. | E10: Produzir, sistematizar, analisar e divulgar informações capazes de refletir determinada realidade econômica através de indicadores sintéticos, demonstrando o quanto são fontes ricas de informações para gestores e formuladores de politicas publicas. | F10: 43101 | G10: 2 | H10: Palestra | I10: Ciências Humanas | J10: Andrea Cristina Conceição Lemos | K10: Charqueadas | L10: Aprovado em 12/01/2018 | M10: -
A11: =A10 -> PJE2018 | B11: CMQ | C11: 9 | D11: Curso de Férias: Matemática Básica | E11: Esta iniciativa busca promover a aproximação entre os futuros ingressantes (aprovados no Vestibular de Verão 2018) e o IFSul. Essa necessidade decorre do inicio tardio do ano letivo 2018. Além disso, este "curso de férias" em Matemática poderá auxiliar esses jovens e dirimir várias dúvidas e dificuldades nessa área. | F11: Jan/18 a Dez/18 | G11: 60 | H11: Curso/Minicurso | I11: Ciências da Natureza e Matemática | J11: Vagner Euzebio Bastos | K11: Camaquã | L11: Aprovado em 3/01/2018 | M11: -
A12: =A11 -> PJE2018 | B12: PEL | C12: 10 | D12: Curso básico de linguagem de programação Java | E12: O projeto tem como objetivo oferecer aos alunos do Curso Técnico em Eletrônica um curso extraclasse de introdução à linguagem Java, onde serão apresentados os fundamentos e estruturas de controle da linguagem e os principais conceitos da programação orientada a objetos. | F12: mar /18 a Mai/18 | G12: =28/60*45 -> 21 | H12: Curso/Minicurso | I12: Linguagens e códigos | J12: Ricardo Andrade Cava | K12: Pelotas | L12: Aprovado em 02/03/2018 | M12: -
A13: =A12 -> PJE2018 | B13: PEL | C13: 11 | D13: Cursos de Arduíno Básico, Intermediário e Avançado | E13: Este projeto visa ensinar uma nova tecnologia, utilizando-se de métodos de rápido ensino seguido de prática intensiva com Arduínos e projetos previamente pensados. Ao final de cada aula, o aluno utilizará o tempo livre para que possa desenvolver algo do próprio interesse, para assim estimular o conhecimento o conhecimento que foi adquirido na aula. | F13: Ago/18 a dez/18 | G13: =540/60*45 -> 405 | H13: Curso/Minicurso | I13: Linguagens e códigos | J13: Rogerio Ramos Weymar | K13: Pelotas | L13: Aprovado em 02/03/2018 | M13: -
A14: =A13 -> PJE2018 | B14: NHO | C14: 12 | D14: Iniciação Cientifica | E14: Tem como escopo proporcionar o exercício dos primeiros momentos da pesquisa cientifica, como a escrita apropriada, a apresentação de resultados em eventos científicos, a sistematização de ideias, a estruturação de referenciais teóricos, o registro de observações ou experiências, a elaboração de relatórios e demais atividades vinculadas a iniciação cientifica. | F14: abr/18 a set/18 | G14: 44 | H14: Curso/Minicurso | I14: Linguagens e códigos | J14: Rodrigo Dias Daniel Derrossi Meyer | K14: Novo Hamburgo | L14: Aprovado em 02/03/2018 | M14: -
A15: =A14 -> PJE2018 | B15: NHO | C15: 13 | D15: Atividade multidisciplinar para melhoria do aprendizado do educando | E15: Este projeto visa fortalecer estrutura básica para a familiarização de conceitos da matemática, eletricidade e lógica. Estes que são úteis em disciplinas no decorrer do curso técnico subsequente em mecatrônica. | F15: mar/18 a jul/18 | G15: 56 | H15: Curso/Minicurso | I15: Ciências da Natureza e Matemática | J15: Juneor dos Santos Brehm | K15: Novo Hamburgo | L15: Aprovado em 02/03/2018 | M15: -
A16: =A15 -> PJE2018 | B16: NHO | C16: 14 | D16: Conceitos básicos de linguagem C | E16: Este projeto de ensino está sendo construído a partir da observação que os estudantes possuem dificuldades de aprendizagem dos conceitos apresentados na disciplina de Lógica de Programação. Visando melhorar o desempenho dos estudantes decidiu-se ofertar um curso almejando dar um maior apoio aos alunos do conteúdo abordado na mesma. | F16: mar/18 a jun/18 | G16: 11 | H16: Curso/Minicurso | I16: Linguagens e códigos | J16: Yuri das Neves Valadão | K16: Novo Hamburgo | L16: Aprovado em 02/03/2018 | M16: -
A17: =A16 -> PJE2018 | B17: BGE | C17: 15 | D17: Educação e cidadania: Março, mês de luta das mulheres! | E17: O presente projeto visa ampliar o debate sobre os papéis sociais e identitários atribuídos ao feminino e as conquistas e lutas das mulheres por garantias de direitos no espaço social e privado ao longo da história. O espaço educativo requer momentos de reflexão que propiciem à comunidade analisar as mudanças culturais, sociais e históricas, com o objetivo de reduzir o preconceito de gênero e étnico-racial no ambiente escolar. A discussão da temática pretende ser alusiva ao dia internacional da mulher. | F17: fev/18 a mar/18 | G17: 4 | H17: Evento | I17: Ciências Humanas | J17: Eugênia Squeff de Oliveira Rosana Alves Gomes | K17: Bagé | L17: Aprovado em 06/03/2015 | M17: -
A18: =A17 -> PJE2018 | B18: PEL | C18: 16 | D18: Curta o intervalo | E18: Tem como objetivo exibir e divulgar projetos audiovisuais/curta-metragem produzidos por alunos do IFSul/Campus Pelotas, como resultado de experiências pedagógicas nas aulas de Lingua Portuguesa e Literatura Brasileira, nas quais se exploram diferentes tipo de linguagem, dentre eles a aduividual. | F18: mar/18 a abr/18 | G18: 20 | H18: Evento | I18: Linguagens e códigos | J18: Camila Daldin Viviane Peres de Jesus Lino Gilnei Oleiro Corrêa | K18: Pelotas | L18: Aprovado em 12/03/2018
A19: PJE2018 | B19: SPR | C19: 17 | D19: Palestra: Formação e Experiência Profissional | E19: O projeto trata da realização de palestras da área sobre a formação técnica e a experiência no mundo do trabalho para os alunos dos 1º anos dos cursos de Eletro mecânica e Informática. | F19: mar/18 a abr/18 | G19: 4 | H19: Palestra | I19: Linguagens e códigos | J19: Rita de Cassia Dias Costa | K19: Sapiranga | L19: Aprovado em 09/03/2018
A20: PJE2018 | B20: CVG | C20: 18 | D20: (Re)conhecendo os sentidos através educação estética | E20: O projeto versa sobre práticas de eco cidadãos sintonizados com uma educação estética para o presente e o futuro, visando entender os sentidos que temos, ou não, na percepção do habitat. Ações concretizadas no contexto do Curso Técnico em Meio Ambiente, tendo como objetivo geral contribuir para uma tomada de consciência sobre a capacidade do ser humano sentir a si próprio e a o habitat todo integrado. | F20: mar/18 a jun/18 | G20: 26 | H20: Evento | I20: Ciências da Natureza e Matemática | J20: Luciana Roso de Arrial | K20: Pelotas - Visconde da Graça (CaVG) | L20: Aprovado em 09/03/2018
A21: PJE2018 | B21: CVG | C21: 19 | D21: Entendendo a Educação Ambiental através do humor gráfico | E21: O projeto versa sobre o entendimento e conceituação da Educação ambiental através da representação gráfica utilizada em charges. Tem como objetivo geral contribuir para um percepção ambiental através do exercício criativo da manifestação da arte. | F21: mar/18 a jun/18 | G21: 24 | H21: Evento | I21: Ciências da Natureza e Matemática | J21: Luciana Roso de Arrial | K21: Pelotas - Visconde da Graça (CaVG) | L21: Aprovado em 09/03/2018
A22: PJE2018 | B22: NHO | C22: 20 | D22: Inglês básico aplicado à leitura de textos técnicos - Módulo II | E22: Este projeto tem o intuito de proporcionar conhecimentos básicos e intermediários de inglês para uma comunicação efetiva na língua em questão, principalmente no que diz respeito à leitura e textos técnicos da área de Mecatrônica. Inicialmente, tópicos de gramática e de vocabulários serão explorados. Na sequência, habilidades de leitura e interpretação textual serão trabalhadas, com o reconhecimento de como se utilizam determinados recursos linguisticos-estruturarais. | F22: mar/18 a jul/18 | G22: 20 | H22: Curso/Minicurso | I22: Linguagens e códigos | J22: Camila de Bona | K22: Novo Hamburgo | L22: Aprovado em 09/03/2018
A23: PJE2018 | B23: PEL | C23: 21 | D23: Cia. Cem Caras de Teatro - Oficina Permanente de Montagens | E23: Tem o objetivo de proporcionar aos alunos o encontro com as artes cênicas, contribuindo para o desenvolvimento social, intelectual e artístico, integrando como uma atividade complementar aos seu processo de ensino. | F23: abr/18 a mar/19 | G23: 360 | H23: Curso/Minicurso | I23: Linguagens e códigos | J23: Gladimir da Silva | K23: Pelotas | L23: Aprovado em 14/03/2018
A24: PJE2018 | B24: NHO | C24: 22 | D24: Clube de Xadrez | E24: Esta ação tem como meta contribuir com as atividades de desenvolvimento dos estudantes no que se refere às competências de raciocínio lógico e concentração. | F24: mar/18 a dez/18 | G24: 160 | H24: Outro: Clube | I24: Linguagens e códigos | J24: Fernanda Goldani | K24: Novo Hamburgo | L24: Aprovado em 14/03/2018
A25: PJE2018 | B25: CVG | C25: 23 | D25: VII Semana Acadêmica CST Gestão de Cooperativas | E25: A VII Semana Acadêmica do Curso Superior em Gestão de Cooperativas tem por objetivo trabalhar o conceito de Gestão de Pessoas dentro do cooperativismo e conhecimentos gerais, apresentar técnicas, conceitos e atividades relacionadas a temática. Fazer a integração dos alunos e o público em geral interessado promovendo o contato com o tema e o curso | F25: mar/18 a abr/18 | G25: 12 | H25: Outro: Semana Acadêmica | I25: Ciências Humanas | J25: Ivana Caldeira Siqueira | K25: Pelotas - Visconde da Graça (CaVG) | L25: Aprovado em 16/03/2018
A26: PJE2018 | B26: CVG | C26: 24 | D26: Semana Acadêmica do Curso Técnico de Meio Ambiente | E26: A Semana Acadêmica do Curso Técnico de Meio Ambiente tem como tema "Meio Ambiente e Sustentabilidade". O evento proporcionará aos alunos o contato com profissionais atuantes nas mais diversas áreas da Ciência e Tecnologia Ambiental, através das palestras, oficinas e mesa redonda, possibilitando debate sobre o tema escolhido. | F26: jul/17 a set/17 | G26: 30 | H26: Evento | I26: Ciências Humanas | J26: Maria de Fátima Magalhães Jorge | K26: Pelotas - Visconde da Graça (CaVG) | L26: Relatório final aprovado em 16/03/2018
A27: PJE2018 | B27: CVG | C27: 25 | D27: Monitoria destinada aos acadêmicos do CST em Agroindústria - 2018/1 | E27: O projeto visa dar continuidade ao auxilio aos estudantes do CST Agroindústria frente a conteúdos de disciplinas ofertadas pelo referido curso, contribuindo para uma melhor aprendizagem, diminuição da evasão e retenção, bem como possibilitar melhor compreensão e complementação de estudos. | F27: mar/18 a jul/18 | G27: 60 | H27: Outro: Monitoria | I27: Ciências da Natureza e Matemática | J27: Cristiane Brauer Zaicovski | K27: Pelotas - Visconde da Graça (CaVG) | L27: Aprovado em 26/03/2018
A28: PJE2018 | B28: SLO | C28: 26 | D28: Treinamento de Voleibol - formação de equipes representativas | E28: O projeto visa a prática/treinamento da modalidade voleibol, nos naipes masculino e feminino, com objetivo de formar equipes competitivas, representando o IFSul campis Santana do Livramento, na participação de competições escolares como JERGS, JIFIFSul e JIF. | F28: mar/18 a dez/18 | G28: 160 | H28: Outro: Atividade Esportiva | I28: Linguagens e códigos | J28: Paulo Jassin Gutiérrez | K28: Santana do Livramento | L28: Aprovado em 16/03/2018
A29: PJE2018 | B29: SSL | C29: 27 | D29: Clube de Xadrez | E29: O projeto prevê a retomada do habito do jogo nas dependências do instituto com horários semanais de treinamento com acesso às regras, estrutura de jogo e notação para os participantes e horários variados de prática com o oferecimento de tabuleiro e peças para os demais interessados. | F29: abr/18 a dez/18 | G29: 111 | H29: Outro: Oficina de ocorrência contínua | I29: Ciências da Natureza e Matemática | J29: Marcelio Adriano Diogo Mauricio dos Santos | K29: Sapucaia do Sul | L29: Aprovado em 21/03/2018
A30: PJE2018 | B30: CVG | C30: 28 | D30: Curta IFSUL - CAVG | E30: apresentação e debate sobre filmes curta-metragem e documentários com temáticas atuais e vinculadas às áreas das ciências humanas. O projeto visa ampliar discussões oriundas da as de aula, assim como, perceber e refletir sobre temas de interesse estudantil que não estejam comtemplados nos currículos das disciplinas | F30: mar/18 a nov/18 | G30: 150 | H30: Outro: Cine-debate | I30: Ciências Humanas | J30: Daiana Lopes Dias Rafael Peter de Lima Vinicius Pereira de Oliveira | K30: Pelotas - Visconde da Graça (CaVG) | L30: Aprovado em 26/03/2018
... A35: PJE2018 | B35: PEL | C35: 33 | D35: Avaliação automatizada de exercícios de programação | E35: O objetivo principal é integrar um motor de maratona de programação ao site das disciplinas de programação do curso de Eng. Elétrica. Os exercícios serão disponibilizados de forma progressiva, ao resolver corretamente um exercício, outro mais complexo é apresentado. | F35: fev/18 a dez/18 | G35: 240 | H35: Outro: Sistema informático | I35: Ciências da Natureza e Matemática | J35: André Pinto Geraldo | K35: Pelotas | L35: Aprovado em 21/03/2018
A36: PJE2018 | B36: PEL | C36: 34 | D36: Qualificação de equipe para projeto e construção de um mecanismo de robô Scara para uso em disciplinas de automação industrial e robótica | E36: O objetivo deste trabalho é a formação de equipe de alunos capazes de desenhar e produzir componentes e mecanismos de um robô Scara que apresente propriedades especificas, permitindo que outros robôs sejam produzidos e que os alunos dominem o desenho e a produção de peças. | F36: abr/18 a mai/18 | G36: =12*8 -> 96 | H36: Curso/Minicurso | I36: Ciências da Natureza e Matemática | J36: Cláudio Luis d'Elia Machado | K36: Pelotas | L36: Aprovado em 02/04/2018.
A37: PJE2018 | B37: PEL | C37: 35 | D37: Intercambio IFSul - Liceu Eugène Livet França | E37: Visa promover o intercâmbio com mobilidade de um estudante francês do Curso Técnico de Concepção e Industrialização Mecânica (CIM), do Liceu Eugène Livet (Nantes), para participar de projetos interdisciplinares no Lab 14 do Curso de Técnico de Eletrônica do campus Pelotas, bem como realizar estágio curricular na Empresa MESP Industria e Comércio de Máquinas Especiais Ltda., com duração prevista de sete semanas. | F37: fev/18 a set/18 | G37: 300 | H37: Outro: Intercambio internacional com mobilidade | I37: Linguagens e códigos | J37: Marco Antônio Simões de Souza | K37: Pelotas | L37: Aprovado em 02/04/2018.
A38: PJE2018 | B38: SSL | C38: 36 | D38: Dia Mundial da Água - 22 de Março 2018 | E38: O objetivo principal é criar um momento de reflexão, análise, conscientização e elaboração de medidas práticas para resolver tal problema. | F38: 43160 | G38: 5 | H38: Evento | I38: Ciências da Natureza e Matemática | J38: Maria Helena Polgati Moreira | K38: Sapucaia do Sul | L38: Aprovado em 02/04/2018.
A39: PJE2018 | B39: SSL | C39: 37 | D39: Intervenções no Dia da Água | E39: Do dia 15 a o dia 22 de março serão expostas algumas intervenções nos corredores e saguão do Campus que tem como temática principal a preservação dos mananciais aquíferos para as atuais e futuras gerações. | F39: 43160 | G39: 12 | H39: Evento | I39: Ciências da Natureza e Matemática | J39: Daniela Gervazoni Viana | K39: Sapucaia do Sul | L39: Relatório final aprovado em 16/04/2018.
A40: PJE2018 | B40: NHO | C40: 38 | D40: Roboburgo - Competição de Robótica do Campus Avançado Novo Hamburgo | E40: Realizar uma competição de robótica com várias categorias, realizada a partir de projetos desenvolvidos por estudantes do curso técnico subsequente de Mecatrônica, além da participação de escolas de ensino fundamental da região e campus convidados do IFSul. | F40: fev/18 a abr/18 | G40: 16 | H40: Evento | I40: Ciências da Natureza e Matemática | J40: Yuri das Neves Valadão | K40: Novo Hamburgo | L40: Aprovado em 02/04/2018.
A41: PJE2018 | B41: CVG | C41: 39 | D41: Curso de elaboração de slides para alunos ingressantes dos cursos superiores do CAVG | E41: Inicialmente pensado como auxiliar ou nivelamento para a disciplina de Seminários do CSTGA, o participante aprenderá a criar um novo documento, editar textos alterando tamanho, cor, efeitos especiais, assim como inserir imagens, fotos, tabelas, vídeos, cor de fundo do slide, dentre outras práticas importantes na elaboração de slides. | F41: abr/18 a jun/18 | G41: 12 | H41: Curso/Minicurso | I41: Linguagens e códigos | J41: Pablo Machado Mendes | K41: Pelotas - Visconde da Graça (CaVG) | L41: Aprovado em 29/03/2018.
A42: PJE2018 | B42: CVG | C42: 40 | D42: VI Semana Acadêmica do Curso Superior de Tecnologia em Agroindústria: "Métodos e Práticas: Conhecer e aplicar" | E42: O evento proporcionará aos alunos o contato com profissionais atuantes nas mais diversas áreas dentro do universo da Ciência e Tecnologia em Alimentos com a possibilidade de debate sobre o tema escolhido. | F42: nov/17 a mai/18 | G42: 20 | H42: Evento | I42: Ciências da Natureza e Matemática | J42: Ana Paula do Sacramento Wally | K42: Pelotas - Visconde da Graça (CaVG) | L42: Aprovado em 09/04/2018.
A43: PJE2018 | B43: LAJ | C43: 41 | D43: Desenvolvimento de páginas Web usando Angular | E43: Este projeto propõe o ensino de tecnologias de desenvolvimento de páginas Web para os alunos interessados do curso integrado em Automação Industrial. Através desde projeto os alunos serão capazes de se qualificar para trabalhar como bolsistas no projeto de pesquisa chamado: Um modelo de software como Serviço de Suporte a Ciência de Contexto. | F43: abr/18 a dez/18 | G43: 70 | H43: Curso/Minicurso | I43: Linguagens e códigos | J43: João Henrique da Rosa | K43: Lajeado | L43: Aprovado em 09/04/2018.
A44: PJE2018 | B44: LAJ | C44: 42 | D44: Geopolítica, Relações Internacionais e inserção estratégica | E44: O projeto tem como objetivo analisar e interpretar o desenvolvimento das politicas de estado e das estruturas do mercado; seus atores internacionais, conflitos e tendências na busca do fortalecimento do poder político e econômico Nacional. | F44: abr/18 a out/18 | H44: Curso/Minicurso | I44: Ciências Humanas | J44: Evandro Fernandes | K44: Lajeado | L44: Aprovado em 09/04/2018.
A45: PJE2018 | B45: SLO | C45: 43 | D45: Clube de Sobrevivencialismo | E45: O clube de sobrevivencialismo é um projeto que visa orientar e capacitar seu público alvo a se preparar para eventuais desajustes e emergencias em ordens sociais, politicas e/ou ambientais. | F45: abr/18 a dez/18 | G45: 152 | H45: Curso/Minicurso | I45: Ciências Humanas | J45: Alexandre Garcia Amaral | K45: Santana do Livramento | L45: Aprovado em 16/04/2018.
A46: PJE2018 | B46: SLO | C46: 44 | D46: Monitoria Acadêmica 2018 | E46: O projeto de monitoria visa o aprimoramento da qualidade de ensino das disciplinas envolvidas, por meio da relação de cooperação entre docente e monitor, sendo dessa forma uma experiência de grade valia para o aluno monitor.. | F46: Fev/18 a Dez/18 | G46: 240 | H46: Outro: Monitoria | J46: Alfredo Parteli Gomes Vera Lúcia Salim da Fonseca | K46: Santana do Livramento | L46: Aprovado em 24/04/2018.
A47: PJE2018 | B47: SSL | C47: 45 | D47: Introdução a pesquisa e oficina de normalização de trabalhos acadêmicos | E47: Capacitação da comunidade acadêmica na normatização de trabalhos acadêmicos à luz da Associação Brasileira de Normas Técnicas (ABNT) e da utilização de ferramentas de pesquisa como o uso de operadores booleanos, elementos de truncagem, gerenciador de referências e citação Zotero. | F47: 43221 | G47: 8 | H47: Curso/Minicurso | I47: Ciências Humanas | J47: Patricia Mousquer | K47: Sapucaia do Sul | L47: Aprovado em 24/04/2018.
A48: PJE2018 | B48: CVG | C48: 46 | D48: Futebol de campus - CAVG | E48: O projeto visa a pratica da modalidade futebol de campo, no naipe masculino, para o desenvolvimento nos âmbitos esportivo/social e nas concepções referentes a saúde. As atividades serão desenvolvidas através de reações de ensino/aprendizagem dentro do CAVG. As equipes poderão representar o IFSul - CAVG em competições escolares em nível regional, estadual e nacional. | F48: fev/18 a nov/18 | G48: 120 | H48: Outro: Atividade Esportiva | I48: Linguagens e códigos | J48: Fernando Jassin Gutiérrez | K48: Pelotas - Visconde da Graça (CaVG) | L48: Aprovado em 24/04/2018.
A49: PJE2018 | B49: PEL | C49: 47 | D49: Readequação dos espaços físicos dos cursos de Design do IFSul, Campus Pelotas | E49: Tem como objetivo o estudo dos espaços físicos dos cursos de Design para proposta de novos layouts que contemplem as atividades realizadas em cada ambiente, atendendo as necessidades dos estudantes e professores. | F49: abr/18 a mar/19 | G49: 4 | H49: Outro: Projeto | I49: Ciências Humanas | J49: Catiucia Klug Schneider | K49: Pelotas | L49: Aprovado em 24/04/2018.
A50: PJE2018 | B50: PEL | C50: 48 | D50: English for International events | E50: Oferecer aulas de língua inglesa com foco na participação em feiras internacionais. | F50: mar/18 a mai/18 | G50: 48 | H50: Curso/Minicurso | I50: Linguagens e códigos | J50: Lia Joan Nelson Pachalski | K50: Pelotas | L50: Aprovado em 24/04/2018.
A51: PJE2018 | B51: PEL | C51: 49 | D51: A QUIMICA DA ARTE - I Semana Academica da Engenharia Quimica, XI Semana Academica do Técnico em Quimica e I Semana do Programa de Pós-Graduação em Engenharia e Ciências Ambientais | E51: O evento se destina a proporcionar espaços de formação, integração e difusão de conhecimentos cientificos e tecnologicos aos estudantes dos cursos de nível médio, técnicom graduação e pós-graduação da área de quimica, extensivo aos professores e estudantes de ouitras instituições de ensino e aos pesquiisadores de empresa ligadas aos setores quimicos e ambientais, através de palestras, cirsos, ,esas redondas e exposições de empresas, trazendo uma visão de mercado de trabalho, nividades cientidicas das diversas áreas ligadas ao curso, em acordo às proposições do projeto pedagógico do curso. | F51: 43221 | G51: 40 | H51: Outro: Semana Acadêmica | I51: Ciências da Natureza e Matemática | J51: Jander Luis Fernades Monks | K51: Pelotas | L51: Aprovado em 02/05/2018.
A52: PJE2018 | B52: SSL | C52: 50 | D52: Argumentação e geopolítica | E52: A proposta é de um estudo preliminar de lógica e argumentação a fim de analisar textos de geopolítica, identificando a força da consistência dos argumentos expostos em tais textos. Os objetivos de estudo são a linguagem e o pensamento. | F52: abr/18 a nov/18 | G52: 6 | H52: Outro: Grupo de estudo | I52: Ciências Humanas | J52: Jean Leison Simão | K52: Sapucaia do Sul | L52: Aprovado em 24/04/2018.
A53: PJE2018 | B53: LAJ | C53: 51 | D53: Preparação para X Olimpíada Nacional de História do Brasil - IFSul/Lajeado | E53: O projeto de ensino é voltado aos estudantes do Curso Integrado de Automação Industrial que demonstram interesse em participar da X Olimpíada Nacional de História do Brasil promovido pela Universidade Estadual de Campinas (UNICAMP). Tem como finalidade preparar os estudantes para a competição através da abordagem de temas fundamentais da História do Brasil. | F53: mai/18 a set/18 | G53: 60 | H53: Curso/Minicurso | I53: Ciências Humanas | J53: Evandro Fernandes | K53: Lajeado | L53: Aprovado em 24/04/2018.
A54: PJE2018 | B54: PEL | C54: 52 | D54: A Geografia e o PAVE. | E54: O projeto intitulado A Geografia para o PAVE tem por objetivo contribuir para a preparação dos discentes quanto à prova do PAVE. A partir de uma série de exercícios com foco neste processo, os alunos farão um revisão dos conteúdos desenvolvidos em sala de aula e, assim, melhor preparados estarão para a realização da mesma. | F54: abr/18 a dez/18 | G54: 54 | H54: Outro: Resolução de exercícios | I54: Ciências Humanas | J54: Luiz Fernando Guimarães Rohnelt Jacqueline Marques Tavares | K54: Pelotas | L54: Aprovado em 24/04/2018.
A55: PJE2018 | B55: LAJ | C55: 53 | D55: Curso preparatório para Olimpíadas de Matemática | E55: O presente projeto de ensino se propõem a preparar estudantes do Curso Técnico em Automação Industrial - Forma Integrada, para participação em Olímpiadas de Matemática que acontecerão em 2018, tais como: Olimpíada Internacional da Matemática dos Institutos Federais - OMIF Internacional; 14ª Olimpíada Brasileira de Matemática das Escolas Públicas - 14ª OBMEP; 21ª Olimpíada Matemática da Univates - 21ª OMU. | F55: mai/18 a nov/18 | G55: 100 | H55: Curso/Minicurso | I55: Ciências da Natureza e Matemática | J55: Malcus Cassiano Kuhn Vagner Augusto Betti | K55: Lajeado | L55: Aprovado 16/04/2018.
A56: PJE2018 | B56: CVG | C56: 54 | D56: Francês Básico | E56: O projeto tem como proposta ofertar um Curso de Francês Língua Estrangeira (FLE), em nível básico, baseado nas quatro habilidades linguísticas - compreensão e produção oral e escrita aos alunos do Campus Pelotas - Visconde da Graça - CaVG. | F56: 43221 | G56: 8 | H56: Curso/Minicurso | I56: Linguagens e códigos | J56: Claudia Regina Minossi Rombaldi | K56: Pelotas - Visconde da Graça (CaVG) | L56: Aprovado em 24/04/2018.
A57: PJE2018 | B57: PEL | C57: 55 | D57: A arte de resinificar a obra de João Simões Lopes Neto com um novo olhar. | E57: O trabalho tem como proposta fazer com que os estudantes do terceiro semestre do Curso Técnico em comunicação Visual elaborarem escritas sobre a as crônicas de João Simões Lopes Neto para um jornal impresso a ser desenvolvido com o software de diagramação Scribus - ao mesmo tempo em que estes textos serão gravados no programa de edição de áudio Audacy, sendo publicados no blog a ser criado pela turma. O projeto será multidisciplinar, envolvendo as disciplinas de Desenho a Mão Livre II, História III e Língua Portuguesa e Literatura Brasileira III. | F57: mar/18 a abr/18 | G57: 40 | H57: Outro: Projeto | I57: Ciências Humanas | J57: Cristina Dutra e Dutra Nara Cristina Fernandes Almeida Antônio Gabriel Vergara | K57: Pelotas | L57: Aprovado em 02/05/2018.
A58: PJE2018 | B58: BGE | C58: 56 | D58: Projeto Interdisciplinar do IV Semestre do Curso Superior de Tecnologia em Análise e Desenvolvimento de Sistemas (TADS) | E58: O projeto propõem a adoção de metodologias estado da arte na gestão de projeto visando a concepção de artefatos de software alinhados às demandas da comunidade. Nessa proposta os alunos trabalham em equipes, onde cada equipe constrói o produto mais adequado para atender o maior numero de facetas do problema selecionado. Ao final, os produtos serão apresentados no pitch deck seguindo o modelo de startup à comunidade que pode investir nas soluções produzidas. O modelo de ensino aplicado é o Leaming by Doing que estimula os estudantes a aprender fazendo, numa abordagem construtivista. | F58: mar/18 a ago/18 | G58: 140 | H58: Outro: Projeto | I58: Linguagens e códigos | J58: Leandro da Silva Camargo | K58: Bagé | L58: Aprovado em 26/04/2018.
A59: PJE2018 | B59: SPR | C59: 57 | D59: Oficina de preparação Olimpíada de História | E59: O projeto consiste em atividades preparatórias para as equipes do campus inscritas na 9ª Olimpíada Nacional de História do Brasil, desenvolvendo uma percepção mais sintonizada com a método de formulação das provas e tarefas da INHB. | F59: abr/18 a mai/18 | G59: 20 | H59: Curso/Minicurso | I59: Ciências Humanas | J59: Carla Menegat | K59: Sapiranga | L59: Aprovado em 26/04/2018.
A60: PJE2018 | B60: VAS | C60: 58 | D60: Oficinas de música III: aprofundamento das aprendizagens através da prática de instrumentos musicais. | E60: O projeto visa aprofundar o estudo da música através dos seguintes instrumentos musicais: violão, flauta transversal, clarinete, trompete, trombone e saxofone. AS aulas são ministradas em pequenos grupos e ocorrem semanalmente no campus. Estão previstas diversas apresentações musicais dos discentes, para exercitarem e socializarem seus aprendizados. | F60: mai/18 a abr/19 | G60: 280 | H60: Curso/Minicurso | I60: Linguagens e códigos | J60: Vanilda Lidia Ferreira de Macedo | K60: Venâncio Aires | L60: Aprovado em 26/04/2018.
A61: PJE2018 | B61: SPR | C61: 59 | D61: Um olhar para i amanhã - preparatório de Química para ENEM | E61: Retomar com os estudantes conceitos fundamentais de química, focando nas competências cobradas no ENEM e nos conteúdos mais pedidos nas últimas edições dessa avaliação. | F61: mar/18 a nov/18 | G61: 4 | H61: Curso/Minicurso | I61: Ciências da Natureza e Matemática | J61: Paula Nunes | K61: Sapiranga | L61: Aprovado em 26/04/2018.
A62: PJE2018 | B62: SPR | C62: 60 | D62: BIO Websérie | E62: Utilizando-se o software MediBang Paint Pro, a estudante do Curso Técnico Integrado em Informática, Eduarda Sorvete, produzirá vídeos lúdicos e informativos sobre temas relacionados a Biologia, ao longo de cada episódio, haverá a explicação de um determinado conteúdo. | F62: mai/18 a dez/18 | G62: 130 | H62: Outro: Produção de vídeo | I62: Ciências da Natureza e Matemática | J62: Anelise Volkweiss | K62: Sapiranga | L62: Aprovado em 27/04/2018.
A63: PJE2018 | B63: SPR | C63: 61 | D63: Leituras feministas na educação tecnológica | E63: Tal projeto visa fazer leituras de múltiplas mídias de questões femininas e feministas, instrumentalizando as(os) nossas(os) estudantes sobre as politicas públicas a respeito da igualdade de gênero, problematizando questões de gênero naturalizadas e visibilizando produções de saberes produzidos por mulheres. | F63: abr/18 a nov/18 | G63: 4 | H63: Curso/Minicurso | I63: Ciências Humanas | J63: Paula Nunes Carla Menegat | K63: Sapiranga | L63: Aprovado em 26/07/2018.
A64: PJE2018 | B64: SSL | C64: 62 | D64: Pequenas atitudes para fazer um mundo mais saudável | E64: O projeto visa oferecer momentos de repensar algumas atitudes do dia-a-dia para que estas possam ser mais ambientalmente sustentáveis. Para isso, haverá atividades de oficinas e rodas de conversa sobre temas de cunho ambiental. | F64: abr/18 a mai/18 | G64: 8 | H64: Evento | I64: Ciências da Natureza e Matemática | J64: Denise Gervazoni Viana | K64: Sapucaia do Sul | L64: Aprovado em 06/05/2018.
A65: PJE2018 | B65: VAS | C65: 63 | D65: Língua Espanhola: uma forma divertida e autônoma de aprender e ensinar | E65: O curso de espanhol proposto neste projeto pretende orientar os alunos a aprender a língua de forma autônoma, segundo seus interesses, a partir de materiais, pesquisas, jogos, músicas, leituras e outros recursos da língua para que futuramente possa ser replicadores entre outros estudantes interessados em aprender a língua e cultura espanhola. | F65: mai/18 a nov/18 | G65: 69 | H65: Curso/Minicurso | I65: Linguagens e códigos | J65: Laura Verônica Rodríguez Imbriaco | K65: Venâncio Aires | L65: Aprovado em 03/05/2018.
A66: PJE2018 | B66: CHA | C66: 64 | D66: Treinamento Handebol 2018 | E66: O projeto acontecerá durante o ano letivo, com o objetivo de capacitar equipes de handebol, nos naipes feminino e masculino, a fim de estimular as mesmas na participação de competições esportivas como JERGS, JIIFSul e JIF e a manter uma experiência corporal que contribua para o desenvolvimento integral, psicomotor e social do participante. | F66: abr/18 a dez/18 | G66: 110 | H66: Curso/Minicurso | I66: Linguagens e códigos | J66: Louize Pagel Leitzke | K66: Charqueadas | L66: Aprovado em 03/05/2018.
A67: PJE2018 | B67: CHA | C67: 65 | D67: Treinamento Futsal 2018 | E67: O projeto acontecerá durante o ano letivo, com o objetivo de capacitar equipes de futsal, nos naipes feminino e masculino, a fim de estimular as mesmas na participação de competições esportivas como JERGS, OLIMPESC, JIIFSul e JIF e a manter uma experiência corporal que contribua para o desenvolvimento integral, psicomotor e social do participante. | F67: abr/18 a dez/18 | G67: 90 | H67: Curso/Minicurso | I67: Linguagens e códigos | J67: Louize Pagel Leitzke | K67: Charqueadas | L67: Aprovado em 03/05/2018.
A68: PJE2018 | B68: PFU | C68: 66 | D68: Desenvolvimento de sistemas com a plataforma Java EE | E68: O projeto trata da elaboração de um livro sobre o Desenvolvimento de sistemas com a plataforma Java EE, utilizando um estudo de caso para aplicação dos conceitos. | F68: mai/18 a abr/19 | G68: 240 | H68: Outro: Produção de material didático | I68: Linguagens e códigos | J68: Jorge Luis Boeira Bavaresco | K68: Passo Fundo | L68: Aprovado em 03/05/2018.
A69: PJE2018 | B69: CHA | C69: 67 | D69: Palestra "Internet of Things Security and Networking Standards: a Smart Match" | E69: O objetivo desse projeto é mostrar as tendências de mercado de trabalho e áreas de pesquisa ligadas ao tema Internet das Coisas para discentes e docentes dos cursos de Engenharia de Controle e Automação e Tecnólogo em Sistemas para Internet. | F69: 43221 | G69: 2 | H69: Palestra | I69: Linguagens e códigos | J69: Caroline Inês Lisevski | K69: Charqueadas | L69: Aprovado em 03/05/2018.
A70: PJE2018 | B70: BGE | C70: 68 | D70: Programa de Monitoria - IFSul/câmpus Bagé | E70: O programa de monitoria do IFSul/Câmpus Bagé busca metas de redução dos [índices de evasão e retenção constantes do PDI (2014/2019), em seus objetivos associados à excelência acadêmica, bem como nas políticas de atendimento ao discente. | F70: mai/18 a set/18 | G70: 160 | H70: Outro: Monitoria | I70: Outros | J70: Giulia D'Ávila Vieira Anelise Ramires Meneses | K70: Bagé | L70: Aprovado em 26/04/2018.
A71: PJE2018 | B71: CHA | C71: 69 | D71: Treinamento da equipe de Atletismo 2018 | E71: O projeto acontecerá durante o ano letivo, com o objetivo de capacitar a equipe esportiva, na modalidade de Atletismo, estimulando-os na participação de competições esportivas como JERGS e JIF e a manter uma experiência corporal que contribua para o desenvolvimento integral, mudando seu perfil corporal e na busca por uma qualidade de vida. | F71: abr/18 a dez/18 | G71: 64 | H71: Curso/Minicurso | I71: Linguagens e códigos | J71: Sandro Luiz Moraes de Barros | K71: Charqueadas | L71: Aprovado em 03/05/2018.
A72: PJE2018 | B72: CHA | C72: 70 | D72: Treinamento das equipes de Voleibol 2018 | E72: O projeto acontecerá durante o ano letivo, com o objetivo de capacitar a equipe esportiva, na modalidade de Voleibol, estimulando-os na participação de competições esportivas como JERGS e JIF e a manter uma experiência corporal que contribua para o desenvolvimento integral, mudando seu perfil corporal e na busca por uma qualidade de vida. | F72: abr/18 a dez/18 | G72: 128 | H72: Curso/Minicurso | I72: Linguagens e códigos | J72: Sandro Luiz Moraes de Barros | K72: Charqueadas | L72: Aprovado em 03/05/2018.
A73: - | B73: - | C73: - | D73: - | E73: - | F73: - | G73: - | H73: - | I73: - | J73: - | K73: - | L73: - | M73: -

Sheet Tabelas
B2: Código dos Câmpus | D2: =SUM(D3:D16) -> 70 | E2: Áreas do Conhecimento | K2: Classificação
B3: Bagé | C3: BGE | D3: =COUNTIF(Projetos!B$2:B$73,Tabelas!C3) -> 3 | E3: Área | F3: Linguagens e códigos | G3: Ciências da Natureza e Matemática | H3: Ciências Humanas | I3: Outros | K3: Curso/Minicurso
B4: Camaquã | C4: CMQ | D4: =COUNTIF(Projetos!B$2:B$73,Tabelas!C4) -> 1 | E4: Disciplina | F4: Língua Portuguesa | G4: Biologia | H4: História | K4: Palestra
B5: Charqueadas | C5: CHA | D5: =COUNTIF(Projetos!B$2:B$73,Tabelas!C5) -> 7 | F5: Língua Estrangeira | G5: Química | H5: Geografia | K5: Evento
B6: Gravataí | C6: GRI | D6: =COUNTIF(Projetos!B$2:B$73,Tabelas!C6) -> 0 | F6: Educação Física | G6: Física | H6: Sociologia, Antropologia e Política | K6: Outro:
B7: Jaguarão | C7: JGO | D7: =COUNTIF(Projetos!B$2:B$73,Tabelas!C7) -> 0 | F7: Arte | G7: Matemática | H7: Filosofia | K7: Outro: Atividade Esportiva
B8: Lajeado | C8: LAJ | D8: =COUNTIF(Projetos!B$2:B$73,Tabelas!C8) -> 4 | F8: Informática | K8: Outro: Cine-debate
B9: Novo Hamburgo | C9: NHO | D9: =COUNTIF(Projetos!B$2:B$73,Tabelas!C9) -> 6 | K9: Outro: Clube
B10: Passo Fundo | C10: PFU | D10: =COUNTIF(Projetos!B$2:B$73,Tabelas!C10) -> 1 | K10: Outro: Grupo de estudo
B11: Pelotas | C11: PEL | D11: =COUNTIF(Projetos!B$2:B$73,Tabelas!C11) -> 18 | K11: Outro: Intercambio internacional com mobilidade
B12: Pelotas - Visconde da Graça (CaVG) | C12: CVG | D12: =COUNTIF(Projetos!B$2:B$73,Tabelas!C12) -> 14 | K12: Outro: Monitoria
B13: Santana do Livramento | C13: SLO | D13: =COUNTIF(Projetos!B$2:B$73,Tabelas!C13) -> 3 | K13: Outro: Oficina de ocorrência contínua
B14: Sapiranga | C14: SPR | D14: =COUNTIF(Projetos!B$2:B$73,Tabelas!C14) -> 5 | K14: Outro: Produção de material didático
B15: Sapucaia do Sul | C15: SSL | D15: =COUNTIF(Projetos!B$2:B$73,Tabelas!C15) -> 6 | K15: Outro: Produção de vídeo
B16: Venâncio Aires | C16: VAS | D16: =COUNTIF(Projetos!B$2:B$73,Tabelas!C16) -> 2 | K16: Outro: Projeto
K17: Outro: Resolução de exercícios
K18: Outro: Semana Acadêmica
K19: Outro: Sistema informático
