Workbook

Sheet Resumo
A1: Psicopedagogo - Regime de Tributação: Lucro Real
A2: ANEXO ---- do Pregão IFSul nº XX/2022 – Câmpus XXXXX PLANILHA DE CUSTOS E FORMAÇÃO DE PREÇOS
A3: Nº do processo: | H3: XXXX
A4: Licitação nº:
A5: Dia:
A6: DISCRIMINAÇÃO DOS SERVIÇOS (DADOS REFERENTES À CONTRATAÇÃO)
A7: A | B7: Data de apresentação da proposta (dia/mês/ano)
A8: B | B8: Município/UF | H8: Pelotas/RS
A9: C | B9: Ano do Acordo, Convenção ou Dissídio Coletivo | H9: SECRASO/RS - RS001505/2021
A10: D | B10: Número de meses de execução contratual | H10: 12
A11: RESUMO DA COMPOSIÇÃO DE PREÇOS ESTIMADO DA CONTRATAÇÃO
A13: CÂMPUS | B13: DESCRIÇÃO DO ITEM DE SERVIÇO | C13: UNIDADE DE MEDIDA | D13: QUANTIDADE DE POSTOS DE TRABALHO | E13: QUANTIDADE A SER REGISTRADA (12 MESES) | F13: VALOR MENSAL DO SERVIÇO (R$) | G13: VALOR TOTAL POR ITEM (R$) | H13: VALOR TOTAL DA CONTRATAÇÃO (R$)
A14: Reitoria | B14: Psicopedagogo | C14: Posto/ Mês | D14: ='Psicopedagogo- Reitoria'!I154 -> 1 | E14: =D14*12 -> 12 | F14: ='Psicopedagogo- Reitoria'!J145 -> 8466.34 | G14: =F14*E14 -> 101596.08 | H14: =SUM(G14:G28) -> 2964329.5
A15: Câmpus Pelotas | C15: Posto/ Mês | D15: ='Psicopedagogo - Pelotas'!I154 -> 3 | E15: =D15*12 -> 36 | F15: ='Psicopedagogo - Pelotas'!J145 -> 8466.34 | G15: =F15*E15 -> 304788.24
A16: Câmpus Pelotas-Visconde da Graça | C16: Posto/ Mês | D16: ='Psicopedagogo - CAVG'!I154 -> 3 | E16: =D16*12 -> 36 | F16: ='Psicopedagogo - CAVG'!J145 -> 8466.34 | G16: =F16*E16 -> 304788.24
A17: Câmpus Bagé | C17: Posto/ Mês | D17: ='Psicopedagogo - Bagé'!I154 -> 1 | E17: =D17*12 -> 12 | F17: ='Psicopedagogo - Bagé'!J145 -> 8466.34 | G17: =F17*E17 -> 101596.08
A18: Câmpus Camaquã | C18: Posto/ Mês | D18: ='Psicopedagogo - Camaquã'!I154 -> 1 | E18: =D18*12 -> 12 | F18: ='Psicopedagogo - Camaquã'!J145 -> 8514.32 | G18: =F18*E18 -> 102171.84
A19: Câmpus Charqueadas | C19: Posto/ Mês | D19: ='Psicopedagogo - Charqueadas'!I154 -> 2 | E19: =D19*12 -> 24 | F19: ='Psicopedagogo - Charqueadas'!J145 -> 8661.54 | G19: =F19*E19 -> 207876.96
A20: Câmpus Gravataí | C20: Posto/ Mês | D20: ='Psicopedagogo - Gravataí'!I154 -> 2 | E20: =D20*12 -> 24 | F20: ='Psicopedagogo - Gravataí'!J145 -> 8611.9 | G20: =F20*E20 -> 206685.6
A21: Câmpus Avançado Jaguarão | C21: Posto/ Mês | D21: ='Psicopedagogo - Jaguarão'!I154 -> 1 | E21: =D21*12 -> 12 | F21: ='Psicopedagogo - Jaguarão'!J145 -> 8562.82 | G21: =F21*E21 -> 102753.84
A22: Câmpus Lajeado | C22: Posto/ Mês | D22: ='Psicopedagogo - Lajeado'!I154 -> 1 | E22: =D22*12 -> 12 | F22: ='Psicopedagogo - Lajeado'!J145 -> 8514.32 | G22: =F22*E22 -> 102171.84
A23: Câmpus Avançado Novo Hamburgo | C23: Posto/ Mês | D23: ='Psicopedagogo - Novo Hamburgo'!I154 -> 1 | E23: =D23*12 -> 12 | F23: ='Psicopedagogo - Novo Hamburgo'!J145 -> 8466.34 | G23: =F23*E23 -> 101596.08
A24: Câmpus Passo Fundo | C24: Posto/ Mês | D24: ='Psicopedagogo - Passo Fundo'!I154 -> 2 | E24: =D24*12 -> 24 | F24: ='Psicopedagogo - Passo Fundo'!J145 -> 8466.34 | G24: =F24*E24 -> 203192.16
A25: Câmpus Santana do Livramento | C25: Posto/ Mês | D25: ='Psicopedagogo - Santana'!I154 -> 1 | E25: =D25*12 -> 12 | F25: ='Psicopedagogo - Santana'!J145 -> 8562.82 | G25: =F25*E25 -> 102753.84
A26: Câmpus Sapiranga | C26: Posto/ Mês | D26: ='Psicopedagogo - Sapiranga'!I154 -> 6 | E26: =D26*12 -> 72 | F26: ='Psicopedagogo - Sapiranga'!J145 -> 8466.34 | G26: =F26*E26 -> 609576.48
A27: Câmpus Sapucaia do Sul | C27: Posto/ Mês | D27: ='Psicopedagogo - Sapucaia'!I154 -> 3 | E27: =D27*12 -> 36 | F27: ='Psicopedagogo - Sapucaia'!J145 -> 8611.9 | G27: =F27*E27 -> 310028.4
A28: Câmpus Venâncio Aires | C28: Posto/ Mês | D28: ='Psicopedagogo - Venâncio'!I154 -> 1 | E28: =D28*12 -> 12 | F28: ='Psicopedagogo - Venâncio'!J145 -> 8562.82 | G28: =F28*E28 -> 102753.84
A30: QUANTIDADE DE PESSOAL ALOCADO NA EXECUÇÃO CONTRATUAL (item 6.2.e do Anexo VII da IN nº 5/2017
A31: Tipo de Mão de Obra | H31: Quantidade de Pessoal
A32: Psicopedagogo | H32: =SUM(D14:D28) -> 29

Sheet Psicopedagogo- Reitoria
A1: Psicopedagogo - Regime de Tributação: Lucro Real
A2: ANEXO ---- do Pregão IFSul nº XX/2022 – Câmpus XXXXX PLANILHA DE CUSTOS E FORMAÇÃO DE PREÇOS
A3: Nº do processo: | H3: XXXX
A4: Licitação nº:
A5: Dia:
A6: DISCRIMINAÇÃO DOS SERVIÇOS (DADOS REFERENTES À CONTRATAÇÃO)
A7: A | B7: Data de apresentação da proposta (dia/mês/ano)
A8: B | B8: Município/UF | H8: Pelotas/RS
A9: C | B9: Ano do Acordo, Convenção ou Dissídio Coletivo | H9: SECRASO/RS - RS001505/2021
A10: D | B10: Número de meses de execução contratual | H10: 12
A11: IDENTIFICAÇÃO DO SERVIÇO
A12: 1. MÓDULOS Mão de obra Mão de obra vinculada à execução contratual
A15: Dados para composição dos custos referente à mão de obra
A16: 1 | B16: Tipo de Serviço (mesmo serviço com características distintas) | H16: Psicopedagogo
A17: 2 | B17: Classificação Brasileira de Ocupações (CBO) | H17: 2394-25
A18: 3 | B18: Salário Normativo da Categoria Profissional - para a jornada de 44 h/sem | H18: 4128.02
A19: 4 | B19: Categoria Profissional (vinculada à execução contratual) | H19: Psicopedagogo
A20: 5 | B20: Data-Base da Categoria (dia/mês/ano) | H20: 44287
A22: Módulo 1: Composição da Remuneração
A23: 1 | B23: Composição da Remuneração | H23: Percentual (R$) | J23: Valor (R$)
A24: A | B24: Salário-Base (valor para somente 1 Psicopedagogo (a) - 40h/semanais) | J24: 3752.75
A25: B | B25: Adicional de Insalubridade (cláusula 20 da CCT/2021) | J25: =ROUND(I25*H18,2) -> 0
A26: Total | J26: =SUM(J24:J25) -> 3752.75
A28: Módulo 2 – Encargos e Benefícios Anuais, Mensais e Diários
A29: Submódulo 2.1 – 13º (décimo terceiro) Salário e Adicional de Férias
A30: 2.1 | B30: 13º (décimo terceiro) Salário e Adicional de Férias | J30: Valor (R$)
A31: A | B31: 13º (décimo terceiro) Salário Obrigatória a cotação de 8,33% sobre o valor do Módulo 1 – Composição da Remuneração, conforme Anexo XII da IN 5/17 | I31: 0.0833 | J31: =ROUND($J$26*I31,2) -> 312.6
A32: B | B32: Adicional de Férias Obrigatória a cotação de 3,025% sobre o valor do Módulo 1 – Composição da Remuneração, conforme Anexo XII da IN 5/17 (Férias + Adicional = 9,075% + 3,025% = 12,10%) | I32: 0.03025 | J32: =ROUND($J$26*I32,2) -> 113.52
A33: Total | J33: =SUM(J31+J32) -> 426.12
A34: C | B34: Incidência dos encargos do Submódulo 2.2 sobre o total do Submódulo 2.1 | J34: =ROUND(I47*J33,2) -> 156.81
A35: Total | J35: =J33+J34 -> 582.93
A37: Submódulo 2.2 - Encargos Previdenciários (GPS), Fundo de Garantia por Tempo de Serviço (FGTS) e outras contribuições
A38: 2.2 | B38: GPS, FGTS e outras contribuições | I38: Percentual (%) | J38: Valor (R$)
A39: A | B39: INSS | I39: 0.2 | J39: =ROUND($J$26*I39,2) -> 750.55
A40: B | B40: Salário Educação | I40: 0.025 | J40: =ROUND($J$26*I40,2) -> 93.82
A41: C | B41: RAT x FAP | E41: RAT = | F41: 0.03 | G41: FAP = | H41: 1 | I41: =ROUND((F41*H41),6) -> 0.03 | J41: =ROUND($J$26*I41,2) -> 112.58
A42: D | B42: SESC ou SESI | I42: 0.015 | J42: =ROUND($J$26*I42,2) -> 56.29
A43: E | B43: SENAC ou SENAI | I43: 0.01 | J43: =ROUND($J$26*I43,2) -> 37.53
A44: F | B44: SEBRAE | I44: 0.006 | J44: =ROUND($J$26*I44,2) -> 22.52
A45: G | B45: INCRA | I45: 0.002 | J45: =ROUND($J$26*I45,2) -> 7.51
...

Sheet Psicopedagogo - Pelotas
A1: Psicopedagogo - Regime de Tributação: Lucro Real
A2: ANEXO ---- do Pregão IFSul nº XX/2022 – Câmpus XXXXX PLANILHA DE CUSTOS E FORMAÇÃO DE PREÇOS
A3: Nº do processo: | H3: XXXX
A4: Licitação nº:
A5: Dia:
A6: DISCRIMINAÇÃO DOS SERVIÇOS (DADOS REFERENTES À CONTRATAÇÃO)
A7: A | B7: Data de apresentação da proposta (dia/mês/ano)
A8: B | B8: Município/UF | H8: Pelotas/RS
A9: C | B9: Ano do Acordo, Convenção ou Dissídio Coletivo | H9: SECRASO/RS - RS001505/2021
A10: D | B10: Número de meses de execução contratual | H10: 12
A11: IDENTIFICAÇÃO DO SERVIÇO
A12: 1. MÓDULOS Mão de obra Mão de obra vinculada à execução contratual
A15: Dados para composição dos custos referente à mão de obra
A16: 1 | B16: Tipo de Serviço (mesmo serviço com características distintas) | H16: Psicopedagogo
A17: 2 | B17: Classificação Brasileira de Ocupações (CBO) | H17: 2394-25
A18: 3 | B18: Salário Normativo da Categoria Profissional - para a jornada de 44 h/sem | H18: 4128.02
A19: 4 | B19: Categoria Profissional (vinculada à execução contratual) | H19: Psicopedagogo
A20: 5 | B20: Data-Base da Categoria (dia/mês/ano) | H20: 44287
A22: Módulo 1: Composição da Remuneração
A23: 1 | B23: Composição da Remuneração | H23: Percentual (R$) | J23: Valor (R$)
A24: A | B24: Salário-Base (valor para somente 1 Psicopedagogo (a) - 40h/semanais) | J24: 3752.75
A25: B | B25: Adicional de Insalubridade (cláusula 20 da CCT/2021) | J25: =ROUND(I25*H18,2) -> 0
A26: Total | J26: =SUM(J24:J25) -> 3752.75
A28: Módulo 2 – Encargos e Benefícios Anuais, Mensais e Diários
A29: Submódulo 2.1 – 13º (décimo terceiro) Salário e Adicional de Férias
A30: 2.1 | B30: 13º (décimo terceiro) Salário e Adicional de Férias | J30: Valor (R$)
A31: A | B31: 13º (décimo terceiro) Salário Obrigatória a cotação de 8,33% sobre o valor do Módulo 1 – Composição da Remuneração, conforme Anexo XII da IN 5/17 | I31: 0.0833 | J31: =ROUND($J$26*I31,2) -> 312.6
A32: B | B32: Adicional de Férias Obrigatória a cotação de 3,025% sobre o valor do Módulo 1 – Composição da Remuneração, conforme Anexo XII da IN 5/17 (Férias + Adicional = 9,075% + 3,025% = 12,10%) | I32: 0.03025 | J32: =ROUND($J$26*I32,2) -> 113.52
A33: Total | J33: =SUM(J31+J32) -> 426.12
A34: C | B34: Incidência dos encargos do Submódulo 2.2 sobre o total do Submódulo 2.1 | J34: =ROUND(I47*J33,2) -> 156.81
A35: Total | J35: =J33+J34 -> 582.93
A37: Submódulo 2.2 - Encargos Previdenciários (GPS), Fundo de Garantia por Tempo de Serviço (FGTS) e outras contribuições
A38: 2.2 | B38: GPS, FGTS e outras contribuições | I38: Percentual (%) | J38: Valor (R$)
A39: A | B39: INSS | I39: 0.2 | J39: =ROUND($J$26*I39,2) -> 750.55
A40: B | B40: Salário Educação | I40: 0.025 | J40: =ROUND($J$26*I40,2) -> 93.82
A41: C | B41: RAT x FAP | E41: RAT = | F41: 0.03 | G41: FAP = | H41: 1 | I41: =ROUND((F41*H41),6) -> 0.03 | J41: =ROUND($J$26*I41,2) -> 112.58
A42: D | B42: SESC ou SESI | I42: 0.015 | J42: =ROUND($J$26*I42,2) -> 56.29
A43: E | B43: SENAC ou SENAI | I43: 0.01 | J43: =ROUND($J$26*I43,2) -> 37.53
A44: F | B44: SEBRAE | I44: 0.006 | J44: =ROUND($J$26*I44,2) -> 22.52
A45: G | B45: INCRA | I45: 0.002 | J45: =ROUND($J$26*I45,2) -> 7.51
...

Sheet Psicopedagogo - CAVG
A1: Psicopedagogo - Regime de Tributação: Lucro Real
A2: ANEXO ---- do Pregão IFSul nº XX/2022 – Câmpus XXXXX PLANILHA DE CUSTOS E FORMAÇÃO DE PREÇOS
A3: Nº do processo: | H3: XXXX
A4: Licitação nº:
A5: Dia:
A6: DISCRIMINAÇÃO DOS SERVIÇOS (DADOS REFERENTES À CONTRATAÇÃO)
A7: A | B7: Data de apresentação da proposta (dia/mês/ano)
A8: B | B8: Município/UF | H8: Pelotas/RS
A9: C | B9: Ano do Acordo, Convenção ou Dissídio Coletivo | H9: SECRASO/RS - RS001505/2021
A10: D | B10: Número de meses de execução contratual | H10: 12
A11: IDENTIFICAÇÃO DO SERVIÇO
A12: 1. MÓDULOS Mão de obra Mão de obra vinculada à execução contratual
A15: Dados para composição dos custos referente à mão de obra
A16: 1 | B16: Tipo de Serviço (mesmo serviço com características distintas) | H16: Psicopedagogo
A17: 2 | B17: Classificação Brasileira de Ocupações (CBO) | H17: 2394-25
A18: 3 | B18: Salário Normativo da Categoria Profissional - para a jornada de 44 h/sem | H18: 4128.02
A19: 4 | B19: Categoria Profissional (vinculada à execução contratual) | H19: Psicopedagogo
A20: 5 | B20: Data-Base da Categoria (dia/mês/ano) | H20: 44287
A22: Módulo 1: Composição da Remuneração
A23: 1 | B23: Composição da Remuneração | H23: Percentual (R$) | J23: Valor (R$)
A24: A | B24: Salário-Base (valor para somente 1 Psicopedagogo (a) - 40h/semanais) | J24: 3752.75
A25: B | B25: Adicional de Insalubridade (cláusula 20 da CCT/2021) | J25: =ROUND(I25*H18,2) -> 0
A26: Total | J26: =SUM(J24:J25) -> 3752.75
A28: Módulo 2 – Encargos e Benefícios Anuais, Mensais e Diários
A29: Submódulo 2.1 – 13º (décimo terceiro) Salário e Adicional de Férias
A30: 2.1 | B30: 13º (décimo terceiro) Salário e Adicional de Férias | J30: Valor (R$)
A31: A | B31: 13º (décimo terceiro) Salário Obrigatória a cotação de 8,33% sobre o valor do Módulo 1 – Composição da Remuneração, conforme Anexo XII da IN 5/17 | I31: 0.0833 | J31: =ROUND($J$26*I31,2) -> 312.6
A32: B | B32: Adicional de Férias Obrigatória a cotação de 3,025% sobre o valor do Módulo 1 – Composição da Remuneração, conforme Anexo XII da IN 5/17 (Férias + Adicional = 9,075% + 3,025% = 12,10%) | I32: 0.03025 | J32: =ROUND($J$26*I32,2) -> 113.52
A33: Total | J33: =SUM(J31+J32) -> 426.12
A34: C | B34: Incidência dos encargos do Submódulo 2.2 sobre o total do Submódulo 2.1 | J34: =ROUND(I47*J33,2) -> 156.81
A35: Total | J35: =J33+J34 -> 582.93
A37: Submódulo 2.2 - Encargos Previdenciários (GPS), Fundo de Garantia por Tempo de Serviço (FGTS) e outras contribuições
A38: 2.2 | B38: GPS, FGTS e outras contribuições | I38: Percentual (%) | J38: Valor (R$)
A39: A | B39: INSS | I39: 0.2 | J39: =ROUND($J$26*I39,2) -> 750.55
A40: B | B40: Salário Educação | I40: 0.025 | J40: =ROUND($J$26*I40,2) -> 93.82
A41: C | B41: RAT x FAP | E41: RAT = | F41: 0.03 | G41: FAP = | H41: 1 | I41: =ROUND((F41*H41),6) -> 0.03 | J41: =ROUND($J$26*I41,2) -> 112.58
A42: D | B42: SESC ou SESI | I42: 0.015 | J42: =ROUND($J$26*I42,2) -> 56.29
A43: E | B43: SENAC ou SENAI | I43: 0.01 | J43: =ROUND($J$26*I43,2) -> 37.53
A44: F | B44: SEBRAE | I44: 0.006 | J44: =ROUND($J$26*I44,2) -> 22.52
A45: G | B45: INCRA | I45: 0.002 | J45: =ROUND($J$26*I45,2) -> 7.51
...

Sheet Psicopedagogo - Bagé
A1: Psicopedagogo - Regime de Tributação: Lucro Real
A2: ANEXO ---- do Pregão IFSul nº XX/2022 – Câmpus XXXXX PLANILHA DE CUSTOS E FORMAÇÃO DE PREÇOS
A3: Nº do processo: | H3: XXXX
A4: Licitação nº:
A5: Dia:
A6: DISCRIMINAÇÃO DOS SERVIÇOS (DADOS REFERENTES À CONTRATAÇÃO)
A7: A | B7: Data de apresentação da proposta (dia/mês/ano)
A8: B | B8: Município/UF | H8: Bagé/RS
A9: C | B9: Ano do Acordo, Convenção ou Dissídio Coletivo | H9: SECRASO/RS - RS001505/2021
A10: D | B10: Número de meses de execução contratual | H10: 12
A11: IDENTIFICAÇÃO DO SERVIÇO
A12: 1. MÓDULOS Mão de obra Mão de obra vinculada à execução contratual
A15: Dados para composição dos custos referente à mão de obra
A16: 1 | B16: Tipo de Serviço (mesmo serviço com características distintas) | H16: Psicopedagogo
A17: 2 | B17: Classificação Brasileira de Ocupações (CBO) | H17: 2394-25
A18: 3 | B18: Salário Normativo da Categoria Profissional - para a jornada de 44 h/sem | H18: 4128.02
A19: 4 | B19: Categoria Profissional (vinculada à execução contratual) | H19: Psicopedagogo
A20: 5 | B20: Data-Base da Categoria (dia/mês/ano) | H20: 44287
A22: Módulo 1: Composição da Remuneração
A23: 1 | B23: Composição da Remuneração | H23: Percentual (R$) | J23: Valor (R$)
A24: A | B24: Salário-Base (valor para somente 1 Psicopedagogo (a) - 40h/semanais) | J24: 3752.75
A25: B | B25: Adicional de Insalubridade (cláusula 20 da CCT/2021) | J25: =ROUND(I25*H18,2) -> 0
A26: Total | J26: =SUM(J24:J25) -> 3752.75
A28: Módulo 2 – Encargos e Benefícios Anuais, Mensais e Diários
A29: Submódulo 2.1 – 13º (décimo terceiro) Salário e Adicional de Férias
A30: 2.1 | B30: 13º (décimo terceiro) Salário e Adicional de Férias | J30: Valor (R$)
A31: A | B31: 13º (décimo terceiro) Salário Obrigatória a cotação de 8,33% sobre o valor do Módulo 1 – Composição da Remuneração, conforme Anexo XII da IN 5/17 | I31: 0.0833 | J31: =ROUND($J$26*I31,2) -> 312.6
A32: B | B32: Adicional de Férias Obrigatória a cotação de 3,025% sobre o valor do Módulo 1 – Composição da Remuneração, conforme Anexo XII da IN 5/17 (Férias + Adicional = 9,075% + 3,025% = 12,10%) | I32: 0.03025 | J32: =ROUND($J$26*I32,2) -> 113.52
A33: Total | J33: =SUM(J31+J32) -> 426.12
A34: C | B34: Incidência dos encargos do Submódulo 2.2 sobre o total do Submódulo 2.1 | J34: =ROUND(I47*J33,2) -> 156.81
A35: Total | J35: =J33+J34 -> 582.93
A37: Submódulo 2.2 - Encargos Previdenciários (GPS), Fundo de Garantia por Tempo de Serviço (FGTS) e outras contribuições
A38: 2.2 | B38: GPS, FGTS e outras contribuições | I38: Percentual (%) | J38: Valor (R$)
A39: A | B39: INSS | I39: 0.2 | J39: =ROUND($J$26*I39,2) -> 750.55
A40: B | B40: Salário Educação | I40: 0.025 | J40: =ROUND($J$26*I40,2) -> 93.82
A41: C | B41: RAT x FAP | E41: RAT = | F41: 0.03 | G41: FAP = | H41: 1 | I41: =ROUND((F41*H41),6) -> 0.03 | J41: =ROUND($J$26*I41,2) -> 112.58
A42: D | B42: SESC ou SESI | I42: 0.015 | J42: =ROUND($J$26*I42,2) -> 56.29
A43: E | B43: SENAC ou SENAI | I43: 0.01 | J43: =ROUND($J$26*I43,2) -> 37.53
A44: F | B44: SEBRAE | I44: 0.006 | J44: =ROUND($J$26*I44,2) -> 22.52
A45: G | B45: INCRA | I45: 0.002 | J45: =ROUND($J$26*I45,2) -> 7.51
...

Sheet Psicopedagogo - Camaquã
A1: Psicopedagogo - Regime de Tributação: Lucro Real
A2: ANEXO ---- do Pregão IFSul nº XX/2022 – Câmpus XXXXX PLANILHA DE CUSTOS E FORMAÇÃO DE PREÇOS
A3: Nº do processo: | H3: XXXX
A4: Licitação nº:
A5: Dia:
A6: DISCRIMINAÇÃO DOS SERVIÇOS (DADOS REFERENTES À CONTRATAÇÃO)
A7: A | B7: Data de apresentação da proposta (dia/mês/ano)
A8: B | B8: Município/UF | H8: Camaquã/RS
A9: C | B9: Ano do Acordo, Convenção ou Dissídio Coletivo | H9: SECRASO/RS - RS001505/2021
A10: D | B10: Número de meses de execução contratual | H10: 12
A11: IDENTIFICAÇÃO DO SERVIÇO
A12: 1. MÓDULOS Mão de obra Mão de obra vinculada à execução contratual
A15: Dados para composição dos custos referente à mão de obra
A16: 1 | B16: Tipo de Serviço (mesmo serviço com características distintas) | H16: Psicopedagogo
A17: 2 | B17: Classificação Brasileira de Ocupações (CBO) | H17: 2394-25
A18: 3 | B18: Salário Normativo da Categoria Profissional - para a jornada de 44 h/sem | H18: 4128.02
A19: 4 | B19: Categoria Profissional (vinculada à execução contratual) | H19: Psicopedagogo
A20: 5 | B20: Data-Base da Categoria (dia/mês/ano) | H20: 44287
A22: Módulo 1: Composição da Remuneração
A23: 1 | B23: Composição da Remuneração | H23: Percentual (R$) | J23: Valor (R$)
A24: A | B24: Salário-Base (valor para somente 1 Psicopedagogo (a) - 40h/semanais) | J24: 3752.75
A25: B | B25: Adicional de Insalubridade (cláusula 20 da CCT/2021) | J25: =ROUND(I25*H18,2) -> 0
A26: Total | J26: =SUM(J24:J25) -> 3752.75
A28: Módulo 2 – Encargos e Benefícios Anuais, Mensais e Diários
A29: Submódulo 2.1 – 13º (décimo terceiro) Salário e Adicional de Férias
A30: 2.1 | B30: 13º (décimo terceiro) Salário e Adicional de Férias | J30: Valor (R$)
A31: A | B31: 13º (décimo terceiro) Salário Obrigatória a cotação de 8,33% sobre o valor do Módulo 1 – Composição da Remuneração, conforme Anexo XII da IN 5/17 | I31: 0.0833 | J31: =ROUND($J$26*I31,2) -> 312.6
A32: B | B32: Adicional de Férias Obrigatória a cotação de 3,025% sobre o valor do Módulo 1 – Composição da Remuneração, conforme Anexo XII da IN 5/17 (Férias + Adicional = 9,075% + 3,025% = 12,10%) | I32: 0.03025 | J32: =ROUND($J$26*I32,2) -> 113.52
A33: Total | J33: =SUM(J31+J32) -> 426.12
A34: C | B34: Incidência dos encargos do Submódulo 2.2 sobre o total do Submódulo 2.1 | J34: =ROUND(I47*J33,2) -> 156.81
A35: Total | J35: =J33+J34 -> 582.93
A37: Submódulo 2.2 - Encargos Previdenciários (GPS), Fundo de Garantia por Tempo de Serviço (FGTS) e outras contribuições
A38: 2.2 | B38: GPS, FGTS e outras contribuições | I38: Percentual (%) | J38: Valor (R$)
A39: A | B39: INSS | I39: 0.2 | J39: =ROUND($J$26*I39,2) -> 750.55
A40: B | B40: Salário Educação | I40: 0.025 | J40: =ROUND($J$26*I40,2) -> 93.82
A41: C | B41: RAT x FAP | E41: RAT = | F41: 0.03 | G41: FAP = | H41: 1 | I41: =ROUND((F41*H41),6) -> 0.03 | J41: =ROUND($J$26*I41,2) -> 112.58
A42: D | B42: SESC ou SESI | I42: 0.015 | J42: =ROUND($J$26*I42,2) -> 56.29
A43: E | B43: SENAC ou SENAI | I43: 0.01 | J43: =ROUND($J$26*I43,2) -> 37.53
A44: F | B44: SEBRAE | I44: 0.006 | J44: =ROUND($J$26*I44,2) -> 22.52
A45: G | B45: INCRA | I45: 0.002 | J45: =ROUND($J$26*I45,2) -> 7.51
...

Sheet Psicopedagogo - Charqueadas
A1: Psicopedagogo - Regime de Tributação: Lucro Real
A2: ANEXO ---- do Pregão IFSul nº XX/2022 – Câmpus XXXXX PLANILHA DE CUSTOS E FORMAÇÃO DE PREÇOS
A3: Nº do processo: | H3: XXXX
A4: Licitação nº:
A5: Dia:
A6: DISCRIMINAÇÃO DOS SERVIÇOS (DADOS REFERENTES À CONTRATAÇÃO)
A7: A | B7: Data de apresentação da proposta (dia/mês/ano)
A8: B | B8: Município/UF | H8: Charqueadas/RS
A9: C | B9: Ano do Acordo, Convenção ou Dissídio Coletivo | H9: SECRASO/RS - RS001505/2021
A10: D | B10: Número de meses de execução contratual | H10: 12
A11: IDENTIFICAÇÃO DO SERVIÇO
A12: 1. MÓDULOS Mão de obra Mão de obra vinculada à execução contratual
A15: Dados para composição dos custos referente à mão de obra
A16: 1 | B16: Tipo de Serviço (mesmo serviço com características distintas) | H16: Psicopedagogo
A17: 2 | B17: Classificação Brasileira de Ocupações (CBO) | H17: 2394-25
A18: 3 | B18: Salário Normativo da Categoria Profissional - para a jornada de 44 h/sem | H18: 4128.02
A19: 4 | B19: Categoria Profissional (vinculada à execução contratual) | H19: Psicopedagogo
A20: 5 | B20: Data-Base da Categoria (dia/mês/ano) | H20: 44287
A22: Módulo 1: Composição da Remuneração
A23: 1 | B23: Composição da Remuneração | H23: Percentual (R$) | J23: Valor (R$)
A24: A | B24: Salário-Base (valor para somente 1 Psicopedagogo (a) - 40h/semanais) | J24: 3752.75
A25: B | B25: Adicional de Insalubridade (cláusula 20 da CCT/2021) | J25: =ROUND(I25*H18,2) -> 0
A26: Total | J26: =SUM(J24:J25) -> 3752.75
A28: Módulo 2 – Encargos e Benefícios Anuais, Mensais e Diários
A29: Submódulo 2.1 – 13º (décimo terceiro) Salário e Adicional de Férias
A30: 2.1 | B30: 13º (décimo terceiro) Salário e Adicional de Férias | J30: Valor (R$)
A31: A | B31: 13º (décimo terceiro) Salário Obrigatória a cotação de 8,33% sobre o valor do Módulo 1 – Composição da Remuneração, conforme Anexo XII da IN 5/17 | I31: 0.0833 | J31: =ROUND($J$26*I31,2) -> 312.6
A32: B | B32: Adicional de Férias Obrigatória a cotação de 3,025% sobre o valor do Módulo 1 – Composição da Remuneração, conforme Anexo XII da IN 5/17 (Férias + Adicional = 9,075% + 3,025% = 12,10%) | I32: 0.03025 | J32: =ROUND($J$26*I32,2) -> 113.52
A33: Total | J33: =SUM(J31+J32) -> 426.12
A34: C | B34: Incidência dos encargos do Submódulo 2.2 sobre o total do Submódulo 2.1 | J34: =ROUND(I47*J33,2) -> 156.81
A35: Total | J35: =J33+J34 -> 582.93
A37: Submódulo 2.2 - Encargos Previdenciários (GPS), Fundo de Garantia por Tempo de Serviço (FGTS) e outras contribuições
A38: 2.2 | B38: GPS, FGTS e outras contribuições | I38: Percentual (%) | J38: Valor (R$)
A39: A | B39: INSS | I39: 0.2 | J39: =ROUND($J$26*I39,2) -> 750.55
A40: B | B40: Salário Educação | I40: 0.025 | J40: =ROUND($J$26*I40,2) -> 93.82
A41: C | B41: RAT x FAP | E41: RAT = | F41: 0.03 | G41: FAP = | H41: 1 | I41: =ROUND((F41*H41),6) -> 0.03 | J41: =ROUND($J$26*I41,2) -> 112.58
A42: D | B42: SESC ou SESI | I42: 0.015 | J42: =ROUND($J$26*I42,2) -> 56.29
A43: E | B43: SENAC ou SENAI | I43: 0.01 | J43: =ROUND($J$26*I43,2) -> 37.53
A44: F | B44: SEBRAE | I44: 0.006 | J44: =ROUND($J$26*I44,2) -> 22.52
A45: G | B45: INCRA | I45: 0.002 | J45: =ROUND($J$26*I45,2) -> 7.51
...

Sheet Psicopedagogo - Gravataí
A1: Psicopedagogo - Regime de Tributação: Lucro Real
A2: ANEXO ---- do Pregão IFSul nº XX/2022 – Câmpus XXXXX PLANILHA DE CUSTOS E FORMAÇÃO DE PREÇOS
A3: Nº do processo: | H3: XXXX
A4: Licitação nº:
A5: Dia:
A6: DISCRIMINAÇÃO DOS SERVIÇOS (DADOS REFERENTES À CONTRATAÇÃO)
A7: A | B7: Data de apresentação da proposta (dia/mês/ano)
A8: B | B8: Município/UF | H8: Gravataí/RS
A9: C | B9: Ano do Acordo, Convenção ou Dissídio Coletivo | H9: SECRASO/RS - RS001505/2021
A10: D | B10: Número de meses de execução contratual | H10: 12
A11: IDENTIFICAÇÃO DO SERVIÇO
A12: 1. MÓDULOS Mão de obra Mão de obra vinculada à execução contratual
A15: Dados para composição dos custos referente à mão de obra
A16: 1 | B16: Tipo de Serviço (mesmo serviço com características distintas) | H16: Psicopedagogo
A17: 2 | B17: Classificação Brasileira de Ocupações (CBO) | H17: 2394-25
A18: 3 | B18: Salário Normativo da Categoria Profissional - para a jornada de 44 h/sem | H18: 4128.02
A19: 4 | B19: Categoria Profissional (vinculada à execução contratual) | H19: Psicopedagogo
A20: 5 | B20: Data-Base da Categoria (dia/mês/ano) | H20: 44287
A22: Módulo 1: Composição da Remuneração
A23: 1 | B23: Composição da Remuneração | H23: Percentual (R$) | J23: Valor (R$)
A24: A | B24: Salário-Base (valor para somente 1 Psicopedagogo (a) - 40h/semanais) | J24: 3752.75
A25: B | B25: Adicional de Insalubridade (cláusula 20 da CCT/2021) | J25: =ROUND(I25*H18,2) -> 0
A26: Total | J26: =SUM(J24:J25) -> 3752.75
A28: Módulo 2 – Encargos e Benefícios Anuais, Mensais e Diários
A29: Submódulo 2.1 – 13º (décimo terceiro) Salário e Adicional de Férias
A30: 2.1 | B30: 13º (décimo terceiro) Salário e Adicional de Férias | J30: Valor (R$)
A31: A | B31: 13º (décimo terceiro) Salário Obrigatória a cotação de 8,33% sobre o valor do Módulo 1 – Composição da Remuneração, conforme Anexo XII da IN 5/17 | I31: 0.0833 | J31: =ROUND($J$26*I31,2) -> 312.6
A32: B | B32: Adicional de Férias Obrigatória a cotação de 3,025% sobre o valor do Módulo 1 – Composição da Remuneração, conforme Anexo XII da IN 5/17 (Férias + Adicional = 9,075% + 3,025% = 12,10%) | I32: 0.03025 | J32: =ROUND($J$26*I32,2) -> 113.52
A33: Total | J33: =SUM(J31+J32) -> 426.12
A34: C | B34: Incidência dos encargos do Submódulo 2.2 sobre o total do Submódulo 2.1 | J34: =ROUND(I47*J33,2) -> 156.81
A35: Total | J35: =J33+J34 -> 582.93
A37: Submódulo 2.2 - Encargos Previdenciários (GPS), Fundo de Garantia por Tempo de Serviço (FGTS) e outras contribuições
A38: 2.2 | B38: GPS, FGTS e outras contribuições | I38: Percentual (%) | J38: Valor (R$)
A39: A | B39: INSS | I39: 0.2 | J39: =ROUND($J$26*I39,2) -> 750.55
A40: B | B40: Salário Educação | I40: 0.025 | J40: =ROUND($J$26*I40,2) -> 93.82
A41: C | B41: RAT x FAP | E41: RAT = | F41: 0.03 | G41: FAP = | H41: 1 | I41: =ROUND((F41*H41),6) -> 0.03 | J41: =ROUND($J$26*I41,2) -> 112.58
A42: D | B42: SESC ou SESI | I42: 0.015 | J42: =ROUND($J$26*I42,2) -> 56.29
A43: E | B43: SENAC ou SENAI | I43: 0.01 | J43: =ROUND($J$26*I43,2) -> 37.53
A44: F | B44: SEBRAE | I44: 0.006 | J44: =ROUND($J$26*I44,2) -> 22.52
A45: G | B45: INCRA | I45: 0.002 | J45: =ROUND($J$26*I45,2) -> 7.51
...

Sheet Psicopedagogo - Jaguarão
A1: Psicopedagogo - Regime de Tributação: Lucro Real
A2: ANEXO ---- do Pregão IFSul nº XX/2022 – Câmpus XXXXX PLANILHA DE CUSTOS E FORMAÇÃO DE PREÇOS
A3: Nº do processo: | H3: XXXX
A4: Licitação nº:
A5: Dia:
A6: DISCRIMINAÇÃO DOS SERVIÇOS (DADOS REFERENTES À CONTRATAÇÃO)
A7: A | B7: Data de apresentação da proposta (dia/mês/ano)
A8: B | B8: Município/UF | H8: Jaguarão/RS
A9: C | B9: Ano do Acordo, Convenção ou Dissídio Coletivo | H9: SECRASO/RS - RS001505/2021
A10: D | B10: Número de meses de execução contratual | H10: 12
A11: IDENTIFICAÇÃO DO SERVIÇO
A12: 1. MÓDULOS Mão de obra Mão de obra vinculada à execução contratual
A15: Dados para composição dos custos referente à mão de obra
A16: 1 | B16: Tipo de Serviço (mesmo serviço com características distintas) | H16: Psicopedagogo
A17: 2 | B17: Classificação Brasileira de Ocupações (CBO) | H17: 2394-25
A18: 3 | B18: Salário Normativo da Categoria Profissional - para a jornada de 44 h/sem | H18: 4128.02
A19: 4 | B19: Categoria Profissional (vinculada à execução contratual) | H19: Psicopedagogo
A20: 5 | B20: Data-Base da Categoria (dia/mês/ano) | H20: 44287
A22: Módulo 1: Composição da Remuneração
A23: 1 | B23: Composição da Remuneração | H23: Percentual (R$) | J23: Valor (R$)
A24: A | B24: Salário-Base (valor para somente 1 Psicopedagogo (a) - 40h/semanais) | J24: 3752.75
A25: B | B25: Adicional de Insalubridade (cláusula 20 da CCT/2021) | J25: =ROUND(I25*H18,2) -> 0
A26: Total | J26: =SUM(J24:J25) -> 3752.75
A28: Módulo 2 – Encargos e Benefícios Anuais, Mensais e Diários
A29: Submódulo 2.1 – 13º (décimo terceiro) Salário e Adicional de Férias
A30: 2.1 | B30: 13º (décimo terceiro) Salário e Adicional de Férias | J30: Valor (R$)
A31: A | B31: 13º (décimo terceiro) Salário Obrigatória a cotação de 8,33% sobre o valor do Módulo 1 – Composição da Remuneração, conforme Anexo XII da IN 5/17 | I31: 0.0833 | J31: =ROUND($J$26*I31,2) -> 312.6
A32: B | B32: Adicional de Férias Obrigatória a cotação de 3,025% sobre o valor do Módulo 1 – Composição da Remuneração, conforme Anexo XII da IN 5/17 (Férias + Adicional = 9,075% + 3,025% = 12,10%) | I32: 0.03025 | J32: =ROUND($J$26*I32,2) -> 113.52
A33: Total | J33: =SUM(J31+J32) -> 426.12
A34: C | B34: Incidência dos encargos do Submódulo 2.2 sobre o total do Submódulo 2.1 | J34: =ROUND(I47*J33,2) -> 156.81
A35: Total | J35: =J33+J34 -> 582.93
A37: Submódulo 2.2 - Encargos Previdenciários (GPS), Fundo de Garantia por Tempo de Serviço (FGTS) e outras contribuições
A38: 2.2 | B38: GPS, FGTS e outras contribuições | I38: Percentual (%) | J38: Valor (R$)
A39: A | B39: INSS | I39: 0.2 | J39: =ROUND($J$26*I39,2) -> 750.55
A40: B | B40: Salário Educação | I40: 0.025 | J40: =ROUND($J$26*I40,2) -> 93.82
A41: C | B41: RAT x FAP | E41: RAT = | F41: 0.03 | G41: FAP = | H41: 1 | I41: =ROUND((F41*H41),6) -> 0.03 | J41: =ROUND($J$26*I41,2) -> 112.58
A42: D | B42: SESC ou SESI | I42: 0.015 | J42: =ROUND($J$26*I42,2) -> 56.29
A43: E | B43: SENAC ou SENAI | I43: 0.01 | J43: =ROUND($J$26*I43,2) -> 37.53
A44: F | B44: SEBRAE | I44: 0.006 | J44: =ROUND($J$26*I44,2) -> 22.52
A45: G | B45: INCRA | I45: 0.002 | J45: =ROUND($J$26*I45,2) -> 7.51
...

Sheet Psicopedagogo - Lajeado
A1: Psicopedagogo - Regime de Tributação: Lucro Real
A2: ANEXO ---- do Pregão IFSul nº XX/2022 – Câmpus XXXXX PLANILHA DE CUSTOS E FORMAÇÃO DE PREÇOS
A3: Nº do processo: | H3: XXXX
A4: Licitação nº:
A5: Dia:
A6: DISCRIMINAÇÃO DOS SERVIÇOS (DADOS REFERENTES À CONTRATAÇÃO)
A7: A | B7: Data de apresentação da proposta (dia/mês/ano)
A8: B | B8: Município/UF | H8: Lajeado/RS
A9: C | B9: Ano do Acordo, Convenção ou Dissídio Coletivo | H9: SECRASO/RS - RS001505/2021
A10: D | B10: Número de meses de execução contratual | H10: 12
A11: IDENTIFICAÇÃO DO SERVIÇO
A12: 1. MÓDULOS Mão de obra Mão de obra vinculada à execução contratual
A15: Dados para composição dos custos referente à mão de obra
A16: 1 | B16: Tipo de Serviço (mesmo serviço com características distintas) | H16: Psicopedagogo
A17: 2 | B17: Classificação Brasileira de Ocupações (CBO) | H17: 2394-25
A18: 3 | B18: Salário Normativo da Categoria Profissional - para a jornada de 44 h/sem | H18: 4128.02
A19: 4 | B19: Categoria Profissional (vinculada à execução contratual) | H19: Psicopedagogo
A20: 5 | B20: Data-Base da Categoria (dia/mês/ano) | H20: 44287
A22: Módulo 1: Composição da Remuneração
A23: 1 | B23: Composição da Remuneração | H23: Percentual (R$) | J23: Valor (R$)
A24: A | B24: Salário-Base (valor para somente 1 Psicopedagogo (a) - 40h/semanais) | J24: 3752.75
A25: B | B25: Adicional de Insalubridade (cláusula 20 da CCT/2021) | J25: =ROUND(I25*H18,2) -> 0
A26: Total | J26: =SUM(J24:J25) -> 3752.75
A28: Módulo 2 – Encargos e Benefícios Anuais, Mensais e Diários
A29: Submódulo 2.1 – 13º (décimo terceiro) Salário e Adicional de Férias
A30: 2.1 | B30: 13º (décimo terceiro) Salário e Adicional de Férias | J30: Valor (R$)
A31: A | B31: 13º (décimo terceiro) Salário Obrigatória a cotação de 8,33% sobre o valor do Módulo 1 – Composição da Remuneração, conforme Anexo XII da IN 5/17 | I31: 0.0833 | J31: =ROUND($J$26*I31,2) -> 312.6
A32: B | B32: Adicional de Férias Obrigatória a cotação de 3,025% sobre o valor do Módulo 1 – Composição da Remuneração, conforme Anexo XII da IN 5/17 (Férias + Adicional = 9,075% + 3,025% = 12,10%) | I32: 0.03025 | J32: =ROUND($J$26*I32,2) -> 113.52
A33: Total | J33: =SUM(J31+J32) -> 426.12
A34: C | B34: Incidência dos encargos do Submódulo 2.2 sobre o total do Submódulo 2.1 | J34: =ROUND(I47*J33,2) -> 156.81
A35: Total | J35: =J33+J34 -> 582.93
A37: Submódulo 2.2 - Encargos Previdenciários (GPS), Fundo de Garantia por Tempo de Serviço (FGTS) e outras contribuições
A38: 2.2 | B38: GPS, FGTS e outras contribuições | I38: Percentual (%) | J38: Valor (R$)
A39: A | B39: INSS | I39: 0.2 | J39: =ROUND($J$26*I39,2) -> 750.55
A40: B | B40: Salário Educação | I40: 0.025 | J40: =ROUND($J$26*I40,2) -> 93.82
A41: C | B41: RAT x FAP | E41: RAT = | F41: 0.03 | G41: FAP = | H41: 1 | I41: =ROUND((F41*H41),6) -> 0.03 | J41: =ROUND($J$26*I41,2) -> 112.58
A42: D | B42: SESC ou SESI | I42: 0.015 | J42: =ROUND($J$26*I42,2) -> 56.29
A43: E | B43: SENAC ou SENAI | I43: 0.01 | J43: =ROUND($J$26*I43,2) -> 37.53
A44: F | B44: SEBRAE | I44: 0.006 | J44: =ROUND($J$26*I44,2) -> 22.52
A45: G | B45: INCRA | I45: 0.002 | J45: =ROUND($J$26*I45,2) -> 7.51
...

Sheet Psicopedagogo - Novo Hamburgo
A1: Psicopedagogo - Regime de Tributação: Lucro Real
A2: ANEXO ---- do Pregão IFSul nº XX/2022 – Câmpus XXXXX PLANILHA DE CUSTOS E FORMAÇÃO DE PREÇOS
A3: Nº do processo: | H3: XXXX
A4: Licitação nº:
A5: Dia:
A6: DISCRIMINAÇÃO DOS SERVIÇOS (DADOS REFERENTES À CONTRATAÇÃO)
A7: A | B7: Data de apresentação da proposta (dia/mês/ano)
A8: B | B8: Município/UF | H8: Novo Hamburgo/RS
A9: C | B9: Ano do Acordo, Convenção ou Dissídio Coletivo | H9: SECRASO/RS - RS001505/2021
A10: D | B10: Número de meses de execução contratual | H10: 12
A11: IDENTIFICAÇÃO DO SERVIÇO
A12: 1. MÓDULOS Mão de obra Mão de obra vinculada à execução contratual
A15: Dados para composição dos custos referente à mão de obra
A16: 1 | B16: Tipo de Serviço (mesmo serviço com características distintas) | H16: Psicopedagogo
A17: 2 | B17: Classificação Brasileira de Ocupações (CBO) | H17: 2394-25
A18: 3 | B18: Salário Normativo da Categoria Profissional - para a jornada de 44 h/sem | H18: 4128.02
A19: 4 | B19: Categoria Profissional (vinculada à execução contratual) | H19: Psicopedagogo
A20: 5 | B20: Data-Base da Categoria (dia/mês/ano) | H20: 44287
A22: Módulo 1: Composição da Remuneração
A23: 1 | B23: Composição da Remuneração | H23: Percentual (R$) | J23: Valor (R$)
A24: A | B24: Salário-Base (valor para somente 1 Psicopedagogo (a) - 40h/semanais) | J24: 3752.75
A25: B | B25: Adicional de Insalubridade (cláusula 20 da CCT/2021) | J25: =ROUND(I25*H18,2) -> 0
A26: Total | J26: =SUM(J24:J25) -> 3752.75
A28: Módulo 2 – Encargos e Benefícios Anuais, Mensais e Diários
A29: Submódulo 2.1 – 13º (décimo terceiro) Salário e Adicional de Férias
A30: 2.1 | B30: 13º (décimo terceiro) Salário e Adicional de Férias | J30: Valor (R$)
A31: A | B31: 13º (décimo terceiro) Salário Obrigatória a cotação de 8,33% sobre o valor do Módulo 1 – Composição da Remuneração, conforme Anexo XII da IN 5/17 | I31: 0.0833 | J31: =ROUND($J$26*I31,2) -> 312.6
A32: B | B32: Adicional de Férias Obrigatória a cotação de 3,025% sobre o valor do Módulo 1 – Composição da Remuneração, conforme Anexo XII da IN 5/17 (Férias + Adicional = 9,075% + 3,025% = 12,10%) | I32: 0.03025 | J32: =ROUND($J$26*I32,2) -> 113.52
A33: Total | J33: =SUM(J31+J32) -> 426.12
A34: C | B34: Incidência dos encargos do Submódulo 2.2 sobre o total do Submódulo 2.1 | J34: =ROUND(I47*J33,2) -> 156.81
A35: Total | J35: =J33+J34 -> 582.93
A37: Submódulo 2.2 - Encargos Previdenciários (GPS), Fundo de Garantia por Tempo de Serviço (FGTS) e outras contribuições
A38: 2.2 | B38: GPS, FGTS e outras contribuições | I38: Percentual (%) | J38: Valor (R$)
A39: A | B39: INSS | I39: 0.2 | J39: =ROUND($J$26*I39,2) -> 750.55
A40: B | B40: Salário Educação | I40: 0.025 | J40: =ROUND($J$26*I40,2) -> 93.82
A41: C | B41: RAT x FAP | E41: RAT = | F41: 0.03 | G41: FAP = | H41: 1 | I41: =ROUND((F41*H41),6) -> 0.03 | J41: =ROUND($J$26*I41,2) -> 112.58
A42: D | B42: SESC ou SESI | I42: 0.015 | J42: =ROUND($J$26*I42,2) -> 56.29
A43: E | B43: SENAC ou SENAI | I43: 0.01 | J43: =ROUND($J$26*I43,2) -> 37.53
A44: F | B44: SEBRAE | I44: 0.006 | J44: =ROUND($J$26*I44,2) -> 22.52
A45: G | B45: INCRA | I45: 0.002 | J45: =ROUND($J$26*I45,2) -> 7.51
...

Sheet Psicopedagogo - Passo Fundo
A1: Psicopedagogo - Regime de Tributação: Lucro Real
A2: ANEXO ---- do Pregão IFSul nº XX/2022 – Câmpus XXXXX PLANILHA DE CUSTOS E FORMAÇÃO DE PREÇOS
A3: Nº do processo: | H3: XXXX
A4: Licitação nº:
A5: Dia:
A6: DISCRIMINAÇÃO DOS SERVIÇOS (DADOS REFERENTES À CONTRATAÇÃO)
A7: A | B7: Data de apresentação da proposta (dia/mês/ano)
A8: B | B8: Município/UF | H8: Passo Fundo/RS
A9: C | B9: Ano do Acordo, Convenção ou Dissídio Coletivo | H9: SECRASO/RS - RS001505/2021
A10: D | B10: Número de meses de execução contratual | H10: 12
A11: IDENTIFICAÇÃO DO SERVIÇO
A12: 1. MÓDULOS Mão de obra Mão de obra vinculada à execução contratual
A15: Dados para composição dos custos referente à mão de obra
A16: 1 | B16: Tipo de Serviço (mesmo serviço com características distintas) | H16: Psicopedagogo
A17: 2 | B17: Classificação Brasileira de Ocupações (CBO) | H17: 2394-25
A18: 3 | B18: Salário Normativo da Categoria Profissional - para a jornada de 44 h/sem | H18: 4128.02
A19: 4 | B19: Categoria Profissional (vinculada à execução contratual) | H19: Psicopedagogo
A20: 5 | B20: Data-Base da Categoria (dia/mês/ano) | H20: 44287
A22: Módulo 1: Composição da Remuneração
A23: 1 | B23: Composição da Remuneração | H23: Percentual (R$) | J23: Valor (R$)
A24: A | B24: Salário-Base (valor para somente 1 Psicopedagogo (a) - 40h/semanais) | J24: 3752.75
A25: B | B25: Adicional de Insalubridade (cláusula 20 da CCT/2021) | J25: =ROUND(I25*H18,2) -> 0
A26: Total | J26: =SUM(J24:J25) -> 3752.75
A28: Módulo 2 – Encargos e Benefícios Anuais, Mensais e Diários
A29: Submódulo 2.1 – 13º (décimo terceiro) Salário e Adicional de Férias
A30: 2.1 | B30: 13º (décimo terceiro) Salário e Adicional de Férias | J30: Valor (R$)
A31: A | B31: 13º (décimo terceiro) Salário Obrigatória a cotação de 8,33% sobre o valor do Módulo 1 – Composição da Remuneração, conforme Anexo XII da IN 5/17 | I31: 0.0833 | J31: =ROUND($J$26*I31,2) -> 312.6
A32: B | B32: Adicional de Férias Obrigatória a cotação de 3,025% sobre o valor do Módulo 1 – Composição da Remuneração, conforme Anexo XII da IN 5/17 (Férias + Adicional = 9,075% + 3,025% = 12,10%) | I32: 0.03025 | J32: =ROUND($J$26*I32,2) -> 113.52
A33: Total | J33: =SUM(J31+J32) -> 426.12
A34: C | B34: Incidência dos encargos do Submódulo 2.2 sobre o total do Submódulo 2.1 | J34: =ROUND(I47*J33,2) -> 156.81
A35: Total | J35: =J33+J34 -> 582.93
A37: Submódulo 2.2 - Encargos Previdenciários (GPS), Fundo de Garantia por Tempo de Serviço (FGTS) e outras contribuições
A38: 2.2 | B38: GPS, FGTS e outras contribuições | I38: Percentual (%) | J38: Valor (R$)
A39: A | B39: INSS | I39: 0.2 | J39: =ROUND($J$26*I39,2) -> 750.55
A40: B | B40: Salário Educação | I40: 0.025 | J40: =ROUND($J$26*I40,2) -> 93.82
A41: C | B41: RAT x FAP | E41: RAT = | F41: 0.03 | G41: FAP = | H41: 1 | I41: =ROUND((F41*H41),6) -> 0.03 | J41: =ROUND($J$26*I41,2) -> 112.58
A42: D | B42: SESC ou SESI | I42: 0.015 | J42: =ROUND($J$26*I42,2) -> 56.29
A43: E | B43: SENAC ou SENAI | I43: 0.01 | J43: =ROUND($J$26*I43,2) -> 37.53
A44: F | B44: SEBRAE | I44: 0.006 | J44: =ROUND($J$26*I44,2) -> 22.52
A45: G | B45: INCRA | I45: 0.002 | J45: =ROUND($J$26*I45,2) -> 7.51
...

Sheet Psicopedagogo - Santana
A1: Psicopedagogo - Regime de Tributação: Lucro Real
A2: ANEXO ---- do Pregão IFSul nº XX/2022 – Câmpus XXXXX PLANILHA DE CUSTOS E FORMAÇÃO DE PREÇOS
A3: Nº do processo: | H3: XXXX
A4: Licitação nº:
A5: Dia:
A6: DISCRIMINAÇÃO DOS SERVIÇOS (DADOS REFERENTES À CONTRATAÇÃO)
A7: A | B7: Data de apresentação da proposta (dia/mês/ano)
A8: B | B8: Município/UF | H8: Santana do Livramento/RS
A9: C | B9: Ano do Acordo, Convenção ou Dissídio Coletivo | H9: SECRASO/RS - RS001505/2021
A10: D | B10: Número de meses de execução contratual | H10: 12
A11: IDENTIFICAÇÃO DO SERVIÇO
A12: 1. MÓDULOS Mão de obra Mão de obra vinculada à execução contratual
A15: Dados para composição dos custos referente à mão de obra
A16: 1 | B16: Tipo de Serviço (mesmo serviço com características distintas) | H16: Psicopedagogo
A17: 2 | B17: Classificação Brasileira de Ocupações (CBO) | H17: 2394-25
A18: 3 | B18: Salário Normativo da Categoria Profissional - para a jornada de 44 h/sem | H18: 4128.02
A19: 4 | B19: Categoria Profissional (vinculada à execução contratual) | H19: Psicopedagogo
A20: 5 | B20: Data-Base da Categoria (dia/mês/ano) | H20: 44287
A22: Módulo 1: Composição da Remuneração
A23: 1 | B23: Composição da Remuneração | H23: Percentual (R$) | J23: Valor (R$)
A24: A | B24: Salário-Base (valor para somente 1 Psicopedagogo (a) - 40h/semanais) | J24: 3752.75
A25: B | B25: Adicional de Insalubridade (cláusula 20 da CCT/2021) | J25: =ROUND(I25*H18,2) -> 0
A26: Total | J26: =SUM(J24:J25) -> 3752.75
A28: Módulo 2 – Encargos e Benefícios Anuais, Mensais e Diários
A29: Submódulo 2.1 – 13º (décimo terceiro) Salário e Adicional de Férias
A30: 2.1 | B30: 13º (décimo terceiro) Salário e Adicional de Férias | J30: Valor (R$)
A31: A | B31: 13º (décimo terceiro) Salário Obrigatória a cotação de 8,33% sobre o valor do Módulo 1 – Composição da Remuneração, conforme Anexo XII da IN 5/17 | I31: 0.0833 | J31: =ROUND($J$26*I31,2) -> 312.6
A32: B | B32: Adicional de Férias Obrigatória a cotação de 3,025% sobre o valor do Módulo 1 – Composição da Remuneração, conforme Anexo XII da IN 5/17 (Férias + Adicional = 9,075% + 3,025% = 12,10%) | I32: 0.03025 | J32: =ROUND($J$26*I32,2) -> 113.52
A33: Total | J33: =SUM(J31+J32) -> 426.12
A34: C | B34: Incidência dos encargos do Submódulo 2.2 sobre o total do Submódulo 2.1 | J34: =ROUND(I47*J33,2) -> 156.81
A35: Total | J35: =J33+J34 -> 582.93
A37: Submódulo 2.2 - Encargos Previdenciários (GPS), Fundo de Garantia por Tempo de Serviço (FGTS) e outras contribuições
A38: 2.2 | B38: GPS, FGTS e outras contribuições | I38: Percentual (%) | J38: Valor (R$)
A39: A | B39: INSS | I39: 0.2 | J39: =ROUND($J$26*I39,2) -> 750.55
A40: B | B40: Salário Educação | I40: 0.025 | J40: =ROUND($J$26*I40,2) -> 93.82
A41: C | B41: RAT x FAP | E41: RAT = | F41: 0.03 | G41: FAP = | H41: 1 | I41: =ROUND((F41*H41),6) -> 0.03 | J41: =ROUND($J$26*I41,2) -> 112.58
A42: D | B42: SESC ou SESI | I42: 0.015 | J42: =ROUND($J$26*I42,2) -> 56.29
A43: E | B43: SENAC ou SENAI | I43: 0.01 | J43: =ROUND($J$26*I43,2) -> 37.53
A44: F | B44: SEBRAE | I44: 0.006 | J44: =ROUND($J$26*I44,2) -> 22.52
A45: G | B45: INCRA | I45: 0.002 | J45: =ROUND($J$26*I45,2) -> 7.51
...

Sheet Psicopedagogo - Sapiranga
A1: Psicopedagogo - Regime de Tributação: Lucro Real
A2: ANEXO ---- do Pregão IFSul nº XX/2022 – Câmpus XXXXX PLANILHA DE CUSTOS E FORMAÇÃO DE PREÇOS
A3: Nº do processo: | H3: XXXX
A4: Licitação nº:
A5: Dia:
A6: DISCRIMINAÇÃO DOS SERVIÇOS (DADOS REFERENTES À CONTRATAÇÃO)
A7: A | B7: Data de apresentação da proposta (dia/mês/ano)
A8: B | B8: Município/UF | H8: Sapiranga/RS
A9: C | B9: Ano do Acordo, Convenção ou Dissídio Coletivo | H9: SECRASO/RS - RS001505/2021
A10: D | B10: Número de meses de execução contratual | H10: 12
A11: IDENTIFICAÇÃO DO SERVIÇO
A12: 1. MÓDULOS Mão de obra Mão de obra vinculada à execução contratual
A15: Dados para composição dos custos referente à mão de obra
A16: 1 | B16: Tipo de Serviço (mesmo serviço com características distintas) | H16: Psicopedagogo
A17: 2 | B17: Classificação Brasileira de Ocupações (CBO) | H17: 2394-25
A18: 3 | B18: Salário Normativo da Categoria Profissional - para a jornada de 44 h/sem | H18: 4128.02
A19: 4 | B19: Categoria Profissional (vinculada à execução contratual) | H19: Psicopedagogo
A20: 5 | B20: Data-Base da Categoria (dia/mês/ano) | H20: 44287
A22: Módulo 1: Composição da Remuneração
A23: 1 | B23: Composição da Remuneração | H23: Percentual (R$) | J23: Valor (R$)
A24: A | B24: Salário-Base (valor para somente 1 Psicopedagogo (a) - 40h/semanais) | J24: 3752.75
A25: B | B25: Adicional de Insalubridade (cláusula 20 da CCT/2021) | J25: =ROUND(I25*H18,2) -> 0
A26: Total | J26: =SUM(J24:J25) -> 3752.75
A28: Módulo 2 – Encargos e Benefícios Anuais, Mensais e Diários
A29: Submódulo 2.1 – 13º (décimo terceiro) Salário e Adicional de Férias
A30: 2.1 | B30: 13º (décimo terceiro) Salário e Adicional de Férias | J30: Valor (R$)
A31: A | B31: 13º (décimo terceiro) Salário Obrigatória a cotação de 8,33% sobre o valor do Módulo 1 – Composição da Remuneração, conforme Anexo XII da IN 5/17 | I31: 0.0833 | J31: =ROUND($J$26*I31,2) -> 312.6
A32: B | B32: Adicional de Férias Obrigatória a cotação de 3,025% sobre o valor do Módulo 1 – Composição da Remuneração, conforme Anexo XII da IN 5/17 (Férias + Adicional = 9,075% + 3,025% = 12,10%) | I32: 0.03025 | J32: =ROUND($J$26*I32,2) -> 113.52
A33: Total | J33: =SUM(J31+J32) -> 426.12
A34: C | B34: Incidência dos encargos do Submódulo 2.2 sobre o total do Submódulo 2.1 | J34: =ROUND(I47*J33,2) -> 156.81
A35: Total | J35: =J33+J34 -> 582.93
A37: Submódulo 2.2 - Encargos Previdenciários (GPS), Fundo de Garantia por Tempo de Serviço (FGTS) e outras contribuições
A38: 2.2 | B38: GPS, FGTS e outras contribuições | I38: Percentual (%) | J38: Valor (R$)
A39: A | B39: INSS | I39: 0.2 | J39: =ROUND($J$26*I39,2) -> 750.55
A40: B | B40: Salário Educação | I40: 0.025 | J40: =ROUND($J$26*I40,2) -> 93.82
A41: C | B41: RAT x FAP | E41: RAT = | F41: 0.03 | G41: FAP = | H41: 1 | I41: =ROUND((F41*H41),6) -> 0.03 | J41: =ROUND($J$26*I41,2) -> 112.58
A42: D | B42: SESC ou SESI | I42: 0.015 | J42: =ROUND($J$26*I42,2) -> 56.29
A43: E | B43: SENAC ou SENAI | I43: 0.01 | J43: =ROUND($J$26*I43,2) -> 37.53
A44: F | B44: SEBRAE | I44: 0.006 | J44: =ROUND($J$26*I44,2) -> 22.52
A45: G | B45: INCRA | I45: 0.002 | J45: =ROUND($J$26*I45,2) -> 7.51
...

Sheet Psicopedagogo - Sapucaia
A1: Psicopedagogo - Regime de Tributação: Lucro Real
A2: ANEXO ---- do Pregão IFSul nº XX/2022 – Câmpus XXXXX PLANILHA DE CUSTOS E FORMAÇÃO DE PREÇOS
A3: Nº do processo: | H3: XXXX
A4: Licitação nº:
A5: Dia:
A6: DISCRIMINAÇÃO DOS SERVIÇOS (DADOS REFERENTES À CONTRATAÇÃO)
A7: A | B7: Data de apresentação da proposta (dia/mês/ano)
A8: B | B8: Município/UF | H8: Sapucaia do Sul/RS
A9: C | B9: Ano do Acordo, Convenção ou Dissídio Coletivo | H9: SECRASO/RS - RS001505/2021
A10: D | B10: Número de meses de execução contratual | H10: 12
A11: IDENTIFICAÇÃO DO SERVIÇO
A12: 1. MÓDULOS Mão de obra Mão de obra vinculada à execução contratual
A15: Dados para composição dos custos referente à mão de obra
A16: 1 | B16: Tipo de Serviço (mesmo serviço com características distintas) | H16: Psicopedagogo
A17: 2 | B17: Classificação Brasileira de Ocupações (CBO) | H17: 2394-25
A18: 3 | B18: Salário Normativo da Categoria Profissional - para a jornada de 44 h/sem | H18: 4128.02
A19: 4 | B19: Categoria Profissional (vinculada à execução contratual) | H19: Psicopedagogo
A20: 5 | B20: Data-Base da Categoria (dia/mês/ano) | H20: 44287
A22: Módulo 1: Composição da Remuneração
A23: 1 | B23: Composição da Remuneração | H23: Percentual (R$) | J23: Valor (R$)
A24: A | B24: Salário-Base (valor para somente 1 Psicopedagogo (a) - 40h/semanais) | J24: 3752.75
A25: B | B25: Adicional de Insalubridade (cláusula 20 da CCT/2021) | J25: =ROUND(I25*H18,2) -> 0
A26: Total | J26: =SUM(J24:J25) -> 3752.75
A28: Módulo 2 – Encargos e Benefícios Anuais, Mensais e Diários
A29: Submódulo 2.1 – 13º (décimo terceiro) Salário e Adicional de Férias
A30: 2.1 | B30: 13º (décimo terceiro) Salário e Adicional de Férias | J30: Valor (R$)
A31: A | B31: 13º (décimo terceiro) Salário Obrigatória a cotação de 8,33% sobre o valor do Módulo 1 – Composição da Remuneração, conforme Anexo XII da IN 5/17 | I31: 0.0833 | J31: =ROUND($J$26*I31,2) -> 312.6
A32: B | B32: Adicional de Férias Obrigatória a cotação de 3,025% sobre o valor do Módulo 1 – Composição da Remuneração, conforme Anexo XII da IN 5/17 (Férias + Adicional = 9,075% + 3,025% = 12,10%) | I32: 0.03025 | J32: =ROUND($J$26*I32,2) -> 113.52
A33: Total | J33: =SUM(J31+J32) -> 426.12
A34: C | B34: Incidência dos encargos do Submódulo 2.2 sobre o total do Submódulo 2.1 | J34: =ROUND(I47*J33,2) -> 156.81
A35: Total | J35: =J33+J34 -> 582.93
A37: Submódulo 2.2 - Encargos Previdenciários (GPS), Fundo de Garantia por Tempo de Serviço (FGTS) e outras contribuições
A38: 2.2 | B38: GPS, FGTS e outras contribuições | I38: Percentual (%) | J38: Valor (R$)
A39: A | B39: INSS | I39: 0.2 | J39: =ROUND($J$26*I39,2) -> 750.55
A40: B | B40: Salário Educação | I40: 0.025 | J40: =ROUND($J$26*I40,2) -> 93.82
A41: C | B41: RAT x FAP | E41: RAT = | F41: 0.03 | G41: FAP = | H41: 1 | I41: =ROUND((F41*H41),6) -> 0.03 | J41: =ROUND($J$26*I41,2) -> 112.58
A42: D | B42: SESC ou SESI | I42: 0.015 | J42: =ROUND($J$26*I42,2) -> 56.29
A43: E | B43: SENAC ou SENAI | I43: 0.01 | J43: =ROUND($J$26*I43,2) -> 37.53
A44: F | B44: SEBRAE | I44: 0.006 | J44: =ROUND($J$26*I44,2) -> 22.52
A45: G | B45: INCRA | I45: 0.002 | J45: =ROUND($J$26*I45,2) -> 7.51
...

Sheet Psicopedagogo - Venâncio
A1: Psicopedagogo - Regime de Tributação: Lucro Real
A2: ANEXO ---- do Pregão IFSul nº XX/2022 – Câmpus XXXXX PLANILHA DE CUSTOS E FORMAÇÃO DE PREÇOS
A3: Nº do processo: | H3: XXXX
A4: Licitação nº:
A5: Dia:
A6: DISCRIMINAÇÃO DOS SERVIÇOS (DADOS REFERENTES À CONTRATAÇÃO)
A7: A | B7: Data de apresentação da proposta (dia/mês/ano)
A8: B | B8: Município/UF | H8: Venâncio Aires/RS
A9: C | B9: Ano do Acordo, Convenção ou Dissídio Coletivo | H9: SECRASO/RS - RS001505/2021
A10: D | B10: Número de meses de execução contratual | H10: 12
A11: IDENTIFICAÇÃO DO SERVIÇO
A12: 1. MÓDULOS Mão de obra Mão de obra vinculada à execução contratual
A15: Dados para composição dos custos referente à mão de obra
A16: 1 | B16: Tipo de Serviço (mesmo serviço com características distintas) | H16: Psicopedagogo
A17: 2 | B17: Classificação Brasileira de Ocupações (CBO) | H17: 2394-25
A18: 3 | B18: Salário Normativo da Categoria Profissional - para a jornada de 44 h/sem | H18: 4128.02
A19: 4 | B19: Categoria Profissional (vinculada à execução contratual) | H19: Psicopedagogo
A20: 5 | B20: Data-Base da Categoria (dia/mês/ano) | H20: 44287
A22: Módulo 1: Composição da Remuneração
A23: 1 | B23: Composição da Remuneração | H23: Percentual (R$) | J23: Valor (R$)
A24: A | B24: Salário-Base (valor para somente 1 Psicopedagogo (a) - 40h/semanais) | J24: 3752.75
A25: B | B25: Adicional de Insalubridade (cláusula 20 da CCT/2021) | J25: =ROUND(I25*H18,2) -> 0
A26: Total | J26: =SUM(J24:J25) -> 3752.75
A28: Módulo 2 – Encargos e Benefícios Anuais, Mensais e Diários
A29: Submódulo 2.1 – 13º (décimo terceiro) Salário e Adicional de Férias
A30: 2.1 | B30: 13º (décimo terceiro) Salário e Adicional de Férias | J30: Valor (R$)
A31: A | B31: 13º (décimo terceiro) Salário Obrigatória a cotação de 8,33% sobre o valor do Módulo 1 – Composição da Remuneração, conforme Anexo XII da IN 5/17 | I31: 0.0833 | J31: =ROUND($J$26*I31,2) -> 312.6
A32: B | B32: Adicional de Férias Obrigatória a cotação de 3,025% sobre o valor do Módulo 1 – Composição da Remuneração, conforme Anexo XII da IN 5/17 (Férias + Adicional = 9,075% + 3,025% = 12,10%) | I32: 0.03025 | J32: =ROUND($J$26*I32,2) -> 113.52
A33: Total | J33: =SUM(J31+J32) -> 426.12
A34: C | B34: Incidência dos encargos do Submódulo 2.2 sobre o total do Submódulo 2.1 | J34: =ROUND(I47*J33,2) -> 156.81
A35: Total | J35: =J33+J34 -> 582.93
A37: Submódulo 2.2 - Encargos Previdenciários (GPS), Fundo de Garantia por Tempo de Serviço (FGTS) e outras contribuições
A38: 2.2 | B38: GPS, FGTS e outras contribuições | I38: Percentual (%) | J38: Valor (R$)
A39: A | B39: INSS | I39: 0.2 | J39: =ROUND($J$26*I39,2) -> 750.55
A40: B | B40: Salário Educação | I40: 0.025 | J40: =ROUND($J$26*I40,2) -> 93.82
A41: C | B41: RAT x FAP | E41: RAT = | F41: 0.03 | G41: FAP = | H41: 1 | I41: =ROUND((F41*H41),6) -> 0.03 | J41: =ROUND($J$26*I41,2) -> 112.58
A42: D | B42: SESC ou SESI | I42: 0.015 | J42: =ROUND($J$26*I42,2) -> 56.29
A43: E | B43: SENAC ou SENAI | I43: 0.01 | J43: =ROUND($J$26*I43,2) -> 37.53
A44: F | B44: SEBRAE | I44: 0.006 | J44: =ROUND($J$26*I44,2) -> 22.52
A45: G | B45: INCRA | I45: 0.002 | J45: =ROUND($J$26*I45,2) -> 7.51
...
