Workbook

Sheet Eletricista
A1: MANUTENÇÃO PREDIAL - Regime de Tributação: Lucro Real
A2: ANEXO I do TR do Pregão IFSul nº XX/2022 - CONTA VINCULADA Câmpus Pelotas - Visconde da Graça PLANILHA DE CUSTOS E FORMAÇÃO DE PREÇOS
A3: Nº do processo: | H3: 23341.000967.2021-69
A4: Licitação nº:
A5: Dia:
A6: DISCRIMINAÇÃO DOS SERVIÇOS (DADOS REFERENTES À CONTRATAÇÃO)
A7: A | B7: Data de apresentação da proposta (dia/mês/ano)
A8: B | B8: Município/UF | H8: Pelotas/RS
A9: C | B9: Ano do Acordo, Convenção ou Dissídio Coletivo | H9: RS000047/2020 - SINDUSCON
A10: D | B10: Número de meses de execução contratual | H10: 12
A12: 1. MÓDULOS Mão de obra Mão de obra vinculada à execução contratual
A14: Dados para composição dos custos referente à mão de obra
A15: 1 | B15: Tipo de Serviço (mesmo serviço com características distintas) | H15: Manutenção Predial
A16: 2 | B16: Classificação Brasileira de Ocupações (CBO) | H16: 7156-10
A17: 3 | B17: Salário Normativo da Categoria Profissional - para a jornada de 44 h/sem | H17: 1636.79
A18: 4 | B18: Categoria Profissional (vinculada à execução contratual) | H18: Eletricista
A19: 5 | B19: Data-Base da Categoria (dia/mês/ano) | H19: 1° de maio
A21: Módulo 1: Composição da Remuneração
A22: 1 | B22: Composição da Remuneração | H22: Percentual (R$) | J22: Valor (R$)
A23: A | B23: Salário-Base (valor para somente 1 Eletricista - 44h/semana) | J23: =H17 -> 1636.79
A24: B | B24: Adicional de Periculosidade | I24: 0.3 | J24: =ROUND(I24*J23,2) -> 491.04
A25: C | B25: Adicional Noturno
A26: D | B26: Adicional de Hora Noturna Reduzida
A27: E | B27: Adicional de Hora Extra no Feriado Trabalhado
A28: B | B28: Adicional de Insalubridade | I28: 0 | J28: =ROUND(I28*J23,2) -> 0
A29: Total | J29: =SUM(J23:J28) -> 2127.83
A31: Módulo 2 – Encargos e Benefícios Anuais, Mensais e Diários
A32: Submódulo 2.1 – 13º (décimo terceiro) Salário e Adicional de Férias
A33: 2.1 | B33: 13º (décimo terceiro) Salário e Adicional de Férias | J33: Valor (R$)
A34: A | B34: 13º (décimo terceiro) Salário Obrigatória a cotação de 8,33% sobre o valor do Módulo 1 – Composição da Remuneração, conforme Anexo XII da IN 5/17 | I34: 0.0833 | J34: =ROUND($J$29*I34,2) -> 177.25
A35: B | B35: Adicional de Férias Obrigatória a cotação de 3,025% sobre o valor do Módulo 1 – Composição da Remuneração, conforme Anexo XII da IN 5/17 (Férias + Adicional = 9,075% + 3,025% = 12,10%) | I35: 0.03025 | J35: =ROUND($J$29*I35,2) -> 64.37
A36: Total | J36: =SUM(J34+J35) -> 241.62
A37: C | B37: Incidência dos encargos do Submódulo 2.2 sobre o total do Submódulo 2.1 | J37: =ROUND(I50*J36,2) -> 88.92
A38: Total | J38: =J36+J37 -> 330.54
A40: Submódulo 2.2 - Encargos Previdenciários (GPS), Fundo de Garantia por Tempo de Serviço (FGTS) e outras contribuições
A41: 2.2 | B41: GPS, FGTS e outras contribuições | I41: Percentual (%) | J41: Valor (R$)
A42: A | B42: INSS | I42: 0.2 | J42: =ROUND($J$29*I42,2) -> 425.57
A43: B | B43: Salário Educação | I43: 0.025 | J43: =ROUND($J$29*I43,2) -> 53.2
A44: C | B44: RAT x FAP | E44: RAT = | F44: 0.03 | G44: FAP = | H44: 1 | I44: 0.03 | J44: =ROUND($J$29*I44,2) -> 63.83
A45: D | B45: SESC ou SESI | I45: 0.015 | J45: =ROUND($J$29*I45,2) -> 31.92
...

Sheet Eletricista Reitoria
A1: MANUTENÇÃO PREDIAL - Regime de Tributação: Lucro Real
A2: ANEXO I do TR do Pregão IFSul nº XX/2022 - CONTA VINCULADA Câmpus Pelotas - Visconde da Graça PLANILHA DE CUSTOS E FORMAÇÃO DE PREÇOS
A3: Nº do processo: | H3: 23341.000967.2021-69
A4: Licitação nº:
A5: Dia:
A6: DISCRIMINAÇÃO DOS SERVIÇOS (DADOS REFERENTES À CONTRATAÇÃO)
A7: A | B7: Data de apresentação da proposta (dia/mês/ano)
A8: B | B8: Município/UF | H8: Pelotas/RS
A9: C | B9: Ano do Acordo, Convenção ou Dissídio Coletivo | H9: RS000047/2020 - SINDUSCON
A10: D | B10: Número de meses de execução contratual | H10: 12
A12: 1. MÓDULOS Mão de obra Mão de obra vinculada à execução contratual
A14: Dados para composição dos custos referente à mão de obra
A15: 1 | B15: Tipo de Serviço (mesmo serviço com características distintas) | H15: Manutenção Predial
A16: 2 | B16: Classificação Brasileira de Ocupações (CBO) | H16: 7156-10
A17: 3 | B17: Salário Normativo da Categoria Profissional - para a jornada de 44 h/sem | H17: 1636.79
A18: 4 | B18: Categoria Profissional (vinculada à execução contratual) | H18: Eletricista
A19: 5 | B19: Data-Base da Categoria (dia/mês/ano) | H19: 1° de maio
A21: Módulo 1: Composição da Remuneração
A22: 1 | B22: Composição da Remuneração | H22: Percentual (R$) | J22: Valor (R$)
A23: A | B23: Salário-Base (valor para somente 1 Eletricista - 44h/semana) | J23: =H17 -> 1636.79
A24: B | B24: Adicional de Periculosidade | I24: 0.3 | J24: =ROUND(I24*J23,2) -> 491.04
A25: C | B25: Adicional Noturno
A26: D | B26: Adicional de Hora Noturna Reduzida
A27: E | B27: Adicional de Hora Extra no Feriado Trabalhado
A28: B | B28: Adicional de Insalubridade | I28: 0 | J28: =ROUND(I28*J23,2) -> 0
A29: Total | J29: =SUM(J23:J28) -> 2127.83
A31: Módulo 2 – Encargos e Benefícios Anuais, Mensais e Diários
A32: Submódulo 2.1 – 13º (décimo terceiro) Salário e Adicional de Férias
A33: 2.1 | B33: 13º (décimo terceiro) Salário e Adicional de Férias | J33: Valor (R$)
A34: A | B34: 13º (décimo terceiro) Salário Obrigatória a cotação de 8,33% sobre o valor do Módulo 1 – Composição da Remuneração, conforme Anexo XII da IN 5/17 | I34: 0.0833 | J34: =ROUND($J$29*I34,2) -> 177.25
A35: B | B35: Adicional de Férias Obrigatória a cotação de 3,025% sobre o valor do Módulo 1 – Composição da Remuneração, conforme Anexo XII da IN 5/17 (Férias + Adicional = 9,075% + 3,025% = 12,10%) | I35: 0.03025 | J35: =ROUND($J$29*I35,2) -> 64.37
A36: Total | J36: =SUM(J34+J35) -> 241.62
A37: C | B37: Incidência dos encargos do Submódulo 2.2 sobre o total do Submódulo 2.1 | J37: =ROUND(I50*J36,2) -> 88.92
A38: Total | J38: =J36+J37 -> 330.54
A40: Submódulo 2.2 - Encargos Previdenciários (GPS), Fundo de Garantia por Tempo de Serviço (FGTS) e outras contribuições
A41: 2.2 | B41: GPS, FGTS e outras contribuições | I41: Percentual (%) | J41: Valor (R$)
A42: A | B42: INSS | I42: 0.2 | J42: =ROUND($J$29*I42,2) -> 425.57
A43: B | B43: Salário Educação | I43: 0.025 | J43: =ROUND($J$29*I43,2) -> 53.2
A44: C | B44: RAT x FAP | E44: RAT = | F44: 0.03 | G44: FAP = | H44: 1 | I44: 0.03 | J44: =ROUND($J$29*I44,2) -> 63.83
A45: D | B45: SESC ou SESI | I45: 0.015 | J45: =ROUND($J$29*I45,2) -> 31.92
...

Sheet Pedreiro
A1: MANUTENÇÃO PREDIAL - Regime de Tributação: Lucro Real
A2: ANEXO I do TR do Pregão IFSul nº XX/2022 - CONTA VINCULADA Câmpus Pelotas - Visconde da Graça PLANILHA DE CUSTOS E FORMAÇÃO DE PREÇOS
A3: Nº do processo: | H3: 23341.000967.2021-69
A4: Licitação nº:
A5: Dia:
A6: DISCRIMINAÇÃO DOS SERVIÇOS (DADOS REFERENTES À CONTRATAÇÃO)
A7: A | B7: Data de apresentação da proposta (dia/mês/ano)
A8: B | B8: Município/UF | H8: Pelotas/RS
A9: C | B9: Ano do Acordo, Convenção ou Dissídio Coletivo | H9: RS000047/2020 - SINDUSCON
A10: D | B10: Número de meses de execução contratual | H10: 12
A12: 1. MÓDULOS Mão de obra Mão de obra vinculada à execução contratual
A14: Dados para composição dos custos referente à mão de obra
A15: 1 | B15: Tipo de Serviço (mesmo serviço com características distintas) | H15: Manutenção Predial
A16: 2 | B16: Classificação Brasileira de Ocupações (CBO) | H16: 7152-10
A17: 3 | B17: Salário Normativo da Categoria Profissional - para a jornada de 44 h/sem | H17: 1636.79
A18: 4 | B18: Categoria Profissional (vinculada à execução contratual) | H18: Pedreiro de Obras
A19: 5 | B19: Data-Base da Categoria (dia/mês/ano) | H19: 1° de maio
A21: Módulo 1: Composição da Remuneração
A22: 1 | B22: Composição da Remuneração | H22: Percentual (R$) | J22: Valor (R$)
A23: A | B23: Salário-Base (valor para somente 1 Pedreiro - 44h/semana) | J23: =H17 -> 1636.79
A24: B | B24: Adicional de Periculosidade | I24: 0 | J24: =ROUND(I24*J23,2) -> 0
A25: C | B25: Adicional Noturno
A26: D | B26: Adicional de Hora Noturna Reduzida
A27: E | B27: Adicional de Hora Extra no Feriado Trabalhado
A28: B | B28: Adicional de Insalubridade | I28: 0 | J28: =ROUND(I28*J23,2) -> 0
A29: Total | J29: =SUM(J23:J28) -> 1636.79
A31: Módulo 2 – Encargos e Benefícios Anuais, Mensais e Diários
A32: Submódulo 2.1 – 13º (décimo terceiro) Salário e Adicional de Férias
A33: 2.1 | B33: 13º (décimo terceiro) Salário e Adicional de Férias | J33: Valor (R$)
A34: A | B34: 13º (décimo terceiro) Salário Obrigatória a cotação de 8,33% sobre o valor do Módulo 1 – Composição da Remuneração, conforme Anexo XII da IN 5/17 | I34: 0.0833 | J34: =ROUND($J$29*I34,2) -> 136.34
A35: B | B35: Adicional de Férias Obrigatória a cotação de 3,025% sobre o valor do Módulo 1 – Composição da Remuneração, conforme Anexo XII da IN 5/17 (Férias + Adicional = 9,075% + 3,025% = 12,10%) | I35: 0.03025 | J35: =ROUND($J$29*I35,2) -> 49.51
A36: Total | J36: =SUM(J34+J35) -> 185.85
A37: C | B37: Incidência dos encargos do Submódulo 2.2 sobre o total do Submódulo 2.1 | J37: =ROUND(I50*J36,2) -> 68.39
A38: Total | J38: =J36+J37 -> 254.24
A40: Submódulo 2.2 - Encargos Previdenciários (GPS), Fundo de Garantia por Tempo de Serviço (FGTS) e outras contribuições
A41: 2.2 | B41: GPS, FGTS e outras contribuições | I41: Percentual (%) | J41: Valor (R$)
A42: A | B42: INSS | I42: 0.2 | J42: =ROUND($J$29*I42,2) -> 327.36
A43: B | B43: Salário Educação | I43: 0.025 | J43: =ROUND($J$29*I43,2) -> 40.92
A44: C | B44: RAT x FAP | E44: RAT = | F44: 0.03 | G44: FAP = | H44: 1 | I44: 0.03 | J44: =ROUND($J$29*I44,2) -> 49.1
A45: D | B45: SESC ou SESI | I45: 0.015 | J45: =ROUND($J$29*I45,2) -> 24.55
...

Sheet Pedreiro Reitoria
A1: MANUTENÇÃO PREDIAL - Regime de Tributação: Lucro Real
A2: ANEXO I do TR do Pregão IFSul nº XX/2022 - CONTA VINCULADA Câmpus Pelotas - Visconde da Graça PLANILHA DE CUSTOS E FORMAÇÃO DE PREÇOS
A3: Nº do processo: | H3: 23341.000967.2021-69
A4: Licitação nº:
A5: Dia:
A6: DISCRIMINAÇÃO DOS SERVIÇOS (DADOS REFERENTES À CONTRATAÇÃO)
A7: A | B7: Data de apresentação da proposta (dia/mês/ano)
A8: B | B8: Município/UF | H8: Pelotas/RS
A9: C | B9: Ano do Acordo, Convenção ou Dissídio Coletivo | H9: RS000047/2020 - SINDUSCON
A10: D | B10: Número de meses de execução contratual | H10: 12
A12: 1. MÓDULOS Mão de obra Mão de obra vinculada à execução contratual
A14: Dados para composição dos custos referente à mão de obra
A15: 1 | B15: Tipo de Serviço (mesmo serviço com características distintas) | H15: Manutenção Predial
A16: 2 | B16: Classificação Brasileira de Ocupações (CBO) | H16: 7152-10
A17: 3 | B17: Salário Normativo da Categoria Profissional - para a jornada de 44 h/sem | H17: 1636.79
A18: 4 | B18: Categoria Profissional (vinculada à execução contratual) | H18: Pedreiro de Obras
A19: 5 | B19: Data-Base da Categoria (dia/mês/ano) | H19: 1° de maio
A21: Módulo 1: Composição da Remuneração
A22: 1 | B22: Composição da Remuneração | H22: Percentual (R$) | J22: Valor (R$)
A23: A | B23: Salário-Base (valor para somente 1 Pedreiro - 44h/semana) | J23: =H17 -> 1636.79
A24: B | B24: Adicional de Periculosidade | I24: 0 | J24: =ROUND(I24*J23,2) -> 0
A25: C | B25: Adicional Noturno
A26: D | B26: Adicional de Hora Noturna Reduzida
A27: E | B27: Adicional de Hora Extra no Feriado Trabalhado
A28: B | B28: Adicional de Insalubridade | I28: 0 | J28: =ROUND(I28*J23,2) -> 0
A29: Total | J29: =SUM(J23:J28) -> 1636.79
A31: Módulo 2 – Encargos e Benefícios Anuais, Mensais e Diários
A32: Submódulo 2.1 – 13º (décimo terceiro) Salário e Adicional de Férias
A33: 2.1 | B33: 13º (décimo terceiro) Salário e Adicional de Férias | J33: Valor (R$)
A34: A | B34: 13º (décimo terceiro) Salário Obrigatória a cotação de 8,33% sobre o valor do Módulo 1 – Composição da Remuneração, conforme Anexo XII da IN 5/17 | I34: 0.0833 | J34: =ROUND($J$29*I34,2) -> 136.34
A35: B | B35: Adicional de Férias Obrigatória a cotação de 3,025% sobre o valor do Módulo 1 – Composição da Remuneração, conforme Anexo XII da IN 5/17 (Férias + Adicional = 9,075% + 3,025% = 12,10%) | I35: 0.03025 | J35: =ROUND($J$29*I35,2) -> 49.51
A36: Total | J36: =SUM(J34+J35) -> 185.85
A37: C | B37: Incidência dos encargos do Submódulo 2.2 sobre o total do Submódulo 2.1 | J37: =ROUND(I50*J36,2) -> 68.39
A38: Total | J38: =J36+J37 -> 254.24
A40: Submódulo 2.2 - Encargos Previdenciários (GPS), Fundo de Garantia por Tempo de Serviço (FGTS) e outras contribuições
A41: 2.2 | B41: GPS, FGTS e outras contribuições | I41: Percentual (%) | J41: Valor (R$)
A42: A | B42: INSS | I42: 0.2 | J42: =ROUND($J$29*I42,2) -> 327.36
A43: B | B43: Salário Educação | I43: 0.025 | J43: =ROUND($J$29*I43,2) -> 40.92
A44: C | B44: RAT x FAP | E44: RAT = | F44: 0.03 | G44: FAP = | H44: 1 | I44: 0.03 | J44: =ROUND($J$29*I44,2) -> 49.1
A45: D | B45: SESC ou SESI | I45: 0.015 | J45: =ROUND($J$29*I45,2) -> 24.55
...

Sheet Servente
A1: MANUTENÇÃO PREDIAL - Regime de Tributação: Lucro Real
A2: ANEXO I do TR do Pregão IFSul nº XX/2022 - CONTA VINCULADA Câmpus Pelotas - Visconde da Graça PLANILHA DE CUSTOS E FORMAÇÃO DE PREÇOS
A3: Nº do processo: | H3: 23341.000967.2021-69
A4: Licitação nº:
A5: Dia:
A6: DISCRIMINAÇÃO DOS SERVIÇOS (DADOS REFERENTES À CONTRATAÇÃO)
A7: A | B7: Data de apresentação da proposta (dia/mês/ano)
A8: B | B8: Município/UF | H8: Pelotas/RS
A9: C | B9: Ano do Acordo, Convenção ou Dissídio Coletivo | H9: RS000047/2020 - SINDUSCON
A10: D | B10: Número de meses de execução contratual | H10: 12
A12: 1. MÓDULOS Mão de obra Mão de obra vinculada à execução contratual
A14: Dados para composição dos custos referente à mão de obra
A15: 1 | B15: Tipo de Serviço (mesmo serviço com características distintas) | H15: Manutenção Predial
A16: 2 | B16: Classificação Brasileira de Ocupações (CBO) | H16: 7170-20
A17: 3 | B17: Salário Normativo da Categoria Profissional - para a jornada de 44 h/sem | H17: 1281.74
A18: 4 | B18: Categoria Profissional (vinculada à execução contratual) | H18: Servente de Obras
A19: 5 | B19: Data-Base da Categoria (dia/mês/ano) | H19: 1° de maio
A21: Módulo 1: Composição da Remuneração
A22: 1 | B22: Composição da Remuneração | H22: Percentual (R$) | J22: Valor (R$)
A23: A | B23: Salário-Base (valor para somente 1 Servente de Obras - 44h/semana) | J23: =H17 -> 1281.74
A24: B | B24: Adicional de Periculosidade | I24: 0 | J24: =ROUND(I24*J23,2) -> 0
A25: C | B25: Adicional Noturno
A26: D | B26: Adicional de Hora Noturna Reduzida
A27: E | B27: Adicional de Hora Extra no Feriado Trabalhado
A28: B | B28: Adicional de Insalubridade | I28: 0 | J28: =ROUND(I28*J23,2) -> 0
A29: Total | J29: =SUM(J23:J28) -> 1281.74
A31: Módulo 2 – Encargos e Benefícios Anuais, Mensais e Diários
A32: Submódulo 2.1 – 13º (décimo terceiro) Salário e Adicional de Férias
A33: 2.1 | B33: 13º (décimo terceiro) Salário e Adicional de Férias | J33: Valor (R$)
A34: A | B34: 13º (décimo terceiro) Salário Obrigatória a cotação de 8,33% sobre o valor do Módulo 1 – Composição da Remuneração, conforme Anexo XII da IN 5/17 | I34: 0.0833 | J34: =ROUND($J$29*I34,2) -> 106.77
A35: B | B35: Adicional de Férias Obrigatória a cotação de 3,025% sobre o valor do Módulo 1 – Composição da Remuneração, conforme Anexo XII da IN 5/17 (Férias + Adicional = 9,075% + 3,025% = 12,10%) | I35: 0.03025 | J35: =ROUND($J$29*I35,2) -> 38.77
A36: Total | J36: =SUM(J34+J35) -> 145.54
A37: C | B37: Incidência dos encargos do Submódulo 2.2 sobre o total do Submódulo 2.1 | J37: =ROUND(I50*J36,2) -> 53.56
A38: Total | J38: =J36+J37 -> 199.1
A40: Submódulo 2.2 - Encargos Previdenciários (GPS), Fundo de Garantia por Tempo de Serviço (FGTS) e outras contribuições
A41: 2.2 | B41: GPS, FGTS e outras contribuições | I41: Percentual (%) | J41: Valor (R$)
A42: A | B42: INSS | I42: 0.2 | J42: =ROUND($J$29*I42,2) -> 256.35
A43: B | B43: Salário Educação | I43: 0.025 | J43: =ROUND($J$29*I43,2) -> 32.04
A44: C | B44: RAT x FAP | E44: RAT = | F44: 0.03 | G44: FAP = | H44: 1 | I44: 0.03 | J44: =ROUND($J$29*I44,2) -> 38.45
A45: D | B45: SESC ou SESI | I45: 0.015 | J45: =ROUND($J$29*I45,2) -> 19.23
...

Sheet Pintor
A1: MANUTENÇÃO PREDIAL - Regime de Tributação: Lucro Real
A2: ANEXO I do TR do Pregão IFSul nº XX/2022 - CONTA VINCULADA Câmpus Pelotas - Visconde da Graça PLANILHA DE CUSTOS E FORMAÇÃO DE PREÇOS
A3: Nº do processo: | H3: 23341.000967.2021-69
A4: Licitação nº:
A5: Dia:
A6: DISCRIMINAÇÃO DOS SERVIÇOS (DADOS REFERENTES À CONTRATAÇÃO)
A7: A | B7: Data de apresentação da proposta (dia/mês/ano)
A8: B | B8: Município/UF | H8: Pelotas/RS
A9: C | B9: Ano do Acordo, Convenção ou Dissídio Coletivo | H9: RS000047/2020 - SINDUSCON
A10: D | B10: Número de meses de execução contratual | H10: 12
A12: 1. MÓDULOS Mão de obra Mão de obra vinculada à execução contratual
A14: Dados para composição dos custos referente à mão de obra
A15: 1 | B15: Tipo de Serviço (mesmo serviço com características distintas) | H15: Manutenção Predial
A16: 2 | B16: Classificação Brasileira de Ocupações (CBO) | H16: 7166-10
A17: 3 | B17: Salário Normativo da Categoria Profissional - para a jornada de 44 h/sem | H17: 1636.79
A18: 4 | B18: Categoria Profissional (vinculada à execução contratual) | H18: Pintor de Obras
A19: 5 | B19: Data-Base da Categoria (dia/mês/ano) | H19: 1° de maio
A21: Módulo 1: Composição da Remuneração
A22: 1 | B22: Composição da Remuneração | H22: Percentual (R$) | J22: Valor (R$)
A23: A | B23: Salário-Base (valor para somente 1 Pintor - 44h/semana) | J23: =H17 -> 1636.79
A24: B | B24: Adicional de Periculosidade | I24: 0 | J24: =ROUND(I24*J23,2) -> 0
A25: C | B25: Adicional Noturno
A26: D | B26: Adicional de Hora Noturna Reduzida
A27: E | B27: Adicional de Hora Extra no Feriado Trabalhado
A28: B | B28: Adicional de Insalubridade | I28: 0 | J28: =ROUND(I28*J23,2) -> 0
A29: Total | J29: =SUM(J23:J28) -> 1636.79
A31: Módulo 2 – Encargos e Benefícios Anuais, Mensais e Diários
A32: Submódulo 2.1 – 13º (décimo terceiro) Salário e Adicional de Férias
A33: 2.1 | B33: 13º (décimo terceiro) Salário e Adicional de Férias | J33: Valor (R$)
A34: A | B34: 13º (décimo terceiro) Salário Obrigatória a cotação de 8,33% sobre o valor do Módulo 1 – Composição da Remuneração, conforme Anexo XII da IN 5/17 | I34: 0.0833 | J34: =ROUND($J$29*I34,2) -> 136.34
A35: B | B35: Adicional de Férias Obrigatória a cotação de 3,025% sobre o valor do Módulo 1 – Composição da Remuneração, conforme Anexo XII da IN 5/17 (Férias + Adicional = 9,075% + 3,025% = 12,10%) | I35: 0.03025 | J35: =ROUND($J$29*I35,2) -> 49.51
A36: Total | J36: =SUM(J34+J35) -> 185.85
A37: C | B37: Incidência dos encargos do Submódulo 2.2 sobre o total do Submódulo 2.1 | J37: =ROUND(I50*J36,2) -> 68.39
A38: Total | J38: =J36+J37 -> 254.24
A40: Submódulo 2.2 - Encargos Previdenciários (GPS), Fundo de Garantia por Tempo de Serviço (FGTS) e outras contribuições
A41: 2.2 | B41: GPS, FGTS e outras contribuições | I41: Percentual (%) | J41: Valor (R$)
A42: A | B42: INSS | I42: 0.2 | J42: =ROUND($J$29*I42,2) -> 327.36
A43: B | B43: Salário Educação | I43: 0.025 | J43: =ROUND($J$29*I43,2) -> 40.92
A44: C | B44: RAT x FAP | E44: RAT = | F44: 0.03 | G44: FAP = | H44: 1 | I44: 0.03 | J44: =ROUND($J$29*I44,2) -> 49.1
A45: D | B45: SESC ou SESI | I45: 0.015 | J45: =ROUND($J$29*I45,2) -> 24.55
...

Sheet Serralheiro
A1: MANUTENÇÃO PREDIAL - Regime de Tributação: Lucro Real
A2: ANEXO I do TR do Pregão IFSul nº XX/2022 - CONTA VINCULADA Câmpus Pelotas - Visconde da Graça PLANILHA DE CUSTOS E FORMAÇÃO DE PREÇOS
A3: Nº do processo: | H3: 23341.000967.2021-69
A4: Licitação nº:
A5: Dia:
A6: DISCRIMINAÇÃO DOS SERVIÇOS (DADOS REFERENTES À CONTRATAÇÃO)
A7: A | B7: Data de apresentação da proposta (dia/mês/ano)
A8: B | B8: Município/UF | H8: Pelotas/RS
A9: C | B9: Ano do Acordo, Convenção ou Dissídio Coletivo | H9: RS000047/2020 - SINDUSCON
A10: D | B10: Número de meses de execução contratual | H10: 12
A12: 1. MÓDULOS Mão de obra Mão de obra vinculada à execução contratual
A14: Dados para composição dos custos referente à mão de obra
A15: 1 | B15: Tipo de Serviço (mesmo serviço com características distintas) | H15: Manutenção Predial
A16: 2 | B16: Classificação Brasileira de Ocupações (CBO) | H16: 7244-40
A17: 3 | B17: Salário Normativo da Categoria Profissional - para a jornada de 44 h/sem | H17: 1636.79
A18: 4 | B18: Categoria Profissional (vinculada à execução contratual) | H18: Serralheiro
A19: 5 | B19: Data-Base da Categoria (dia/mês/ano) | H19: 1° de maio
A21: Módulo 1: Composição da Remuneração
A22: 1 | B22: Composição da Remuneração | H22: Percentual (R$) | J22: Valor (R$)
A23: A | B23: Salário-Base (valor para somente 1 Serralheiro - 44h/semana) | J23: 1636.79
A24: B | B24: Adicional de Periculosidade | I24: 0 | J24: =ROUND(I24*J23,2) -> 0
A25: C | B25: Adicional Noturno
A26: D | B26: Adicional de Hora Noturna Reduzida
A27: E | B27: Adicional de Hora Extra no Feriado Trabalhado
A28: B | B28: Adicional de Insalubridade | I28: 0 | J28: =ROUND(I28*J23,2) -> 0
A29: Total | J29: =SUM(J23:J28) -> 1636.79
A31: Módulo 2 – Encargos e Benefícios Anuais, Mensais e Diários
A32: Submódulo 2.1 – 13º (décimo terceiro) Salário e Adicional de Férias
A33: 2.1 | B33: 13º (décimo terceiro) Salário e Adicional de Férias | J33: Valor (R$)
A34: A | B34: 13º (décimo terceiro) Salário Obrigatória a cotação de 8,33% sobre o valor do Módulo 1 – Composição da Remuneração, conforme Anexo XII da IN 5/17 | I34: 0.0833 | J34: =ROUND($J$29*I34,2) -> 136.34
A35: B | B35: Adicional de Férias Obrigatória a cotação de 3,025% sobre o valor do Módulo 1 – Composição da Remuneração, conforme Anexo XII da IN 5/17 (Férias + Adicional = 9,075% + 3,025% = 12,10%) | I35: 0.03025 | J35: =ROUND($J$29*I35,2) -> 49.51
A36: Total | J36: =SUM(J34+J35) -> 185.85
A37: C | B37: Incidência dos encargos do Submódulo 2.2 sobre o total do Submódulo 2.1 | J37: =ROUND(I50*J36,2) -> 68.39
A38: Total | J38: =J36+J37 -> 254.24
A40: Submódulo 2.2 - Encargos Previdenciários (GPS), Fundo de Garantia por Tempo de Serviço (FGTS) e outras contribuições
A41: 2.2 | B41: GPS, FGTS e outras contribuições | I41: Percentual (%) | J41: Valor (R$)
A42: A | B42: INSS | I42: 0.2 | J42: =ROUND($J$29*I42,2) -> 327.36
A43: B | B43: Salário Educação | I43: 0.025 | J43: =ROUND($J$29*I43,2) -> 40.92
A44: C | B44: RAT x FAP | E44: RAT = | F44: 0.03 | G44: FAP = | H44: 1 | I44: 0.03 | J44: =ROUND($J$29*I44,2) -> 49.1
A45: D | B45: SESC ou SESI | I45: 0.015 | J45: =ROUND($J$29*I45,2) -> 24.55
...

Sheet Marceneiro
A1: MANUTENÇÃO PREDIAL - Regime de Tributação: Lucro Real
A2: ANEXO I do TR do Pregão IFSul nº XX/2022 - CONTA VINCULADA Câmpus Pelotas - Visconde da Graça PLANILHA DE CUSTOS E FORMAÇÃO DE PREÇOS
A3: Nº do processo: | H3: 23341.000967.2021-69
A4: Licitação nº:
A5: Dia:
A6: DISCRIMINAÇÃO DOS SERVIÇOS (DADOS REFERENTES À CONTRATAÇÃO)
A7: A | B7: Data de apresentação da proposta (dia/mês/ano)
A8: B | B8: Município/UF | H8: Pelotas/RS
A9: C | B9: Ano do Acordo, Convenção ou Dissídio Coletivo | H9: RS000047/2020 - SINDUSCON
A10: D | B10: Número de meses de execução contratual | H10: 12
A12: 1. MÓDULOS Mão de obra Mão de obra vinculada à execução contratual
A14: Dados para composição dos custos referente à mão de obra
A15: 1 | B15: Tipo de Serviço (mesmo serviço com características distintas) | H15: Manutenção Predial
A16: 2 | B16: Classificação Brasileira de Ocupações (CBO) | H16: 7711-05
A17: 3 | B17: Salário Normativo da Categoria Profissional - para a jornada de 44 h/sem | H17: 1636.79
A18: 4 | B18: Categoria Profissional (vinculada à execução contratual) | H18: Marceneiro
A19: 5 | B19: Data-Base da Categoria (dia/mês/ano) | H19: 1° de maio
A21: Módulo 1: Composição da Remuneração
A22: 1 | B22: Composição da Remuneração | H22: Percentual (R$) | J22: Valor (R$)
A23: A | B23: Salário-Base (valor para somente 1 Marceneiro - 44h/semana) | J23: =H17 -> 1636.79
A24: B | B24: Adicional de Periculosidade | I24: 0 | J24: =ROUND(I24*J23,2) -> 0
A25: C | B25: Adicional Noturno
A26: D | B26: Adicional de Hora Noturna Reduzida
A27: E | B27: Adicional de Hora Extra no Feriado Trabalhado
A28: B | B28: Adicional de Insalubridade | I28: 0 | J28: =ROUND(I28*J23,2) -> 0
A29: Total | J29: =SUM(J23:J28) -> 1636.79
A31: Módulo 2 – Encargos e Benefícios Anuais, Mensais e Diários
A32: Submódulo 2.1 – 13º (décimo terceiro) Salário e Adicional de Férias
A33: 2.1 | B33: 13º (décimo terceiro) Salário e Adicional de Férias | J33: Valor (R$)
A34: A | B34: 13º (décimo terceiro) Salário Obrigatória a cotação de 8,33% sobre o valor do Módulo 1 – Composição da Remuneração, conforme Anexo XII da IN 5/17 | I34: 0.0833 | J34: =ROUND($J$29*I34,2) -> 136.34
A35: B | B35: Adicional de Férias Obrigatória a cotação de 3,025% sobre o valor do Módulo 1 – Composição da Remuneração, conforme Anexo XII da IN 5/17 (Férias + Adicional = 9,075% + 3,025% = 12,10%) | I35: 0.03025 | J35: =ROUND($J$29*I35,2) -> 49.51
A36: Total | J36: =SUM(J34+J35) -> 185.85
A37: C | B37: Incidência dos encargos do Submódulo 2.2 sobre o total do Submódulo 2.1 | J37: =ROUND(I50*J36,2) -> 68.39
A38: Total | J38: =J36+J37 -> 254.24
A40: Submódulo 2.2 - Encargos Previdenciários (GPS), Fundo de Garantia por Tempo de Serviço (FGTS) e outras contribuições
A41: 2.2 | B41: GPS, FGTS e outras contribuições | I41: Percentual (%) | J41: Valor (R$)
A42: A | B42: INSS | I42: 0.2 | J42: =ROUND($J$29*I42,2) -> 327.36
A43: B | B43: Salário Educação | I43: 0.025 | J43: =ROUND($J$29*I43,2) -> 40.92
A44: C | B44: RAT x FAP | E44: RAT = | F44: 0.03 | G44: FAP = | H44: 1 | I44: 0.03 | J44: =ROUND($J$29*I44,2) -> 49.1
A45: D | B45: SESC ou SESI | I45: 0.015 | J45: =ROUND($J$29*I45,2) -> 24.55
...

Sheet Aux. Manut. Predial
A1: MANUTENÇÃO PREDIAL - Regime de Tributação: Lucro Real
A2: ANEXO I do TR do Pregão IFSul nº XX/2022 - CONTA VINCULADA Câmpus Pelotas - Visconde da Graça PLANILHA DE CUSTOS E FORMAÇÃO DE PREÇOS
A3: Nº do processo: | H3: 23341.000967.2021-69
A4: Licitação nº:
A5: Dia:
A6: DISCRIMINAÇÃO DOS SERVIÇOS (DADOS REFERENTES À CONTRATAÇÃO)
A7: A | B7: Data de apresentação da proposta (dia/mês/ano)
A8: B | B8: Município/UF | H8: Pelotas/RS
A9: C | B9: Ano do Acordo, Convenção ou Dissídio Coletivo | H9: RS000047/2020 - SINDUSCON
A10: D | B10: Número de meses de execução contratual | H10: 12
A12: 1. MÓDULOS Mão de obra Mão de obra vinculada à execução contratual
A14: Dados para composição dos custos referente à mão de obra
A15: 1 | B15: Tipo de Serviço (mesmo serviço com características distintas) | H15: Manutenção Predial
A16: 2 | B16: Classificação Brasileira de Ocupações (CBO) | H16: 5143-10
A17: 3 | B17: Salário Normativo da Categoria Profissional - para a jornada de 44 h/sem | H17: 1281.74
A18: 4 | B18: Categoria Profissional (vinculada à execução contratual) | H18: Auxiliar de Manutenção Predial
A19: 5 | B19: Data-Base da Categoria (dia/mês/ano) | H19: 1° de maio
A21: Módulo 1: Composição da Remuneração
A22: 1 | B22: Composição da Remuneração | H22: Percentual (R$) | J22: Valor (R$)
A23: A | B23: Salário-Base (valor para somente 1 Aux. de Manutenção Predial - 44h/semana) | J23: =H17 -> 1281.74
A24: B | B24: Adicional de Periculosidade | I24: 0 | J24: =ROUND(I24*J23,2) -> 0
A25: C | B25: Adicional Noturno
A26: D | B26: Adicional de Hora Noturna Reduzida
A27: E | B27: Adicional de Hora Extra no Feriado Trabalhado
A28: B | B28: Adicional de Insalubridade | I28: 0 | J28: =ROUND(I28*J23,2) -> 0
A29: Total | J29: =SUM(J23:J28) -> 1281.74
A31: Módulo 2 – Encargos e Benefícios Anuais, Mensais e Diários
A32: Submódulo 2.1 – 13º (décimo terceiro) Salário e Adicional de Férias
A33: 2.1 | B33: 13º (décimo terceiro) Salário e Adicional de Férias | J33: Valor (R$)
A34: A | B34: 13º (décimo terceiro) Salário Obrigatória a cotação de 8,33% sobre o valor do Módulo 1 – Composição da Remuneração, conforme Anexo XII da IN 5/17 | I34: 0.0833 | J34: =ROUND($J$29*I34,2) -> 106.77
A35: B | B35: Adicional de Férias Obrigatória a cotação de 3,025% sobre o valor do Módulo 1 – Composição da Remuneração, conforme Anexo XII da IN 5/17 (Férias + Adicional = 9,075% + 3,025% = 12,10%) | I35: 0.03025 | J35: =ROUND($J$29*I35,2) -> 38.77
A36: Total | J36: =SUM(J34+J35) -> 145.54
A37: C | B37: Incidência dos encargos do Submódulo 2.2 sobre o total do Submódulo 2.1 | J37: =ROUND(I50*J36,2) -> 53.56
A38: Total | J38: =J36+J37 -> 199.1
A40: Submódulo 2.2 - Encargos Previdenciários (GPS), Fundo de Garantia por Tempo de Serviço (FGTS) e outras contribuições
A41: 2.2 | B41: GPS, FGTS e outras contribuições | I41: Percentual (%) | J41: Valor (R$)
A42: A | B42: INSS | I42: 0.2 | J42: =ROUND($J$29*I42,2) -> 256.35
A43: B | B43: Salário Educação | I43: 0.025 | J43: =ROUND($J$29*I43,2) -> 32.04
A44: C | B44: RAT x FAP | E44: RAT = | F44: 0.03 | G44: FAP = | H44: 1 | I44: 0.03 | J44: =ROUND($J$29*I44,2) -> 38.45
A45: D | B45: SESC ou SESI | I45: 0.015 | J45: =ROUND($J$29*I45,2) -> 19.23
...

Sheet INSUMOS
A1: EQUIPAMENTOS | B1: Unidade | C1: Quantidade a disponibilizar | D1: Depreciação (em meses) | E1: Quantidade Anual | F1: Valor Unitário | G1: Custo Anual
A2: Ponto biométrico | B2: pç | C2: 1 | D2: 60 | E2: =12/D2*C2 -> 0.2 | F2: 1265 | G2: =E2*F2 -> 253
A3: CUSTO ANUAL DOS EQUIPAMENTOS | G3: =SUM(G2:G2) -> 253
A4: CUSTO MENSAL DOS EQUIPAMENTOS | G4: =G3/12 -> 21.083333
A6: EPI's Eletricista | B6: Unidade | C6: Quantidade a disponibilizar | D6: Depreciação (em meses) | E6: Quantidade Anual | F6: Valor Unitário | G6: Custo Anual
A7: Botina de segurança com elástico lateral, confeccionado em couro lixado, CA 32.807. | B7: par | C7: 2 | D7: 6 | E7: =12/D7*C7 -> 4 | F7: 51.4 | G7: =E7*F7 -> 205.6
A8: Capa de chuva, fechamento com botões, com capuz, em pvc resistente. | B8: unidade | C8: 2 | D8: 6 | E8: =12/D8*C8 -> 4 | F8: 16.98 | G8: =E8*F8 -> 67.92
A9: Capacete de segurança, cor cinza, confeccionado em polietileno, espuma hipoalérgica, tipo boné (aba frontal) com carneira sem jugular CA 29.792. | B9: unidade | C9: 1 | D9: 12 | E9: =12/D9*C9 -> 1 | F9: 16.42 | G9: =E9*F9 -> 16.42
A10: Cinto de segurança, tipo paraquedista , confeccionado em fita de poliéster, ajuste peitoral e com almofada para proteção lombar, (com tabalarte), CA 35.520. | B10: unidade | C10: 1 | D10: 60 | E10: =12/D10*C10 -> 0.2 | F10: 124.78 | G10: =E10*F10 -> 24.956
A11: Luva de segurança, confeccionada em tecido de algodão e tricotada em 3 fios, palma com pigmentos antiderrapantes de PVC, punho com elástico CA 34.491. | B11: par | C11: 2 | D11: 6 | E11: =12/D11*C11 -> 4 | F11: 3.53 | G11: =E11*F11 -> 14.12
A12: Luva de segurança, tipo vaqueta cano curto, com reforço, confeccionada em vaqueta natural, e elástico no dorso, CA 30.837 . | B12: par | C12: 2 | D12: 6 | E12: =12/D12*C12 -> 4 | F12: 11.57 | G12: =E12*F12 -> 46.28
A13: Luva de segurança, tipo vaqueta cano longo com reforço, confeccionada em vaqueta natural, e elástico no dorso, CA 30.837 . | B13: par | C13: 2 | D13: 6 | E13: =12/D13*C13 -> 4 | F13: 11.57 | G13: =E13*F13 -> 46.28
A14: Máscara de proteção, tipo Pff2 P2, sem válvula, confeccionada em tecido, CA 38.510. | B14: unidade | C14: 6 | D14: 6 | E14: =12/D14*C14 -> 12 | F14: 2.05 | G14: =E14*F14 -> 24.6
A15: Óculos de proteção, lente incolor, confeccionado em policarbonato óptico, armação em nylon e haste com comprimento regulável, CA 10.346. | B15: unidade | C15: 2 | D15: 6 | E15: =12/D15*C15 -> 4 | F15: 3.61 | G15: =E15*F15 -> 14.44
A16: Protetor auricular tipo plug, de silicone, composto de 3 flanges, com cordão de algodão; CA 29847. | B16: par | C16: 2 | D16: 6 | E16: =12/D16*C16 -> 4 | F16: 1.15 | G16: =E16*F16 -> 4.6
A17: Protetor Solar Fator 30, bisnaga 120 ml. | B17: unidade | C17: 2 | D17: 12 | E17: =12/D17*C17 -> 2 | F17: 7.32 | G17: =E17*F17 -> 14.64
A18: CUSTO ANUAL DOS EPI's PARA 1 ELETRICISTA | G18: =SUM(G7:G17) -> 479.856
A19: CUSTO MENSAL DOS EPI's 1 ELETRICISTA | G19: =G18/12 -> 39.988
A21: UNIFORMES - Eletricista | B21: Unidade | C21: Quantidade Anual | D21: Valor Unitário | E21: Custo Anual
A22: Blusa de Moletom com nome e logotipo da empresa, fechada, malha flanelada, composição 100% algodão, cor escura, decote redondo, com punho e barras em ribana profissional | B22: unidade | C22: 2 | D22: 42.61 | E22: =C22*D22 -> 85.22
A23: Calça e Camisa (Jaleco) Manga Longa NR-10 Anti chama – ATPV 11 Cal/cm2 com C.A; | B23: unidade | C23: 6 | D23: 290.2 | E23: =C23*D23 -> 1741.2
A24: Camiseta de algodão manga curta com logotipo da empresa | B24: unidade | C24: 4 | D24: 10.24 | E24: =C24*D24 -> 40.96
A25: Camiseta de algodão manga longa com logotipo da empresa | B25: unidade | C25: 4 | D25: 10.86 | E25: =C25*D25 -> 43.44
A26: Jaqueta (malha não colegial) escura e firme em nylon com forração de manta têxtil e tecido 100% poliéster, com gola normal, bolsos laterais e fechamento com zíper, com logotipo e nome da CONTRATADA; | B26: unidade | C26: 1 | D26: 130.96 | E26: =C26*D26 -> 130.96
A27: CUSTO ANUAL DOS UNIFORMES PARA 1 ELETRICISTA | E27: =SUM(E22:E26) -> 2041.78
A28: CUSTO MENSAL DOS UNIFORMES PARA 1 ELETRICISTA | E28: =E27/12 -> 170.14833
A30: EPI's Pedreiro | B30: Unidade | C30: Quantidade a disponibilizar | D30: Depreciação (em meses) | E30: Quantidade Anual | F30: Valor Unitário | G30: Custo Anual
A31: Botina de segurança com elástico lateral, confeccionado em couro lixado, CA 32.807. | B31: par | C31: 2 | D31: 6 | E31: =12/D31*C31 -> 4 | F31: 51.4 | G31: =E31*F31 -> 205.6
A32: Capa de chuva, fechamento com botões, com capuz, em pvc resistente. | B32: unidade | C32: 2 | D32: 6 | E32: =12/D32*C32 -> 4 | F32: 16.98 | G32: =E32*F32 -> 67.92
A33: Capacete de segurança, cor cinza, confeccionado em polietileno, espuma hipoalérgica, tipo boné (aba frontal) com carneira sem jugular CA 29.792. | B33: unidade | C33: 1 | D33: 12 | E33: =12/D33*C33 -> 1 | F33: 16.42 | G33: =E33*F33 -> 16.42
A34: Cinto de segurança, tipo paraquedista , confeccionado em fita de poliéster, ajuste peitoral e com almofada para proteção lombar, (com tabalarte), CA 35.520. | B34: unidade | C34: 1 | D34: 60 | E34: =12/D34*C34 -> 0.2 | F34: 124.78 | G34: =E34*F34 -> 24.956
A35: Luva de segurança, confeccionada em tecido de algodão e tricotada em 3 fios, palma com pigmentos antiderrapantes de PVC, punho com elástico CA 34.491. | B35: par | C35: 2 | D35: 6 | E35: =12/D35*C35 -> 4 | F35: 3.53 | G35: =E35*F35 -> 14.12
A36: Luva de segurança, tipo vaqueta cano curto, com reforço, confeccionada em vaqueta natural, e elástico no dorso, CA 30.837 . | B36: par | C36: 2 | D36: 6 | E36: =12/D36*C36 -> 4 | F36: 11.57 | G36: =E36*F36 -> 46.28
A37: Luva de segurança, tipo vaqueta cano longo com reforço, confeccionada em vaqueta natural, e elástico no dorso, CA 30.837 . | B37: par | C37: 2 | D37: 6 | E37: =12/D37*C37 -> 4 | F37: 11.57 | G37: =E37*F37 -> 46.28
A38: Máscara de proteção, tipo Pff2 P2, sem válvula, confeccionada em tecido, CA 38.510. | B38: unidade | C38: 6 | D38: 6 | E38: =12/D38*C38 -> 12 | F38: 2.05 | G38: =E38*F38 -> 24.6
A39: Óculos de proteção, lente incolor, confeccionado em policarbonato óptico, armação em nylon e haste com comprimento regulável, CA 10.346. | B39: unidade | C39: 2 | D39: 6 | E39: =12/D39*C39 -> 4 | F39: 3.61 | G39: =E39*F39 -> 14.44
A40: Protetor auricular tipo plug, de silicone, composto de 3 flanges, com cordão de algodão; CA 29847. | B40: par | C40: 2 | D40: 6 | E40: =12/D40*C40 -> 4 | F40: 1.15 | G40: =E40*F40 -> 4.6
A41: Protetor Solar Fator 30, bisnaga 120 ml. | B41: unidade | C41: 2 | D41: 12 | E41: =12/D41*C41 -> 2 | F41: 7.32 | G41: =E41*F41 -> 14.64
A42: CUSTO ANUAL DOS EPI's PARA 1 PEDREIRO | G42: =SUM(G31:G41) -> 479.856
A43: CUSTO MENSAL DOS EPI's 1 PEDREIRO | G43: =G42/12 -> 39.988
...

Sheet RESUMO
A4: QUADRO-RESUMO DOS SERVIÇOS - Regime de Tributação: Lucro Real
A5: ANEXO I do TR do Pregão IFSul nº XX/2022 - CONTA VINCULADA Câmpus Pelotas - Visconde da Graça PLANILHA DE CUSTOS E FORMAÇÃO DE PREÇOS
A6: Nº do processo: | F6: 23341.000967.2021-69
A7: Licitação nº:
A8: Dia:
A9: DISCRIMINAÇÃO DOS SERVIÇOS (DADOS REFERENTES À CONTRATAÇÃO)
A10: A | B10: Data de apresentação da proposta (dia/mês/ano)
A11: B | B11: Município/UF | F11: Pelotas/RS
A12: C | B12: Ano do Acordo, Convenção ou Dissídio Coletivo | F12: RS000047/2020 - SINDUSCON;
A13: D | B13: Número de meses de execução contratual | F13: 12
A14: VALOR MENSAL DOS SERVIÇOS
B15: Tipo de serviço (A) | C15: Valor Proposto por Empregado (B) | D15: Qtde. de Empregados por Posto (C) | E15: Valor Proposto por Posto (D) = (B x C) | F15: Qtde. de Postos (E) | G15: Valor Total do Serviço (F) = (D x E) | I15: Global
A16: I | B16: Eletricista | C16: =Eletricista!J148 -> 5141.1317 | D16: 1 | E16: =C16*D16 -> 5141.1317 | F16: 2 | G16: =PRODUCT(E16:F16) -> 10282.263 | I16: =PRODUCT(G16:H16)*12 -> 123387.16
A17: II | B17: Pedreiro | C17: =Pedreiro!J148 -> 3891.9002 | D17: 1 | E17: =C17*D17 -> 3891.9002 | F17: 1 | G17: =PRODUCT(E17:F17) -> 3891.9002 | I17: =PRODUCT(G17:H17)*12 -> 46702.802
A18: III | B18: Eletricista Reitoria | C18: =Eletricista!J148 -> 5141.1317 | D18: 1 | E18: =C18*D18 -> 5141.1317 | F18: 1 | G18: =PRODUCT(E18:F18) -> 5141.1317 | I18: =PRODUCT(G18:H18)*12 -> 61693.58
A19: IV | B19: Pedreiro Reitoria | C19: =Pedreiro!J148 -> 3891.9002 | D19: 1 | E19: =C19*D19 -> 3891.9002 | F19: 1 | G19: =PRODUCT(E19:F19) -> 3891.9002 | I19: =PRODUCT(G19:H19)*12 -> 46702.802
A20: V | B20: Servente | C20: =Servente!J148 -> 3133.3968 | D20: 1 | E20: =C20*D20 -> 3133.3968 | F20: 1 | G20: =PRODUCT(E20:F20) -> 3133.3968 | I20: =PRODUCT(G20:H20)*12 -> 37600.761
A21: VI | B21: Pintor | C21: =Pintor!J148 -> 3887.0535 | D21: 1 | E21: =C21*D21 -> 3887.0535 | F21: 1 | G21: =PRODUCT(E21:F21) -> 3887.0535 | I21: =PRODUCT(G21:H21)*12 -> 46644.642
A22: VII | B22: Marceneiro | C22: =Marceneiro!J148 -> 3898.5935 | D22: 1 | E22: =C22*D22 -> 3898.5935 | F22: 1 | G22: =PRODUCT(E22:F22) -> 3898.5935 | I22: =PRODUCT(G22:H22)*12 -> 46783.122
A23: VIII | B23: Serralheiro | C23: =Serralheiro!J148 -> 3905.3447 | D23: 1 | E23: =C23*D23 -> 3905.3447 | F23: 1 | G23: =PRODUCT(E23:F23) -> 3905.3447 | I23: =PRODUCT(G23:H23)*12 -> 46864.136
A24: IX | B24: Aux. Manut. Predial | C24: ='Aux. Manut. Predial'!J148 -> 3133.3968 | D24: 1 | E24: =C24*D24 -> 3133.3968 | F24: 1 | G24: =PRODUCT(E24:F24) -> 3133.3968 | I24: =PRODUCT(G24:H24)*12 -> 37600.761
A25: Valor Mensal dos Serviços | G25: =SUM(G16:G24) -> 41164.981 | I25: =SUM(I16:I24) -> 493979.77
A27: QUADRO DEMONSTRATIVO DO VALOR GLOBAL DA PROPOSTA
A28: A | B28: Valor mensal do serviço | G28: 41164.98
A29: B | B29: Número de meses do Contrato | G29: 12
A30: C | B30: Valor Global do Proposta (Valor mensal do serviço x nº de meses do contrato). | G30: =G25*12 -> 493979.77
