Workbook

Sheet Orçamento
A1: INCLUIR LOGOTIPO DA EMPRESA
A6: DADOS DA EMPRESA
A7: DADOS DA EMPRESA
A8: DADOS DA EMPRESA
A9: Planilha de Orçamento - GLOBAL
A11: Obra : CSA 001/2026 – Cobertura dos passeios - Câmpus Sapiranga | F11: Endereço: Rua Carlos Gilberto Weis, número 155, próximo ao Km 25 da Rodovia RS-239
A12: Cliente: Instituto Federal Sul-Rio-Grandense | F12: Cidade: Sapiranga - RS | J12: BDI = | K12: 0 | L12: 45609
A13: Item/Descrição | B13: Qtd. | C13: Un | D13: Mão-de-Obra | F13: Material | H13: Custo Unit. Total | I13: Custo Direto | J13: BDI | L13: Sub-Total do Item | M13: Total do Item
D14: Custo Unitário | E14: Custo Parcial | F14: Custo Unitário | G14: Custo Parcial | J14: Valor | K14: %
A16: 2. SERVIÇOS PRELIMINARES | M16: =SUM(L17:L34) -> 0
A17: 2. 5. INSTALAÇÕES DE CAINTEIRO DE OBRAS
A18: 2. 5. 1. BARRACÕES
A19: .1 TRANSPORTE CONTAINER (ENTREGA E RETIRADA) | B19: 2 | C19: UN | E19: =D19*B19 -> 0 | G19: =F19*B19 -> 0 | H19: =D19+F19 -> 0 | I19: =H19*B19 -> 0 | J19: =K19*I19 -> 0 | K19: =$K$12 -> 0 | L19: =J19+I19 -> 0
A20: .2 LOCACAO DE CONTAINER 2,30 X 6,00 M, ALT. 2,50 M, COM SANITARIO, PARA ESCRITORIO, SEM DIVISORIAS INTERNAS (NAO INCLUI MOBILIZACAO/DESMOBILIZACAO) | B20: 6 | C20: ME | E20: =D20*B20 -> 0 | G20: =F20*B20 -> 0 | H20: =D20+F20 -> 0 | I20: =H20*B20 -> 0 | J20: =K20*I20 -> 0 | K20: =$K$12 -> 0 | L20: =J20+I20 -> 0
A21: .3 LOCACAO DE CONTAINER 2,30 X 6,00 M, ALT. 2,50 M, PARA ESCRITORIO, SEM DIVISORIASINTERNAS E SEM SANITARIO (NAO INCLUI MOBILIZACAO/DESMOBILIZACAO) | B21: 6 | C21: ME | E21: =D21*B21 -> 0 | G21: =F21*B21 -> 0 | H21: =D21+F21 -> 0 | I21: =H21*B21 -> 0 | J21: =K21*I21 -> 0 | K21: =$K$12 -> 0 | L21: =J21+I21 -> 0
A22: 2. 6. TAPUMES | K22: =$K$12 -> 0
A23: 2.6.5 CONES DE SINALIZAÇÃO | K23: =$K$12 -> 0
A24: .1 SINALIZAÇÃO C/ FITA AMARELA/PRETA FIXADA EM CONE PLÁSTICOLAR | B24: 40 | C24: M | E24: =D24*B24 -> 0 | G24: =F24*B24 -> 0 | H24: =D24+F24 -> 0 | I24: =H24*B24 -> 0 | J24: =K24*I24 -> 0 | K24: =$K$12 -> 0 | L24: =J24+I24 -> 0
A25: .2 CONE DE SINALIZACAO EM PVC FLEXIVEL, H = 70 / 76 CM (NBR 15071) | B25: 6 | C25: UN | E25: =D25*B25 -> 0 | G25: =F25*B25 -> 0 | H25: =D25+F25 -> 0 | I25: =H25*B25 -> 0 | J25: =K25*I25 -> 0 | K25: =$K$12 -> 0 | L25: =J25+I25 -> 0
A26: 2. 7. PLACA DE IDENTIFICAÇÃO DA OBRA | K26: =$K$12 -> 0
A27: .1 PLACA DE OBRA INSTALADA (lona night n´day, em estrutura de madeira) | B27: 2.03 | C27: M2 | E27: =D27*B27 -> 0 | G27: =F27*B27 -> 0 | H27: =D27+F27 -> 0 | I27: =H27*B27 -> 0 | J27: =K27*I27 -> 0 | K27: =$K$12 -> 0 | L27: =J27+I27 -> 0
A28: 2. 8. DEMOLIÇÕES E REMOÇÕES | K28: =$K$12 -> 0
A29: 2. 8. 3. REMOÇÃO DE ESQUADRIAS DE ALUMÍNIO
A30: .1 RETIRADA DE ESQUADRIAS | B30: 39.6 | C30: M2 | E30: =D30*B30 -> 0 | G30: =F30*B30 -> 0 | H30: =D30+F30 -> 0 | I30: =H30*B30 -> 0 | J30: =K30*I30 -> 0 | K30: =$K$12 -> 0 | L30: =J30+I30 -> 0
A31: 2. 8.14. DEMOLIÇÃO DE CONTRAPISO | K31: =$K$12 -> 0
A32: .1 DEMOLICAO CONTRAPISO CONCRETO SIMPLES 8CM | B32: 15 | C32: M2 | E32: =D32*B32 -> 0 | G32: =F32*B32 -> 0 | H32: =D32+F32 -> 0 | I32: =H32*B32 -> 0 | J32: =K32*I32 -> 0 | K32: =$K$12 -> 0 | L32: =J32+I32 -> 0
A33: 2. 8.43. REMOÇÃO DE PLACAS PRÉ MOLDADAS DE CONCRETO | K33: =$K$12 -> 0
A34: .1 REMOÇÃO DE PLACAS DE CONCRETO PRÉ-MOLDADAS | B34: 10 | C34: M2 | E34: =D34*B34 -> 0 | G34: =F34*B34 -> 0 | H34: =D34+F34 -> 0 | I34: =H34*B34 -> 0 | J34: =K34*I34 -> 0 | K34: =$K$12 -> 0 | L34: =J34+I34 -> 0
A35: 3. MOVIMENTOS DE TERRA | M35: =SUM(L36:L40) -> 0
A36: 3. 1. ESCAVAÇÕES | K36: =$K$12 -> 0
A37: .1 ESCAVACAO MANUAL DE SOLO DE 1A. ATE 1,50M | B37: 12 | C37: M3 | E37: =D37*B37 -> 0 | G37: =F37*B37 -> 0 | H37: =D37+F37 -> 0 | I37: =H37*B37 -> 0 | J37: =K37*I37 -> 0 | K37: =$K$12 -> 0 | L37: =J37+I37 -> 0
A38: 3. 2. ATERROS | K38: =$K$12 -> 0
A39: 3. 2. 1. NIVELAMENTO E COMPACTAÇÃO DO TERRENO | K39: =$K$12 -> 0
A40: .1 REATERRO / MATERIAL DA VALA-COMPACTACAO MECANICA | B40: 12 | C40: M3 | E40: =D40*B40 -> 0 | G40: =F40*B40 -> 0 | H40: =D40+F40 -> 0 | I40: =H40*B40 -> 0 | J40: =K40*I40 -> 0 | K40: =$K$12 -> 0 | L40: =J40+I40 -> 0
A41: 4. FUNDAÇÕES | M41: =SUM(L42:L51) -> 0
A42: 4. 1. ESTACAS
A43: 4. 1.2. MICROESTACA
A44: .1 ESTACA A TRADO (BROCA) DIAMETRO 30CM EM CONCRETO ARMADO MOLDADA IN-LOCO, 20MPA | B44: 30 | C44: M | E44: =D44*B44 -> 0 | G44: =F44*B44 -> 0 | H44: =D44+F44 -> 0 | I44: =H44*B44 -> 0 | J44: =K44*I44 -> 0 | K44: =$K$12 -> 0 | L44: =J44+I44 -> 0
A45: 4.3 VIGA BALDRAME
A46: .1 FUNDACAO RASA-BLOCO GRES 50X25X12 P/FIADA CI-AR1:6 | B46: 39 | C46: M | E46: =D46*B46 -> 0 | G46: =F46*B46 -> 0 | H46: =D46+F46 -> 0 | I46: =H46*B46 -> 0 | J46: =K46*I46 -> 0 | K46: =$K$12 -> 0 | L46: =J46+I46 -> 0
...

Sheet Cronograma
A1: INCLUIR LOGOTIPO DA EMPRESA
A6: DADOS DA EMPRESA
A7: DADOS DA EMPRESA
A8: DADOS DA EMPRESA
A10: Obra: CSA 001/2026 – Cobertura dos passeios - Câmpus Sapiranga
A11: Endereço: Rua Carlos Gilberto Weis, número 155, próximo ao Km 25 da Rodovia RS-239
A12: Cliente: Instituto Federal Sul-Rio-Grandense | D12: Cidade: Sapiranga - RS
A14: ITEM | B14: 30 dias | D14: 60 dias | F14: 90 dias | H14: 120 dias | J14: 150 dias | L14: 180 dias | N14: TOTAL
B15: VALOR | C15: % | D15: VALOR | E15: % | F15: VALOR | G15: % | H15: VALOR | I15: % | J15: VALOR | K15: % | L15: VALOR | M15: % | N15: VALOR | O15: %
A16: =Orçamento!A16 -> 2. SERVIÇOS PRELIMINARES | B16: =N16*C16 -> 0 | C16: 0.93 | D16: =N16*E16 -> 0 | E16: 0 | F16: =N16*G16 -> 0 | G16: 0.07 | H16: =N16*I16 -> 0 | I16: 0 | J16: =N16*K16 -> 0 | K16: 0 | L16: =N16*M16 -> 0 | M16: 0 | N16: =Orçamento!M16 -> 0 | O16: =C16+E16+G16+I16+K16+M16 -> 1
A17: =Orçamento!A35 -> 3. MOVIMENTOS DE TERRA | B17: =N17*C17 -> 0 | C17: 0.9 | D17: =N17*E17 -> 0 | E17: 0.1 | F17: =N17*G17 -> 0 | G17: 0 | H17: =N17*I17 -> 0 | I17: 0 | J17: =N17*K17 -> 0 | K17: 0 | L17: =N17*M17 -> 0 | M17: 0 | N17: =Orçamento!M35 -> 0 | O17: =C17+E17+G17+I17+K17+M17 -> 1
A18: =Orçamento!A41 -> 4. FUNDAÇÕES | B18: =N18*C18 -> 0 | C18: 0.7 | D18: =N18*E18 -> 0 | E18: 0.2 | F18: =N18*G18 -> 0 | G18: 0.1 | H18: =N18*I18 -> 0 | I18: 0 | J18: =N18*K18 -> 0 | K18: 0 | L18: =N18*M18 -> 0 | M18: 0 | N18: =Orçamento!M41 -> 0 | O18: =C18+E18+G18+I18+K18+M18 -> 1
A19: =Orçamento!A52 -> 7. ALVENARIA /VEDAÇÃO/DIVISÓRIA | B19: =N19*C19 -> 0 | C19: 0 | D19: =N19*E19 -> 0 | E19: 0 | F19: =N19*G19 -> 0 | G19: 0 | H19: =N19*I19 -> 0 | I19: 0 | J19: =N19*K19 -> 0 | K19: 0.5 | L19: =N19*M19 -> 0 | M19: 0.5 | N19: =Orçamento!M52 -> 0 | O19: =C19+E19+G19+I19+K19+M19 -> 1
A20: =Orçamento!A55 -> 8. ESQUADRIAS | B20: =N20*C20 -> 0 | C20: 0 | D20: =N20*E20 -> 0 | E20: 0 | F20: =N20*G20 -> 0 | G20: 0 | H20: =N20*I20 -> 0 | I20: 0 | J20: =N20*K20 -> 0 | K20: 0 | L20: =N20*M20 -> 0 | M20: 1 | N20: =Orçamento!M55 -> 0 | O20: =C20+E20+G20+I20+K20+M20 -> 1
A21: =Orçamento!A59 -> 9. COBERTURA | B21: =N21*C21 -> 0 | C21: 0 | D21: =N21*E21 -> 0 | E21: 0.45 | F21: =N21*G21 -> 0 | G21: 0.25 | H21: =N21*I21 -> 0 | I21: 0.25 | J21: =N21*K21 -> 0 | K21: 0.05 | L21: =N21*M21 -> 0 | M21: 0 | N21: =Orçamento!M59 -> 0 | O21: =C21+E21+G21+I21+K21+M21 -> 1
A22: =Orçamento!A78 -> 10. INSTALAÇÕES ELÉTRICAS | B22: =N22*C22 -> 0 | C22: 0 | D22: =N22*E22 -> 0 | E22: 0 | F22: =N22*G22 -> 0 | G22: 0 | H22: =N22*I22 -> 0 | I22: 0.4 | J22: =N22*K22 -> 0 | K22: 0.45 | L22: =N22*M22 -> 0 | M22: 0.15 | N22: =Orçamento!M78 -> 0 | O22: =C22+E22+G22+I22+K22+M22 -> 1
A23: =Orçamento!A109 -> 12. INSTALAÇÕES HIDRÁULICAS E SANITÁRIAS | B23: =N23*C23 -> 0 | C23: 0 | D23: =N23*E23 -> 0 | E23: 0 | F23: =N23*G23 -> 0 | G23: 1 | H23: =N23*I23 -> 0 | I23: 0 | J23: =N23*K23 -> 0 | K23: 0 | L23: =N23*M23 -> 0 | M23: 0 | N23: =Orçamento!M109 -> 0 | O23: =C23+E23+G23+I23+K23+M23 -> 1
A24: =Orçamento!A125 -> 13. IMPERMEABILIZAÇÃO | B24: =N24*C24 -> 0 | C24: 0 | D24: =N24*E24 -> 0 | E24: 0.3 | F24: =N24*G24 -> 0 | G24: 0 | H24: =N24*I24 -> 0 | I24: 0.55 | J24: =N24*K24 -> 0 | K24: 0 | L24: =N24*M24 -> 0 | M24: 0.15 | N24: =Orçamento!M125 -> 0 | O24: =C24+E24+G24+I24+K24+M24 -> 1
A25: =Orçamento!A130 -> 15. REVESTIMENTOS | B25: =N25*C25 -> 0 | C25: 0 | D25: =N25*E25 -> 0 | E25: 0 | F25: =N25*G25 -> 0 | G25: 0 | H25: =N25*I25 -> 0 | I25: 0 | J25: =N25*K25 -> 0 | K25: 0.4 | L25: =N25*M25 -> 0 | M25: 0.6 | N25: =Orçamento!M130 -> 0 | O25: =C25+E25+G25+I25+K25+M25 -> 1
A26: =Orçamento!A135 -> 17. PINTURAS | B26: =N26*C26 -> 0 | C26: 0 | D26: =N26*E26 -> 0 | E26: 0 | F26: =N26*G26 -> 0 | G26: 0 | H26: =N26*I26 -> 0 | I26: 0 | J26: =N26*K26 -> 0 | K26: 0 | L26: =N26*M26 -> 0 | M26: 1 | N26: =Orçamento!M135 -> 0 | O26: =C26+E26+G26+I26+K26+M26 -> 1
A27: =Orçamento!A140 -> 18. SERVIÇOS COMPLEMENTARES | B27: =N27*C27 -> 0 | C27: 0.17 | D27: =N27*E27 -> 0 | E27: 0.17 | F27: =N27*G27 -> 0 | G27: 0.17 | H27: =N27*I27 -> 0 | I27: 0.17 | J27: =N27*K27 -> 0 | K27: 0.17 | L27: =N27*M27 -> 0 | M27: 0.15 | N27: =Orçamento!M140 -> 0 | O27: =C27+E27+G27+I27+K27+M27 -> 1
A28: =Orçamento!A143 -> 19. PAISAGISMO E URBANIZAÇÃO | B28: =N28*C28 -> 0 | C28: 0 | D28: =N28*E28 -> 0 | E28: 0 | F28: =N28*G28 -> 0 | G28: 1 | H28: =N28*I28 -> 0 | I28: 0 | J28: =N28*K28 -> 0 | K28: 0 | L28: =N28*M28 -> 0 | M28: 0 | N28: =Orçamento!M143 -> 0 | O28: =C28+E28+G28+I28+K28+M28 -> 1
A29: =Orçamento!A153 -> 21. GERENCIAMENTO DE OBRAS/FISCALIZAÇÃO | B29: =N29*C29 -> 0 | C29: 0.1675 | D29: =N29*E29 -> 0 | E29: 0.1675 | F29: =N29*G29 -> 0 | G29: 0.1675 | H29: =N29*I29 -> 0 | I29: 0.1675 | J29: =N29*K29 -> 0 | K29: 0.165 | L29: =N29*M29 -> 0 | M29: 0.165 | N29: =Orçamento!M153 -> 0 | O29: =C29+E29+G29+I29+K29+M29 -> 1
A30: =Orçamento!A157 -> 22. FORRO | B30: =N30*C30 -> 0 | C30: 0 | D30: =N30*E30 -> 0 | E30: 0 | F30: =N30*G30 -> 0 | G30: 0 | H30: =N30*I30 -> 0 | I30: 1 | J30: =N30*K30 -> 0 | K30: 0 | L30: =N30*M30 -> 0 | M30: 0 | N30: =Orçamento!M157 -> 0 | O30: =C30+E30+G30+I30+K30+M30 -> 1
A31: =Orçamento!A161 -> 24. PISO | B31: =N31*C31 -> 0 | C31: 0 | D31: =N31*E31 -> 0 | E31: 0.6 | F31: =N31*G31 -> 0 | G31: 0 | H31: =N31*I31 -> 0 | I31: 0 | J31: =N31*K31 -> 0 | K31: 0 | L31: =N31*M31 -> 0 | M31: 0.4 | N31: =Orçamento!M161 -> 0 | O31: =C31+E31+G31+I31+K31+M31 -> 1
A32: Total da Etapa | B32: =SUM(B16:B31) -> 0 | C32: =(B32*100%)/$N$32 -> #DIV/0! | D32: =SUM(D16:D31) -> 0 | E32: =(D32*100%)/$N$32 -> #DIV/0! | F32: =SUM(F16:F31) -> 0 | G32: =(F32*100%)/$N$32 -> #DIV/0! | H32: =SUM(H16:H31) -> 0 | I32: =(H32*100%)/$N$32 -> #DIV/0! | J32: =SUM(J16:J31) -> 0 | K32: =(J32*100%)/$N$32 -> #DIV/0! | L32: =SUM(L16:L31) -> 0 | M32: =(L32*100%)/$N$32 -> #DIV/0! | N32: =SUM(N16:N31) -> 0 | O32: =G32+E32+C32+I32+K32+M32 -> #DIV/0!
A33: Total Acumulado | B33: =B32 -> 0 | C33: =(B33*100%)/$N$32 -> #DIV/0! | D33: =D32+B33 -> 0 | E33: =C33+E32 -> #DIV/0! | F33: =F32+D33 -> 0 | G33: =E33+G32 -> #DIV/0! | H33: =H32+F33 -> 0 | I33: =G33+I32 -> #DIV/0! | J33: =J32+H33 -> 0 | K33: =I33+K32 -> #DIV/0! | L33: =L32+J33 -> 0 | M33: =K33+M32 -> #DIV/0!
B37: Local e Data
C43: Nome do Profissional Responsável
C44: Especificação do Cargo/função
C45: N° do CREA ou CAU
