Workbook
Name Print_Area: 'Cronograma Bloc 03 - NH'!$A$1:$I$40
Name Print_Area: 'Orçamento Bloco 03 - NH'!$A$1:$M$140
Name Print_Titles: 'Orçamento Bloco 03 - NH'!$1:$15

Sheet Orçamento Bloco 03 - NH
A1: INCLUIR LOGOTIPO DA EMPRESA
A6: DADOS DA EMPRESA
A7: DADOS DA EMPRESA
A8: DADOS DA EMPRESA
A9: Planilha de Orçamento - GLOBAL
A11: Obra: Reforma e Adaptações do Bloco 03 - Etapa 02 | F11: Endereço: Rua Pinheiro Machado, 205 - Bairro Industrial
A12: Cliente: Instituto Federal Sul-Rio-Grandense - Câmpus Avançado Novo Hamburgo | F12: Cidade: Novo Hamburgo - RS | J12: BDI = | K12: xx | L12: 42660
A13: Item/Descrição | B13: Qtd. | C13: Un | D13: Mão-de-Obra | F13: Material | H13: Custo Unit. Total | I13: Custo Direto | J13: BDI | L13: Sub-Total do Item | M13: Total do Item
D14: Custo Unitário | E14: Custo Parcial | F14: Custo Unitário | G14: Custo Parcial | J14: Valor | K14: %
A16: 2. SERVIÇOS PRELIMINARES / TÉCNICOS | M16: =SUM(L17:L35) -> #VALUE!
A17: 2. 1. MEDICINA E SEGURANÇA DO TRABALHO
A18: 2. 1. 1. EQUIPAMENTOS DE PROTEÇÃO INDIVIDUAL
A19: .1 EQUIPAMENTOS INDIVIDUAIS SEGURANCA | B19: 6 | C19: UN | E19: =D19*B19 -> 0 | G19: =F19*B19 -> 0 | H19: =+D19+F19 -> 0 | I19: =E19+G19 -> 0 | J19: =(K19/100)*I19 -> #VALUE! | K19: =$K$12 -> xx | L19: =I19+J19 -> #VALUE!
A20: 2. 6. TAPUMES
A21: 2. 6. 3. TELA DE POLIETILENO
A22: .1 TAPUME COM TELA DE POLIETILENO, ALTURA 1,20M | B22: 30 | C22: M | E22: =D22*B22 -> 0 | G22: =F22*B22 -> 0 | H22: =+D22+F22 -> 0 | I22: =E22+G22 -> 0 | J22: =(K22/100)*I22 -> #VALUE! | K22: =$K$12 -> xx | L22: =I22+J22 -> #VALUE!
A23: 2. 7. PLACAS DE IDENTIFICAÇÃO DE EXERCÍCIO PROFISSIONAL EM OBRAS
A24: .1 PLACA DE OBRA-PINTADA/FIXADA ESTRUTURA DE MADEIRA | B24: 2.03 | C24: M2 | E24: =D24*B24 -> 0 | G24: =F24*B24 -> 0 | H24: =+D24+F24 -> 0 | I24: =E24+G24 -> 0 | J24: =(K24/100)*I24 -> #VALUE! | K24: =$K$12 -> xx | L24: =I24+J24 -> #VALUE!
A25: 2. 8. DEMOLIÇÕES E REMOÇÕES
A26: 2. 8. 1. REMOÇÃO DE VIDROS
A27: .1 REMOÇÃO DE VIDRO DE ESQUADRIAS DE FERRO | B27: 11.4 | C27: M2 | E27: =D27*B27 -> 0 | G27: =F27*B27 -> 0 | H27: =+D27+F27 -> 0 | I27: =E27+G27 -> 0 | J27: =(K27/100)*I27 -> #VALUE! | K27: =$K$12 -> xx | L27: =I27+J27 -> #VALUE!
A28: 2. 8. 2. DEMOLIÇÃO DE ALVENARIA DE TIJOLOS
A29: .1 DEMOLICAO DE ALVENARIA DE TIJOLOS FURADOS | B29: 49.05 | C29: M2 | E29: =D29*B29 -> 0 | G29: =F29*B29 -> 0 | H29: =+D29+F29 -> 0 | I29: =E29+G29 -> 0 | J29: =(K29/100)*I29 -> #VALUE! | K29: =$K$12 -> xx | L29: =I29+J29 -> #VALUE!
A30: 2. 8.16. REMOÇÃO DE COBERTURA
A31: .1 RETIRADA DE TELHAS DE FIBROCIMENTO | B31: 24.8 | C31: M2 | E31: =D31*B31 -> 0 | G31: =F31*B31 -> 0 | H31: =+D31+F31 -> 0 | I31: =E31+G31 -> 0 | J31: =(K31/100)*I31 -> #VALUE! | K31: =$K$12 -> xx | L31: =I31+J31 -> #VALUE!
A32: 2. 8.22. REMOÇÃO DE ESQUADRIAS DE FERRO
A33: .1 RETIRADA DE PORTÃO DE CORRER | B33: 5.57 | C33: M2 | E33: =D33*B33 -> 0 | G33: =F33*B33 -> 0 | H33: =+D33+F33 -> 0 | I33: =E33+G33 -> 0 | J33: =(K33/100)*I33 -> #VALUE! | K33: =$K$12 -> xx | L33: =I33+J33 -> #VALUE!
A34: 2. 8.39. LIMPEZA DE PISO COM REMOÇÃO
A35: .1 LIMPEZA DE PISO CIMENTADO | B35: 219.7 | C35: M2 | E35: =D35*B35 -> 0 | G35: =F35*B35 -> 0 | H35: =+D35+F35 -> 0 | I35: =E35+G35 -> 0 | J35: =(K35/100)*I35 -> #VALUE! | K35: =$K$12 -> xx | L35: =I35+J35 -> #VALUE!
A36: 6. SUPERESTRUTURA | M36: =SUM(L37:L42) -> #VALUE!
A37: 6. 1. ESTRUTURA DE CONCRETO
A38: 6. 1. 1. PILARES
A39: .1 PILAR CONCRETO ARMADO FCK 25MPA-ESCOR,FORMA,ARM,LANC,CURA,D. | B39: 0.2 | C39: M3 | E39: =D39*B39 -> 0 | G39: =F39*B39 -> 0 | H39: =+D39+F39 -> 0 | I39: =E39+G39 -> 0 | J39: =(K39/100)*I39 -> #VALUE! | K39: =$K$12 -> xx | L39: =I39+J39 -> #VALUE!
A40: 6. 1. 5. VERGA, CONTRA-VERGA E TAIPÁ
A41: 6. 1. 5. 2. AÇO
A42: .1 ARMADURA CA-50 MEDIA 1/4 A 3/8-6,35 A 9,53MM (Taipá acima das portas) | B42: 1.71 | C42: KG | E42: =D42*B42 -> 0 | G42: =F42*B42 -> 0 | H42: =+D42+F42 -> 0 | I42: =E42+G42 -> 0 | J42: =(K42/100)*I42 -> #VALUE! | K42: =$K$12 -> xx | L42: =I42+J42 -> #VALUE!
A43: 7. ALVENARIA / VEDAÇÃO / DIVISÓRIA | M43: =SUM(L44:L47) -> #VALUE!
A44: 7. 2. DIVISÓRIAS
A45: 7. 2. 2. DIVISÓRIA COM PAINÉIS DE GESSO
A46: .1 PAREDE GESSO ACARTONADO - STANDARD - C/COLOCAÇÃO | B46: 84.53 | C46: M2 | E46: =D46*B46 -> 0 | G46: =F46*B46 -> 0 | H46: =+D46+F46 -> 0 | I46: =E46+G46 -> 0 | J46: =(K46/100)*I46 -> #VALUE! | K46: =$K$12 -> xx | L46: =I46+J46 -> #VALUE!
...

Sheet Cronograma Bloc 03 - NH
A1: INCLUIR LOGOTIPO DA EMPRESA
A6: DADOS DA EMPRESA
A7: DADOS DA EMPRESA
A8: DADOS DA EMPRESA
A9: CRONOGRAMA FÍSICO-FINANCEIRO
A10: Obra: Reforma e Adaptações do Bloco 03 - Etapa 02 | D10: Endereço: Rua Pinheiro Machado, 205 - Bairro Industrial
A11: Cliente: Instituto Federal Sul-Rio-Grandense - Câmpus Avançado Novo Hamburgo | D11: Cidade: Novo Hamburgo - RS
A13: ITEM | B13: 25 dias | D13: 50 dias | F13: 75 dias | H13: TOTAL
B14: VALOR | C14: % | D14: VALOR | E14: % | F14: VALOR | G14: % | H14: VALOR | I14: %
A15: 2. SERVIÇOS PRELIMINARES / TÉCNICOS | B15: =C15*$H15 -> #VALUE! | C15: 0.95 | D15: =E15*$H15 -> #VALUE! | E15: 0.05 | F15: =G15*$H15 -> #VALUE! | H15: ='Orçamento Bloco 03 - NH'!M16 -> #VALUE! | I15: =C15+E15+G15 -> 1
A16: 6. SUPERESTRUTURA | B16: =C16*$H16 -> #VALUE! | C16: 1 | D16: =E16*$H16 -> #VALUE! | F16: =G16*$H16 -> #VALUE! | H16: ='Orçamento Bloco 03 - NH'!M36 -> #VALUE! | I16: =C16+E16+G16 -> 1
A17: 7. ALVENARIA / VEDAÇÃO / DIVISÓRIA | D17: =E17*$H17 -> #VALUE! | E17: 1 | H17: ='Orçamento Bloco 03 - NH'!M43 -> #VALUE! | I17: =C17+E17+G17 -> 1
A18: 8. ESQUADRIAS | D18: =E18*$H18 -> #VALUE! | E18: 1 | H18: ='Orçamento Bloco 03 - NH'!M48 -> #VALUE! | I18: =C18+E18+G18 -> 1
A19: 9. COBERTURA | B19: =C19*$H19 -> #VALUE! | D19: =E19*$H19 -> #VALUE! | E19: 1 | F19: =G19*$H19 -> #VALUE! | H19: ='Orçamento Bloco 03 - NH'!M56 -> #VALUE! | I19: =C19+E19+G19 -> 1
A20: 10. INSTALAÇÕES ELÉTRICAS | B20: =C20*$H20 -> #VALUE! | C20: 0.3 | D20: =E20*$H20 -> #VALUE! | E20: 0.3 | F20: =G20*$H20 -> #VALUE! | G20: 0.4 | H20: ='Orçamento Bloco 03 - NH'!M62 -> #VALUE! | I20: =C20+E20+G20 -> 1
A21: 16. VIDROS | D21: =E21*$H21 -> #VALUE! | F21: =G21*$H21 -> #VALUE! | G21: 1 | H21: ='Orçamento Bloco 03 - NH'!M98 -> #VALUE! | I21: =C21+E21+G21 -> 1
A22: 17. PINTURA | B22: =C22*$H22 -> #VALUE! | D22: =E22*$H22 -> #VALUE! | E22: 0.28 | F22: =G22*$H22 -> #VALUE! | G22: 0.72 | H22: ='Orçamento Bloco 03 - NH'!M101 -> #VALUE! | I22: =C22+E22+G22 -> 1
A23: 18. SERVIÇOS COMPLEMENTARES | B23: =C23*$H23 -> #VALUE! | D23: =E23*$H23 -> #VALUE! | F23: =G23*$H23 -> #VALUE! | G23: 1 | H23: ='Orçamento Bloco 03 - NH'!M112 -> #VALUE! | I23: =C23+E23+G23 -> 1
A24: 21. GERENCIAMENTO DE OBRAS / FISCALIZAÇÃO | B24: =C24*$H24 -> #VALUE! | C24: 0.33333 | D24: =E24*$H24 -> #VALUE! | E24: 0.33333 | F24: =G24*$H24 -> #VALUE! | G24: 0.33333 | H24: ='Orçamento Bloco 03 - NH'!M115 -> #VALUE! | I24: =C24+E24+G24 -> 0.99999
A25: 22. FORRO | B25: =C25*$H25 -> #VALUE! | C25: 0 | D25: =E25*$H25 -> #VALUE! | E25: 0 | F25: =G25*$H25 -> #VALUE! | G25: 1 | H25: ='Orçamento Bloco 03 - NH'!M118 -> #VALUE! | I25: =C25+E25+G25 -> 1
A26: 24. PISO | B26: =C26*$H26 -> #VALUE! | C26: 1 | D26: =E26*$H26 -> #VALUE! | E26: 0 | F26: =G26*$H26 -> #VALUE! | G26: 0 | H26: ='Orçamento Bloco 03 - NH'!M122 -> #VALUE! | I26: =C26+E26+G26 -> 1
A27: Total da Etapa | B27: =SUM(B15:B26) -> #VALUE! | C27: =B27/$H$27 -> #VALUE! | D27: =SUM(D15:D26) -> #VALUE! | E27: =D27/$H$27 -> #VALUE! | F27: =SUM(F15:F26) -> #VALUE! | G27: =F27/$H$27 -> #VALUE! | H27: ='Orçamento Bloco 03 - NH'!M125 -> #VALUE! | I27: =C27+E27+G27 -> #VALUE!
A28: Total Acumulado | B28: =B27 -> #VALUE! | C28: =C27 -> #VALUE! | D28: =B28+D27 -> #VALUE! | E28: =C28+E27 -> #VALUE! | F28: =D28+F27 -> #VALUE! | G28: =E28+G27 -> #VALUE! | H28: =SUM(H15:H26) -> #VALUE!
F31: Local e Data
F36: Nome do Profissional Responsável
F37: Especificação do Cargo/função
F38: N° do CREA ou CAU
