Workbook
Name Print_Area: 'Cronograma Bloc 03 - NH'!$A$1:$I$40
Name Print_Area: 'Orçamento Bloco 03 - NH'!$A$1:$M$140
Name Print_Titles: 'Orçamento Bloco 03 - NH'!$1:$15

Sheet Orçamento Bloco 03 - NH
A1: INCLUIR LOGOTIPO DA EMPRESA
A6: DADOS DA EMPRESA
A7: DADOS DA EMPRESA
A8: DADOS DA EMPRESA
A9: Planilha de Orçamento - GLOBAL
A11: Obra: Reforma e Adaptações do Bloco 03 - Etapa 02 | F11: Endereço: Rua Pinheiro Machado, 205 - Bairro Industrial
A12: Cliente: Instituto Federal Sul-Rio-Grandense - Câmpus Avançado Novo Hamburgo | F12: Cidade: Novo Hamburgo - RS | J12: BDI = | K12: xx | L12: 42660
A13: Item/Descrição | B13: Qtd. | C13: Un | D13: Mão-de-Obra | F13: Material | H13: Custo Unit. Total | I13: Custo Direto | J13: BDI | L13: Sub-Total do Item | M13: Total do Item
D14: Custo Unitário | E14: Custo Parcial | F14: Custo Unitário | G14: Custo Parcial | J14: Valor | K14: %
A16: 2. SERVIÇOS PRELIMINARES / TÉCNICOS | M16: =SUM(L17:L35) -> #VALUE!
A17: 2. 1. MEDICINA E SEGURANÇA DO TRABALHO
A18: 2. 1. 1. EQUIPAMENTOS DE PROTEÇÃO INDIVIDUAL
A19: .1 EQUIPAMENTOS INDIVIDUAIS SEGURANCA | B19: 6 | C19: UN | E19: =D19*B19 -> 0 | G19: =F19*B19 -> 0 | H19: =+D19+F19 -> 0 | I19: =E19+G19 -> 0 | J19: =(K19/100)*I19 -> #VALUE! | K19: =$K$12 -> xx | L19: =I19+J19 -> #VALUE!
A20: 2. 6. TAPUMES
A21: 2. 6. 3. TELA DE POLIETILENO
A22: .1 TAPUME COM TELA DE POLIETILENO, ALTURA 1,20M | B22: 30 | C22: M | E22: =D22*B22 -> 0 | G22: =F22*B22 -> 0 | H22: =+D22+F22 -> 0 | I22: =E22+G22 -> 0 | J22: =(K22/100)*I22 -> #VALUE! | K22: =$K$12 -> xx | L22: =I22+J22 -> #VALUE!
A23: 2. 7. PLACAS DE IDENTIFICAÇÃO DE EXERCÍCIO PROFISSIONAL EM OBRAS
A24: .1 PLACA DE OBRA-PINTADA/FIXADA ESTRUTURA DE MADEIRA | B24: 2.03 | C24: M2 | E24: =D24*B24 -> 0 | G24: =F24*B24 -> 0 | H24: =+D24+F24 -> 0 | I24: =E24+G24 -> 0 | J24: =(K24/100)*I24 -> #VALUE! | K24: =$K$12 -> xx | L24: =I24+J24 -> #VALUE!
A25: 2. 8. DEMOLIÇÕES E REMOÇÕES
A26: 2. 8. 1. REMOÇÃO DE VIDROS
A27: .1 REMOÇÃO DE VIDRO DE ESQUADRIAS DE FERRO | B27: 11.4 | C27: M2 | E27: =D27*B27 -> 0 | G27: =F27*B27 -> 0 | H27: =+D27+F27 -> 0 | I27: =E27+G27 -> 0 | J27: =(K27/100)*I27 -> #VALUE! | K27: =$K$12 -> xx | L27: =I27+J27 -> #VALUE!
A28: 2. 8. 2. DEMOLIÇÃO DE ALVENARIA DE TIJOLOS
A29: .1 DEMOLICAO DE ALVENARIA DE TIJOLOS FURADOS | B29: 49.05 | C29: M2 | E29: =D29*B29 -> 0 | G29: =F29*B29 -> 0 | H29: =+D29+F29 -> 0 | I29: =E29+G29 -> 0 | J29: =(K29/100)*I29 -> #VALUE! | K29: =$K$12 -> xx | L29: =I29+J29 -> #VALUE!
A30: 2. 8.16. REMOÇÃO DE COBERTURA
A31: .1 RETIRADA DE TELHAS DE FIBROCIMENTO | B31: 24.8 | C31: M2 | E31: =D31*B31 -> 0 | G31: =F31*B31 -> 0 | H31: =+D31+F31 -> 0 | I31: =E31+G31 -> 0 | J31: =(K31/100)*I31 -> #VALUE! | K31: =$K$12 -> xx | L31: =I31+J31 -> #VALUE!
A32: 2. 8.22. REMOÇÃO DE ESQUADRIAS DE FERRO
A33: .1 RETIRADA DE PORTÃO DE CORRER | B33: 5.57 | C33: M2 | E33: =D33*B33 -> 0 | G33: =F33*B33 -> 0 | H33: =+D33+F33 -> 0 | I33: =E33+G33 -> 0 | J33: =(K33/100)*I33 -> #VALUE! | K33: =$K$12 -> xx | L33: =I33+J33 -> #VALUE!
A34: 2. 8.39. LIMPEZA DE PISO COM REMOÇÃO
A35: .1 LIMPEZA DE PISO CIMENTADO | B35: 219.7 | C35: M2 | E35: =D35*B35 -> 0 | G35: =F35*B35 -> 0 | H35: =+D35+F35 -> 0 | I35: =E35+G35 -> 0 | J35: =(K35/100)*I35 -> #VALUE! | K35: =$K$12 -> xx | L35: =I35+J35 -> #VALUE!
A36: 6. SUPERESTRUTURA | M36: =SUM(L37:L42) -> #VALUE!
A37: 6. 1. ESTRUTURA DE CONCRETO
A38: 6. 1. 1. PILARES
A39: .1 PILAR CONCRETO ARMADO FCK 25MPA-ESCOR,FORMA,ARM,LANC,CURA,D. | B39: 0.2 | C39: M3 | E39: =D39*B39 -> 0 | G39: =F39*B39 -> 0 | H39: =+D39+F39 -> 0 | I39: =E39+G39 -> 0 | J39: =(K39/100)*I39 -> #VALUE! | K39: =$K$12 -> xx | L39: =I39+J39 -> #VALUE!
A40: 6. 1. 5. VERGA, CONTRA-VERGA E TAIPÁ
A41: 6. 1. 5. 2. AÇO
A42: .1 ARMADURA CA-50 MEDIA 1/4 A 3/8-6,35 A 9,53MM (Taipá acima das portas) | B42: 1.71 | C42: KG | E42: =D42*B42 -> 0 | G42: =F42*B42 -> 0 | H42: =+D42+F42 -> 0 | I42: =E42+G42 -> 0 | J42: =(K42/100)*I42 -> #VALUE! | K42: =$K$12 -> xx | L42: =I42+J42 -> #VALUE!
A43: 7. ALVENARIA / VEDAÇÃO / DIVISÓRIA | M43: =SUM(L44:L47) -> #VALUE!
A44: 7. 2. DIVISÓRIAS
A45: 7. 2. 2. DIVISÓRIA COM PAINÉIS DE GESSO
A46: .1 PAREDE GESSO ACARTONADO - STANDARD - C/COLOCAÇÃO | B46: 84.53 | C46: M2 | E46: =D46*B46 -> 0 | G46: =F46*B46 -> 0 | H46: =+D46+F46 -> 0 | I46: =E46+G46 -> 0 | J46: =(K46/100)*I46 -> #VALUE! | K46: =$K$12 -> xx | L46: =I46+J46 -> #VALUE!
A47: .2 ISOLAMENTO ACÚSTICO COM LÃ DE ROCHA e=5cm Placa 1.20x0.60m (inclui mão-de-obra) | B47: 84.53 | C47: M2 | E47: =D47*B47 -> 0 | G47: =F47*B47 -> 0 | H47: =+D47+F47 -> 0 | I47: =E47+G47 -> 0 | J47: =(K47/100)*I47 -> #VALUE! | K47: =$K$12 -> xx | L47: =I47+J47 -> #VALUE!
A48: 8. ESQUADRIAS | M48: =SUM(L49:L55) -> #VALUE!
A49: 8. 3. ESQUADRIAS DE FERRO GALVANIZADO
A50: 8. 3. 7. JANELAS
A51: .1 CAIXILHO FIXO-FERRO | B51: 0.62 | C51: M2 | E51: =D51*B51 -> 0 | G51: =F51*B51 -> 0 | H51: =+D51+F51 -> 0 | I51: =E51+G51 -> 0 | J51: =(K51/100)*I51 -> #VALUE! | K51: =$K$12 -> xx | L51: =I51+J51 -> #VALUE!
A52: 8. 3. 8. PORTAS
A53: .1 PORTA DE ABRIR-FERRO COM CHAPAS E BÁSCULA (com janela basculante) | B53: 7.81 | C53: M2 | E53: =D53*B53 -> 0 | G53: =F53*B53 -> 0 | H53: =+D53+F53 -> 0 | I53: =E53+G53 -> 0 | J53: =(K53/100)*I53 -> #VALUE! | K53: =$K$12 -> xx | L53: =I53+J53 -> #VALUE!
A54: 8. 6. RECUPERAÇÃO DE ESQUADRIAS
A55: .1 REMOÇÃO DE MASSA E PINTURA COM LIXAMENTO E SOLVENTE | B55: 22.52 | C55: M2 | E55: =D55*B55 -> 0 | G55: =F55*B55 -> 0 | H55: =+D55+F55 -> 0 | I55: =E55+G55 -> 0 | J55: =(K55/100)*I55 -> #VALUE! | K55: =$K$12 -> xx | L55: =I55+J55 -> #VALUE!
A56: 9. COBERTURA | M56: =SUM(L57:L61) -> #VALUE!
A57: 9. 2. TELHAMENTO
A58: 9. 2. 1. COM TELHA DE FIBROCIMENTO (SEM AMIANTO)
A59: .1 COBERTURA COM TELHA FIBROCIMENTO 6MM | B59: 11.6 | C59: M2 | E59: =D59*B59 -> 0 | G59: =F59*B59 -> 0 | H59: =+D59+F59 -> 0 | I59: =E59+G59 -> 0 | J59: =(K59/100)*I59 -> #VALUE! | K59: =$K$12 -> xx | L59: =I59+J59 -> #VALUE!
A60: .2 TELHA FIBROCIMENTO COM CLARABÓIA | B60: 4 | C60: UN | E60: =D60*B60 -> 0 | G60: =F60*B60 -> 0 | H60: =+D60+F60 -> 0 | I60: =E60+G60 -> 0 | J60: =(K60/100)*I60 -> #VALUE! | K60: =$K$12 -> xx | L60: =I60+J60 -> #VALUE!
A61: .3 REFORÇO ESTRUTURA DE MADEIRA PARA TELHA CLARABÓIA | B61: 4 | C61: M2 | E61: =D61*B61 -> 0 | G61: =F61*B61 -> 0 | H61: =+D61+F61 -> 0 | I61: =E61+G61 -> 0 | J61: =(K61/100)*I61 -> #VALUE! | K61: =$K$12 -> xx | L61: =I61+J61 -> #VALUE!
A62: 10. INSTALAÇÕES ELÉTRICAS | M62: =SUM(L63:L97) -> #VALUE!
A63: 10. 1. INSTALAÇÕES DE BAIXA TENSÃO
A64: 10. 1. 1. LUMINÁRIAS
A65: .1 LUMINARIA FLUORESCENTE 2X32W COMPLETA | B65: 46 | C65: UN | E65: =D65*B65 -> 0 | G65: =F65*B65 -> 0 | H65: =+D65+F65 -> 0 | I65: =E65+G65 -> 0 | J65: =(K65/100)*I65 -> #VALUE! | K65: =$K$12 -> xx | L65: =I65+J65 -> #VALUE!
A66: 10. 1. 2. INTERRUPTORES, TOMADAS E ACESSÓRIOS
A67: .1 INTERRUPTOR EMBUTIR DUPLO-INCLUSIVE TAMPA | B67: 4 | C67: UN | E67: =D67*B67 -> 0 | G67: =F67*B67 -> 0 | H67: =+D67+F67 -> 0 | I67: =E67+G67 -> 0 | J67: =(K67/100)*I67 -> #VALUE! | K67: =$K$12 -> xx | L67: =I67+J67 -> #VALUE!
A68: .2 TOMADA EMBUTIR DUPLA-INCLUSIVE TAMPA | B68: 40 | C68: UN | E68: =D68*B68 -> 0 | G68: =F68*B68 -> 0 | H68: =+D68+F68 -> 0 | I68: =E68+G68 -> 0 | J68: =(K68/100)*I68 -> #VALUE! | K68: =$K$12 -> xx | L68: =I68+J68 -> #VALUE!
A69: .3 TOMADA INDUSTRIAL 3P+T - 500V | B69: 8 | C69: UN | E69: =D69*B69 -> 0 | G69: =F69*B69 -> 0 | H69: =+D69+F69 -> 0 | I69: =E69+G69 -> 0 | J69: =(K69/100)*I69 -> #VALUE! | K69: =$K$12 -> xx | L69: =I69+J69 -> #VALUE!
A70: 10. 1. 3. CONDUTORES
A71: .1 CABO ISOLADO FLEXIVEL 1.5MM2 (14AWG) | B71: 308 | C71: M | E71: =D71*B71 -> 0 | G71: =F71*B71 -> 0 | H71: =+D71+F71 -> 0 | I71: =E71+G71 -> 0 | J71: =(K71/100)*I71 -> #VALUE! | K71: =$K$12 -> xx | L71: =I71+J71 -> #VALUE!
A72: .2 CABO ISOLADO FLEXIVEL 2.5MM2 (12AWG) | B72: 1052 | C72: M | E72: =D72*B72 -> 0 | G72: =F72*B72 -> 0 | H72: =+D72+F72 -> 0 | I72: =E72+G72 -> 0 | J72: =(K72/100)*I72 -> #VALUE! | K72: =$K$12 -> xx | L72: =I72+J72 -> #VALUE!
A73: .3 CABO ISOLADO 25MM2 ( 2AWG) | B73: 240 | C73: M | E73: =D73*B73 -> 0 | G73: =F73*B73 -> 0 | H73: =+D73+F73 -> 0 | I73: =E73+G73 -> 0 | J73: =(K73/100)*I73 -> #VALUE! | K73: =$K$12 -> xx | L73: =I73+J73 -> #VALUE!
A74: 10. 1. 4. ELETRODUTOS E ACESSÓRIOS
A75: .1 ELETRODUTO CONDULETE TOP 3,4" - COR CINZA | B75: 105 | C75: M | E75: =D75*B75 -> 0 | G75: =F75*B75 -> 0 | H75: =+D75+F75 -> 0 | I75: =E75+G75 -> 0 | J75: =(K75/100)*I75 -> #VALUE! | K75: =$K$12 -> xx | L75: =I75+J75 -> #VALUE!
A76: .2 CURVA 90° P/ ELETRODUTO CONDULETE TOP 3/4" - COR CINZA | B76: 25 | C76: UN | E76: =D76*B76 -> 0 | G76: =F76*B76 -> 0 | H76: =+D76+F76 -> 0 | I76: =E76+G76 -> 0 | J76: =(K76/100)*I76 -> #VALUE! | K76: =$K$12 -> xx | L76: =I76+J76 -> #VALUE!
A77: .3 ABRAÇADEIRA P/ ELETRODUTO CONDULETE TOP 3/4" - COR CINZA | B77: 140 | C77: UN | E77: =D77*B77 -> 0 | G77: =F77*B77 -> 0 | H77: =+D77+F77 -> 0 | I77: =E77+G77 -> 0 | J77: =(K77/100)*I77 -> #VALUE! | K77: =$K$12 -> xx | L77: =I77+J77 -> #VALUE!
A78: .4 ADAPTADOR P/ CONDULETE TOP 3/4" - COR CINZA | B78: 60 | C78: UN | E78: =D78*B78 -> 0 | G78: =F78*B78 -> 0 | H78: =+D78+F78 -> 0 | I78: =E78+G78 -> 0 | J78: =(K78/100)*I78 -> #VALUE! | K78: =$K$12 -> xx | L78: =I78+J78 -> #VALUE!
A79: .5 PARAFUSO P/ BUCHA S-8 | B79: 228 | C79: UN | E79: =D79*B79 -> 0 | G79: =F79*B79 -> 0 | H79: =+D79+F79 -> 0 | I79: =E79+G79 -> 0 | J79: =(K79/100)*I79 -> #VALUE! | K79: =$K$12 -> xx | L79: =I79+J79 -> #VALUE!
A80: .6 BUCHA DE NYLON S-8 | B80: 157 | C80: UN | E80: =D80*B80 -> 0 | G80: =F80*B80 -> 0 | H80: =+D80+F80 -> 0 | I80: =E80+G80 -> 0 | J80: =(K80/100)*I80 -> #VALUE! | K80: =$K$12 -> xx | L80: =I80+J80 -> #VALUE!
A81: .7 BUCHA P/ GESSO ACARTONADO S-8 | B81: 71 | C81: UN | E81: =D81*B81 -> 0 | G81: =F81*B81 -> 0 | H81: =+D81+F81 -> 0 | I81: =E81+G81 -> 0 | J81: =(K81/100)*I81 -> #VALUE! | K81: =$K$12 -> xx | L81: =I81+J81 -> #VALUE!
A82: 10. 1. 5. QUADROS DE CARGA
A83: .1 CENTRO DE DISTRIBUIÇÃO P/24 ELEM.C/BAR.(SOBREPOR) | B83: 1 | C83: UN | E83: =D83*B83 -> 0 | G83: =F83*B83 -> 0 | H83: =+D83+F83 -> 0 | I83: =E83+G83 -> 0 | J83: =(K83/100)*I83 -> #VALUE! | K83: =$K$12 -> xx | L83: =I83+J83 -> #VALUE!
A84: 10. 1. 6. DISJUNTORES
A85: .1 DISJUNTOR TRIPOLAR 20A | B85: 3 | C85: UN | E85: =D85*B85 -> 0 | G85: =F85*B85 -> 0 | H85: =+D85+F85 -> 0 | I85: =E85+G85 -> 0 | J85: =(K85/100)*I85 -> #VALUE! | K85: =$K$12 -> xx | L85: =I85+J85 -> #VALUE!
A86: .2 DISJUNTOR MONOPOLAR 20A | B86: 4 | C86: UN | E86: =D86*B86 -> 0 | G86: =F86*B86 -> 0 | H86: =+D86+F86 -> 0 | I86: =E86+G86 -> 0 | J86: =(K86/100)*I86 -> #VALUE! | K86: =$K$12 -> xx | L86: =I86+J86 -> #VALUE!
A87: .3 DISJUNTOR TRIPOLAR 50A | B87: 2 | C87: UN | E87: =D87*B87 -> 0 | G87: =F87*B87 -> 0 | H87: =+D87+F87 -> 0 | I87: =E87+G87 -> 0 | J87: =(K87/100)*I87 -> #VALUE! | K87: =$K$12 -> xx | L87: =I87+J87 -> #VALUE!
A88: 10. 1. 7. CAIXAS DE PASSAGEM
A89: .1 CONDULETE 6 ENTRADAS TOP 3/4" | B89: 44 | C89: UN | E89: =D89*B89 -> 0 | G89: =F89*B89 -> 0 | H89: =+D89+F89 -> 0 | I89: =E89+G89 -> 0 | J89: =(K89/100)*I89 -> #VALUE! | K89: =$K$12 -> xx | L89: =I89+J89 -> #VALUE!
A90: .2 CAIXA INSPECAO 50X50X50CM ALV.15 C/TAMPA CONCRETO | B90: 1 | C90: UN | E90: =D90*B90 -> 0 | G90: =F90*B90 -> 0 | H90: =+D90+F90 -> 0 | I90: =E90+G90 -> 0 | J90: =(K90/100)*I90 -> #VALUE! | K90: =$K$12 -> xx | L90: =I90+J90 -> #VALUE!
A91: .3 HASTE COOPERWELD 19X2400MM C/CONECTOR | B91: 1 | C91: UN | E91: =D91*B91 -> 0 | G91: =F91*B91 -> 0 | H91: =+D91+F91 -> 0 | I91: =E91+G91 -> 0 | J91: =(K91/100)*I91 -> #VALUE! | K91: =$K$12 -> xx | L91: =I91+J91 -> #VALUE!
A92: 10. 1. 8. PERFILADOS E ACESSÓRIOS
A93: .1 PERFILADO 38X38MM, PERFURADO, PEÇAS C/ 06 METROS | B93: 28 | C93: UN | E93: =D93*B93 -> 0 | G93: =F93*B93 -> 0 | H93: =+D93+F93 -> 0 | I93: =E93+G93 -> 0 | J93: =(K93/100)*I93 -> #VALUE! | K93: =$K$12 -> xx | L93: =I93+J93 -> #VALUE!
A94: .2 EMENDA INTERNA "X", INCL. PARAF. + PORCA | B94: 30 | C94: UN | E94: =D94*B94 -> 0 | G94: =F94*B94 -> 0 | H94: =+D94+F94 -> 0 | I94: =E94+G94 -> 0 | J94: =(K94/100)*I94 -> #VALUE! | K94: =$K$12 -> xx | L94: =I94+J94 -> #VALUE!
A95: .3 EMENDA INTERNA "T", INCL. PARAF. + PORCA | B95: 3 | C95: UN | E95: =D95*B95 -> 0 | G95: =F95*B95 -> 0 | H95: =+D95+F95 -> 0 | I95: =E95+G95 -> 0 | J95: =(K95/100)*I95 -> #VALUE! | K95: =$K$12 -> xx | L95: =I95+J95 -> #VALUE!
A96: .4 TIRANTE ROSQUEAVEL 3/8", VARA C/ 6M | B96: 7 | C96: UN | E96: =D96*B96 -> 0 | G96: =F96*B96 -> 0 | H96: =+D96+F96 -> 0 | I96: =E96+G96 -> 0 | J96: =(K96/100)*I96 -> #VALUE! | K96: =$K$12 -> xx | L96: =I96+J96 -> #VALUE!
A97: .5 GANCHO P/ PERFILADO, INCL. PORCAS E ARRUELAS | B97: 56 | C97: UN | E97: =D97*B97 -> 0 | G97: =F97*B97 -> 0 | H97: =+D97+F97 -> 0 | I97: =E97+G97 -> 0 | J97: =(K97/100)*I97 -> #VALUE! | K97: =$K$12 -> xx | L97: =I97+J97 -> #VALUE!
A98: 16. VIDROS | M98: =SUM(L99:L100) -> #VALUE!
A99: 16. 1. VIDRO LISO
A100: .1 VIDRO TRANSPARENTE 4mm - COLOCADO COM MASSA | B100: 15.12 | C100: M2 | E100: =D100*B100 -> 0 | G100: =F100*B100 -> 0 | H100: =+D100+F100 -> 0 | I100: =E100+G100 -> 0 | J100: =(K100/100)*I100 -> #VALUE! | K100: =$K$12 -> xx | L100: =I100+J100 -> #VALUE!
A101: 17. PINTURA | M101: =SUM(L102:L111) -> #VALUE!
A102: 17. 1. SELADOR / PREPARAÇÃO
A103: .1 SELADOR PARA PAREDES INTERNAS/EXTERNAS 1 DEMAO | B103: 514.28 | C103: M2 | E103: =D103*B103 -> 0 | G103: =F103*B103 -> 0 | H103: =+D103+F103 -> 0 | I103: =E103+G103 -> 0 | J103: =(K103/100)*I103 -> #VALUE! | K103: =$K$12 -> xx | L103: =I103+J103 -> #VALUE!
A104: 17. 3. BASE ACRÍLICA
A105: .1 PINTURA ACRILICA SOBRE PAREDES - 2 DEMAOS | B105: 514.28 | C105: M2 | E105: =D105*B105 -> 0 | G105: =F105*B105 -> 0 | H105: =+D105+F105 -> 0 | I105: =E105+G105 -> 0 | J105: =(K105/100)*I105 -> #VALUE! | K105: =$K$12 -> xx | L105: =I105+J105 -> #VALUE!
A106: 17. 6. MASSA CORRIDA
...

Sheet Cronograma Bloc 03 - NH
A1: INCLUIR LOGOTIPO DA EMPRESA
A6: DADOS DA EMPRESA
A7: DADOS DA EMPRESA
A8: DADOS DA EMPRESA
A9: CRONOGRAMA FÍSICO-FINANCEIRO
A10: Obra: Reforma e Adaptações do Bloco 03 - Etapa 02 | D10: Endereço: Rua Pinheiro Machado, 205 - Bairro Industrial
A11: Cliente: Instituto Federal Sul-Rio-Grandense - Câmpus Avançado Novo Hamburgo | D11: Cidade: Novo Hamburgo - RS
A13: ITEM | B13: 25 dias | D13: 50 dias | F13: 75 dias | H13: TOTAL
B14: VALOR | C14: % | D14: VALOR | E14: % | F14: VALOR | G14: % | H14: VALOR | I14: %
A15: 2. SERVIÇOS PRELIMINARES / TÉCNICOS | B15: =C15*$H15 -> #VALUE! | C15: 0.95 | D15: =E15*$H15 -> #VALUE! | E15: 0.05 | F15: =G15*$H15 -> #VALUE! | H15: ='Orçamento Bloco 03 - NH'!M16 -> #VALUE! | I15: =C15+E15+G15 -> 1
A16: 6. SUPERESTRUTURA | B16: =C16*$H16 -> #VALUE! | C16: 1 | D16: =E16*$H16 -> #VALUE! | F16: =G16*$H16 -> #VALUE! | H16: ='Orçamento Bloco 03 - NH'!M36 -> #VALUE! | I16: =C16+E16+G16 -> 1
A17: 7. ALVENARIA / VEDAÇÃO / DIVISÓRIA | D17: =E17*$H17 -> #VALUE! | E17: 1 | H17: ='Orçamento Bloco 03 - NH'!M43 -> #VALUE! | I17: =C17+E17+G17 -> 1
A18: 8. ESQUADRIAS | D18: =E18*$H18 -> #VALUE! | E18: 1 | H18: ='Orçamento Bloco 03 - NH'!M48 -> #VALUE! | I18: =C18+E18+G18 -> 1
A19: 9. COBERTURA | B19: =C19*$H19 -> #VALUE! | D19: =E19*$H19 -> #VALUE! | E19: 1 | F19: =G19*$H19 -> #VALUE! | H19: ='Orçamento Bloco 03 - NH'!M56 -> #VALUE! | I19: =C19+E19+G19 -> 1
A20: 10. INSTALAÇÕES ELÉTRICAS | B20: =C20*$H20 -> #VALUE! | C20: 0.3 | D20: =E20*$H20 -> #VALUE! | E20: 0.3 | F20: =G20*$H20 -> #VALUE! | G20: 0.4 | H20: ='Orçamento Bloco 03 - NH'!M62 -> #VALUE! | I20: =C20+E20+G20 -> 1
A21: 16. VIDROS | D21: =E21*$H21 -> #VALUE! | F21: =G21*$H21 -> #VALUE! | G21: 1 | H21: ='Orçamento Bloco 03 - NH'!M98 -> #VALUE! | I21: =C21+E21+G21 -> 1
A22: 17. PINTURA | B22: =C22*$H22 -> #VALUE! | D22: =E22*$H22 -> #VALUE! | E22: 0.28 | F22: =G22*$H22 -> #VALUE! | G22: 0.72 | H22: ='Orçamento Bloco 03 - NH'!M101 -> #VALUE! | I22: =C22+E22+G22 -> 1
A23: 18. SERVIÇOS COMPLEMENTARES | B23: =C23*$H23 -> #VALUE! | D23: =E23*$H23 -> #VALUE! | F23: =G23*$H23 -> #VALUE! | G23: 1 | H23: ='Orçamento Bloco 03 - NH'!M112 -> #VALUE! | I23: =C23+E23+G23 -> 1
A24: 21. GERENCIAMENTO DE OBRAS / FISCALIZAÇÃO | B24: =C24*$H24 -> #VALUE! | C24: 0.33333 | D24: =E24*$H24 -> #VALUE! | E24: 0.33333 | F24: =G24*$H24 -> #VALUE! | G24: 0.33333 | H24: ='Orçamento Bloco 03 - NH'!M115 -> #VALUE! | I24: =C24+E24+G24 -> 0.99999
A25: 22. FORRO | B25: =C25*$H25 -> #VALUE! | C25: 0 | D25: =E25*$H25 -> #VALUE! | E25: 0 | F25: =G25*$H25 -> #VALUE! | G25: 1 | H25: ='Orçamento Bloco 03 - NH'!M118 -> #VALUE! | I25: =C25+E25+G25 -> 1
A26: 24. PISO | B26: =C26*$H26 -> #VALUE! | C26: 1 | D26: =E26*$H26 -> #VALUE! | E26: 0 | F26: =G26*$H26 -> #VALUE! | G26: 0 | H26: ='Orçamento Bloco 03 - NH'!M122 -> #VALUE! | I26: =C26+E26+G26 -> 1
A27: Total da Etapa | B27: =SUM(B15:B26) -> #VALUE! | C27: =B27/$H$27 -> #VALUE! | D27: =SUM(D15:D26) -> #VALUE! | E27: =D27/$H$27 -> #VALUE! | F27: =SUM(F15:F26) -> #VALUE! | G27: =F27/$H$27 -> #VALUE! | H27: ='Orçamento Bloco 03 - NH'!M125 -> #VALUE! | I27: =C27+E27+G27 -> #VALUE!
A28: Total Acumulado | B28: =B27 -> #VALUE! | C28: =C27 -> #VALUE! | D28: =B28+D27 -> #VALUE! | E28: =C28+E27 -> #VALUE! | F28: =D28+F27 -> #VALUE! | G28: =E28+G27 -> #VALUE! | H28: =SUM(H15:H26) -> #VALUE!
F31: Local e Data
F36: Nome do Profissional Responsável
F37: Especificação do Cargo/função
F38: N° do CREA ou CAU
