Workbook

Sheet Orientações
C4: INSTITUTO FEDERAL SUL-RIO-GRANDENSE
C5: Pró-reitoria de Gestão de Pessoas
C6: Departamento de Avaliação e Desenvolvimento de Pessoas
B9: Plano de Desenvolvimento de Pessoas 2025
B11: O Plano de Desenvolvimento de Pessoas (PDP) do IFSul contempla as necessidades de desenvolvimento da Instituição para o ano de 2025, conforme dispõe o Decreto nº 9.991/2019, alterado pelo Decreto nº 10.506/2020, e a Instrução Normativa SGP-ENAP/SEDGG/ME nº 21/2021.
B13: Orientações gerais
B15: 1) Ao elaborar sua proposta de ação de desenvolvimento (projeto de capacitação), você deverá indicar qual necessidade de desenvolvimento visa atender com a ação.
B16: 2) Para realizar essa indicação identifique o número correspondente à necessidade (na coluna Nº das planilhas de cada unidade) e preencha os campos em amarelo da planilha INDICAÇÃO (Unidade, Ação de desenvolvimento e Nº). Em seguida, imprima a página em PDF e anexe ao processo.
B17: 3) As ações de desenvolvimento indicadas pela Enap são de caráter SUGESTIVO, sendo discricionário do órgão/entidade executá-las. No entanto, o Órgão Central do SIPEC reforça a importância do bom aproveitamento e priorização dos recursos públicos já disponíveis na administração pública federal.
B18: 4) Ao longo do ano, poderão ser incluídas novas necessidades de desenvolvimento. A PROGEP informará os prazos e as condições para essas inclusões.

Sheet INDICAÇÃO
E1: =MAX(Bagé!A:A) -> 22
A2: INSTITUTO FEDERAL SUL-RIO-GRANDENSE | E2: =MAX(Camaquã!A:A) -> 24
A3: Pró-reitoria de Gestão de Pessoas | E3: =MAX(Charqueadas!A:A) -> 17
A4: Departamento de Avaliação e Desenvolvimento de Pessoas | E4: =MAX(Gravataí!A:A) -> 18
E5: =MAX(Jaguarão!A:A) -> 3
E6: =MAX(Lajeado!A:A) -> 27
A7: FORMULÁRIO DE INDICAÇÃO DA NECESSIDADE DE DESENVOLVIMENTO DO PDP | E7: =MAX('Novo Hamburgo'!A:A) -> 4
E8: =MAX('Passo Fundo'!A:A) -> 16
A9: Unidade | D9: =IF(B9="Câmpus Bagé",1,IF(B9="Câmpus Camaquã",2,IF(B9="Câmpus Charqueadas",3,IF(B9="Câmpus Gravataí",4,IF(B9="Câmpus Jaguarão",5,IF(B9="Câmpus Lajeado",6,IF(B9="Câmpus Novo Hamburgo",7,IF(B9="Câmpus Passo Fundo",8,IF(B9="Câmpus Pelotas",9,IF(B9="Câmpus Pelotas Visconde da Graça",10,IF(B9="Reitoria",11,IF(B9="Câmpus Santana do Livramento",12,IF(B9="Câmpus Sapiranga",13,IF(B9="Câmpus Sapucaia do Sul",14,IF(B9="Câmpus Venâncio Aires",15,""))))))))))))))) | E9: =MAX(Pelotas!A:A) -> 86
E10: =MAX('Pelotas Visconde da Graça'!A:A) -> 9
A11: Ação de desenvolvimento | E11: =MAX(Reitoria!A:A) -> 29
E12: =MAX('Santana do Livramento'!A:A) -> 14
E13: =MAX(Sapiranga!A:A) -> 26
E14: =MAX('Sapucaia do Sul'!A:A) -> 42
E15: =MAX('Venâncio Aires'!A:A) -> 26
A17: Necessidade de desenvolvimento do PDP 2025
A19: Nº | D19: =IF(B9=1,Bagé!A2:A23,IF(B9=2,Camaquã!A2:A25,IF(B9=3,Charqueadas!A2:A18,IF(B9=4,Gravataí!A2:A19,IF(B9=5,Jaguarão!A2:A4,IF(B9=6,Lajeado!A2:A28,IF(B9=7,'Novo Hamburgo'!A2:A5,IF(B9=8,'Passo Fundo'!A2:A17,IF(B9=9,Pelotas!A2:A87,IF(B9=10,'Pelotas Visconde da Graça'!A2:A10,IF(B9=11,Reitoria!A2:A30,IF(B9=12,'Santana do Livramento'!A2:A15,IF(B9=13,Sapiranga!A2:A27,IF(B9=14,'Sapucaia do Sul'!A2:A43,IF(B9=15,'Venâncio Aires'!A2:A27,"")))))))))))))))
A20: O que NÃO SE SABE FAZER ou NÃO SER | B20: =VLOOKUP(B19,IF(D9=1,Tabela1[#All],IF(D9=2,Tabela2[#All],IF(D9=3,Tabela3[#All],IF(D9=4,Tabela4[#All],IF(D9=5,Tabela5[#All],IF(D9=6,Tabela6[#All],IF(D9=7,Tabela7[#All],IF(D9=8,Tabela8[#All],IF(D9=9,Tabela9[#All],IF(D9=10,Tabela10[#All],IF(D9=11,Tabela11[#All],IF(D9=12,Tabela12[#All],IF(D9=13,Tabela13[#All],IF(D9=14,Tabela14[#All],IF(D9=15,Tabela15[#All]))))))))))))))),2,FALSE) -> #N/A
A21: Perfil dos agentes públicos | B21: =VLOOKUP(B19,IF(D9=1,Tabela1[#All],IF(D9=2,Tabela2[#All],IF(D9=3,Tabela3[#All],IF(D9=4,Tabela4[#All],IF(D9=5,Tabela5[#All],IF(D9=6,Tabela6[#All],IF(D9=7,Tabela7[#All],IF(D9=8,Tabela8[#All],IF(D9=9,Tabela9[#All],IF(D9=10,Tabela10[#All],IF(D9=11,Tabela11[#All],IF(D9=12,Tabela12[#All],IF(D9=13,Tabela13[#All],IF(D9=14,Tabela14[#All],IF(D9=15,Tabela15[#All]))))))))))))))),3,FALSE) -> #N/A
A22: Agentes Públicos | B22: =VLOOKUP(B19,IF(D9=1,Tabela1[#All],IF(D9=2,Tabela2[#All],IF(D9=3,Tabela3[#All],IF(D9=4,Tabela4[#All],IF(D9=5,Tabela5[#All],IF(D9=6,Tabela6[#All],IF(D9=7,Tabela7[#All],IF(D9=8,Tabela8[#All],IF(D9=9,Tabela9[#All],IF(D9=10,Tabela10[#All],IF(D9=11,Tabela11[#All],IF(D9=12,Tabela12[#All],IF(D9=13,Tabela13[#All],IF(D9=14,Tabela14[#All],IF(D9=15,Tabela15[#All]))))))))))))))),4,FALSE) -> #N/A
A23: Solução para este problema de desempenho | B23: =VLOOKUP(B19,IF(D9=1,Tabela1[#All],IF(D9=2,Tabela2[#All],IF(D9=3,Tabela3[#All],IF(D9=4,Tabela4[#All],IF(D9=5,Tabela5[#All],IF(D9=6,Tabela6[#All],IF(D9=7,Tabela7[#All],IF(D9=8,Tabela8[#All],IF(D9=9,Tabela9[#All],IF(D9=10,Tabela10[#All],IF(D9=11,Tabela11[#All],IF(D9=12,Tabela12[#All],IF(D9=13,Tabela13[#All],IF(D9=14,Tabela14[#All],IF(D9=15,Tabela15[#All]))))))))))))))),5,FALSE) -> #N/A
A24: Tema Geral | B24: =VLOOKUP(B19,IF(D9=1,Tabela1[#All],IF(D9=2,Tabela2[#All],IF(D9=3,Tabela3[#All],IF(D9=4,Tabela4[#All],IF(D9=5,Tabela5[#All],IF(D9=6,Tabela6[#All],IF(D9=7,Tabela7[#All],IF(D9=8,Tabela8[#All],IF(D9=9,Tabela9[#All],IF(D9=10,Tabela10[#All],IF(D9=11,Tabela11[#All],IF(D9=12,Tabela12[#All],IF(D9=13,Tabela13[#All],IF(D9=14,Tabela14[#All],IF(D9=15,Tabela15[#All]))))))))))))))),6,FALSE) -> #N/A
A25: Recorte do Tema Geral | B25: =VLOOKUP(B19,IF(D9=1,Tabela1[#All],IF(D9=2,Tabela2[#All],IF(D9=3,Tabela3[#All],IF(D9=4,Tabela4[#All],IF(D9=5,Tabela5[#All],IF(D9=6,Tabela6[#All],IF(D9=7,Tabela7[#All],IF(D9=8,Tabela8[#All],IF(D9=9,Tabela9[#All],IF(D9=10,Tabela10[#All],IF(D9=11,Tabela11[#All],IF(D9=12,Tabela12[#All],IF(D9=13,Tabela13[#All],IF(D9=14,Tabela14[#All],IF(D9=15,Tabela15[#All]))))))))))))))),7,FALSE) -> #N/A
A26: Nivel de aprendizagem | B26: =VLOOKUP(B19,IF(D9=1,Tabela1[#All],IF(D9=2,Tabela2[#All],IF(D9=3,Tabela3[#All],IF(D9=4,Tabela4[#All],IF(D9=5,Tabela5[#All],IF(D9=6,Tabela6[#All],IF(D9=7,Tabela7[#All],IF(D9=8,Tabela8[#All],IF(D9=9,Tabela9[#All],IF(D9=10,Tabela10[#All],IF(D9=11,Tabela11[#All],IF(D9=12,Tabela12[#All],IF(D9=13,Tabela13[#All],IF(D9=14,Tabela14[#All],IF(D9=15,Tabela15[#All]))))))))))))))),8,FALSE) -> #N/A
A27: Capacidade a ser desenvolvida | B27: =VLOOKUP(B19,IF(D9=1,Tabela1[#All],IF(D9=2,Tabela2[#All],IF(D9=3,Tabela3[#All],IF(D9=4,Tabela4[#All],IF(D9=5,Tabela5[#All],IF(D9=6,Tabela6[#All],IF(D9=7,Tabela7[#All],IF(D9=8,Tabela8[#All],IF(D9=9,Tabela9[#All],IF(D9=10,Tabela10[#All],IF(D9=11,Tabela11[#All],IF(D9=12,Tabela12[#All],IF(D9=13,Tabela13[#All],IF(D9=14,Tabela14[#All],IF(D9=15,Tabela15[#All]))))))))))))))),9,FALSE) -> #N/A
A28: Resultado que trará para a organização | B28: =VLOOKUP(B19,IF(D9=1,Tabela1[#All],IF(D9=2,Tabela2[#All],IF(D9=3,Tabela3[#All],IF(D9=4,Tabela4[#All],IF(D9=5,Tabela5[#All],IF(D9=6,Tabela6[#All],IF(D9=7,Tabela7[#All],IF(D9=8,Tabela8[#All],IF(D9=9,Tabela9[#All],IF(D9=10,Tabela10[#All],IF(D9=11,Tabela11[#All],IF(D9=12,Tabela12[#All],IF(D9=13,Tabela13[#All],IF(D9=14,Tabela14[#All],IF(D9=15,Tabela15[#All]))))))))))))))),10,FALSE) -> #N/A
A29: Solução possível para resolver essa necessidade | B29: =VLOOKUP(B19,IF(D9=1,Tabela1[#All],IF(D9=2,Tabela2[#All],IF(D9=3,Tabela3[#All],IF(D9=4,Tabela4[#All],IF(D9=5,Tabela5[#All],IF(D9=6,Tabela6[#All],IF(D9=7,Tabela7[#All],IF(D9=8,Tabela8[#All],IF(D9=9,Tabela9[#All],IF(D9=10,Tabela10[#All],IF(D9=11,Tabela11[#All],IF(D9=12,Tabela12[#All],IF(D9=13,Tabela13[#All],IF(D9=14,Tabela14[#All],IF(D9=15,Tabela15[#All]))))))))))))))),11,FALSE) -> #N/A
A30: Envolve uma ação de desenvolvimento a nível de educação formal | B30: =VLOOKUP(B19,IF(D9=1,Tabela1[#All],IF(D9=2,Tabela2[#All],IF(D9=3,Tabela3[#All],IF(D9=4,Tabela4[#All],IF(D9=5,Tabela5[#All],IF(D9=6,Tabela6[#All],IF(D9=7,Tabela7[#All],IF(D9=8,Tabela8[#All],IF(D9=9,Tabela9[#All],IF(D9=10,Tabela10[#All],IF(D9=11,Tabela11[#All],IF(D9=12,Tabela12[#All],IF(D9=13,Tabela13[#All],IF(D9=14,Tabela14[#All],IF(D9=15,Tabela15[#All]))))))))))))))),12,FALSE) -> #N/A
A31: Ação de desenvolvimento sugerida pela Enap | B31: =VLOOKUP(B19,IF(D9=1,Tabela1[#All],IF(D9=2,Tabela2[#All],IF(D9=3,Tabela3[#All],IF(D9=4,Tabela4[#All],IF(D9=5,Tabela5[#All],IF(D9=6,Tabela6[#All],IF(D9=7,Tabela7[#All],IF(D9=8,Tabela8[#All],IF(D9=9,Tabela9[#All],IF(D9=10,Tabela10[#All],IF(D9=11,Tabela11[#All],IF(D9=12,Tabela12[#All],IF(D9=13,Tabela13[#All],IF(D9=14,Tabela14[#All],IF(D9=15,Tabela15[#All]))))))))))))))),13,FALSE) -> #N/A
A32: Escola de governo ofertante | B32: =VLOOKUP(B19,IF(D9=1,Tabela1[#All],IF(D9=2,Tabela2[#All],IF(D9=3,Tabela3[#All],IF(D9=4,Tabela4[#All],IF(D9=5,Tabela5[#All],IF(D9=6,Tabela6[#All],IF(D9=7,Tabela7[#All],IF(D9=8,Tabela8[#All],IF(D9=9,Tabela9[#All],IF(D9=10,Tabela10[#All],IF(D9=11,Tabela11[#All],IF(D9=12,Tabela12[#All],IF(D9=13,Tabela13[#All],IF(D9=14,Tabela14[#All],IF(D9=15,Tabela15[#All]))))))))))))))),14,FALSE) -> #N/A
A33: Link do curso | B33: =VLOOKUP(B19,IF(D9=1,Tabela1[#All],IF(D9=2,Tabela2[#All],IF(D9=3,Tabela3[#All],IF(D9=4,Tabela4[#All],IF(D9=5,Tabela5[#All],IF(D9=6,Tabela6[#All],IF(D9=7,Tabela7[#All],IF(D9=8,Tabela8[#All],IF(D9=9,Tabela9[#All],IF(D9=10,Tabela10[#All],IF(D9=11,Tabela11[#All],IF(D9=12,Tabela12[#All],IF(D9=13,Tabela13[#All],IF(D9=14,Tabela14[#All],IF(D9=15,Tabela15[#All]))))))))))))))),15,FALSE) -> #N/A

Sheet listas
B1: Unidade
A2: 1 | B2: Câmpus Bagé
A3: 2 | B3: Câmpus Camaquã
A4: 3 | B4: Câmpus Charqueadas
A5: 4 | B5: Câmpus Gravataí
A6: 5 | B6: Câmpus Jaguarão
A7: 6 | B7: Câmpus Lajeado
A8: 7 | B8: Câmpus Novo Hamburgo
A9: 8 | B9: Câmpus Passo Fundo
A10: 9 | B10: Câmpus Pelotas
A11: 10 | B11: Câmpus Pelotas Visconde da Graça
A12: 12 | B12: Câmpus Santana do Livramento
A13: 13 | B13: Câmpus Sapiranga
... A16: 11 | B16: Reitoria

Sheet Bagé
A1: Nº | B1: O que NÃO SE SABE FAZER ou NÃO SER | C1: Perfil dos agentes públicos | D1: Agentes Públicos | E1: Solução para este problema de desempenho | F1: Tema Geral | G1: Recorte do Tema Geral | H1: Nivel de aprendizagem | I1: Capacidade a ser desenvolvida | J1: Resultado que trará para a organização | K1: Solução possível para resolver essa necessidade | L1: Envolve uma ação de desenvolvimento a nível de educação formal | M1: Ação de desenvolvimento sugerida pela Enap | N1: Escola de governo ofertante | O1: Link do curso
A2: 1 | B2: Aprender mais sobre a educação profissional e tecnológica e a gestão pública escolar | C2: todos os servidores | D2: 20 | E2: Especializar em um saber, atividade ou ferramenta de trabalho | F2: Administração Educacional | G2: gestão na educação profissional e tecnológica | H2: APLICAR: quando se precisa executar ou implementar na prática o conteúdo que será aprendido | I2: Superar o desempenho padrão, apresentando soluções alinhadas ao cumprimento de metas e ao alcance dos objetivos estratégicos das organizações públicas | J2: Melhor atuação dos Administradores no IFSul | K2: ACE - centros de excelência | L2: DOUTORADO
A3: 2 | B3: aprender mais sobre a instituição, educação profissional, gestão escolar, gestão pública | C3: administrador | D3: 2 | E3: Especializar em um saber, atividade ou ferramenta de trabalho | F3: Administração Educacional | G3: Gestão e educação profissional | H3: APLICAR: quando se precisa executar ou implementar na prática o conteúdo que será aprendido | I3: Superar o desempenho padrão, apresentando soluções alinhadas ao cumprimento de metas e ao alcance dos objetivos estratégicos das organizações públicas | J3: melhor entendimento da instituição e seu papel dentro dela contribuirá para desempenhar melhor suas funções e atingir os objetivos de ambos | K3: AE - cursos presenciais | L3: MESTRADO | M3: gestão de projetos educacionais | administração pública e contexto institucional contemporâneo | gestão do conhecimento no setor público | N3: EVG(ENAP) | EVG(ENAP) | EVG(ENAP) | O3: https://www.escolavirtual.gov.br/curso/415 | https://www.escolavirtual.gov.br/curso/422 | https://www.escolavirtual.gov.br/curso/414
A4: 3 | B4: APRIMORAR CAPACIDADES E ATUALIZAR CONHECIMENTOS SOBRE NOVAS NORMATIVAS E FERRAMENTAS OPERACIONAIS/SISTEMAS | C4: ATUAÇÃO NAS ÁREAS ADMINISTRATIVAS, FINANCEIRA, CONTÁBIL, SETOR DE COMPRAS E LICITAÇÕES , GESTÃO DE CONTRATOS, GESTÃO ADMINISTRATIVA, CONTROLE DE ALMOXARIFADO / PATRIMONIO | D4: 18 | E4: Especializar em um saber, atividade ou ferramenta de trabalho | F4: Governança e Gestão de Riscos | G4: APRIMORAR O CONHECIMENTO SOBRE GESTÃO DE CONTRATOS , REGISTROS CONTÁBEIS, PATRIMONIAIS e FINANCEIROS, QUALIFICAR A GESTÃO ADMINISTRATIVA | H4: APLICAR: quando se precisa executar ou implementar na prática o conteúdo que será aprendido | I4: Idear soluções inovadoras e efetivas para problemas de baixa, média ou elevada complexidade com a utilização de dados (numéricos e não numéricos) e evidências que aumentem a precisão e viabilidade das soluções | J4: QUALIFICAÇÃO DOS SERVIDORES, ENTREGA DE MELHORES SERVIÇOS PARA A SOCIEDADE, DIMINUIÇÃO DE RISCOS OPERACIONAIS PARA INSTITUIÇÃO | K4: GC - regras e procedimentos | L4: Não. | M4: fiscalização e gestão de contratos de tic | introdução à gestão de riscos | gestão de riscos nas contratações públicas | N4: EVG(ENAP) | EVG(ENAP) | SUAP(ENAP) | O4: https://www.escolavirtual.gov.br/curso/371 | https://www.escolavirtual.gov.br/curso/923 | https://suap.enap.gov.br/portaldoaluno/curso/2072/?area=7
A5: 4 | B5: Aprimorar conhecimentos nas áreas de integração lavoura-pecuária, manejo de pastagens e ovinocultura | C5: Médico Veterinário do Campus Bagé | D5: 1 | E5: Melhorar o que já executo | F5: Pastagem e Forragicultura | G5: Integração lavoura-pecuária, pastagens perenes e anuais de inverno e verão | H5: APLICAR: quando se precisa executar ou implementar na prática o conteúdo que será aprendido | I5: Tomar decisões e gerenciar de forma competente e estratégica os atos da organização | J5: Melhoria na estrutura de aprendizado prático oferecida aos alunos, melhor utilização dos recursos disponíveis e alinhamento com as novas tecnologias utilizadas a campo | K5: GC - melhores práticas | L5: Não.
A6: 5 | B6: Aprimorar conhecimentos relativos a educação profissional e tecnológica. | C6: Assistentes em Administração | D6: 7 | E6: Especializar em um saber, atividade ou ferramenta de trabalho | F6: Administração de Setores Específicos | G6: Mestrado Profissional em Educação Profissional e Tecnologia | H6: CRIAR: quando se precisa generalizar, planejar ou produzir sobre o conteúdo que será aprendido | I6: Idear soluções inovadoras e efetivas para problemas de baixa, média ou elevada complexidade com a utilização de dados (numéricos e não numéricos) e evidências que aumentem a precisão e viabilidade das soluções | J6: Capacidade de promover resultados significativos de melhoramento e produção institucional. | K6: GC - melhores práticas | L6: MESTRADO
A7: 6 | B7: Aprimorar e adquirir capacidades que envolvem tecnologias emergentes, utilizadas no contexto atual da Tecnologia da Informação | C7: Servidores da área de Tecnologia da Informação | D7: 2 | E7: Desenvolver novos saberes, processos ou ferramentas relacionadas ao meu trabalho | F7: Tecnologia da Informação | G7: Tecnologias emergentes da área de Tecnologia da Informação | H7: APLICAR: quando se precisa executar ou implementar na prática o conteúdo que será aprendido | I7: Construir soluções criativas, estratégicas e tempestivas adequadas ao contexto | J7: Aperfeiçoamento sobre as tecnologias atuais utilizadas no âmbito da Tecnologia da Informação | K7: AE - cursos presenciais | L7: Não. | M7: internet das coisas (iot) aplicada para resolução de desafios | inovações em tecnologia educacional | praticando business intelligence | N7: EVG(ENAP) | EVG(ENAP) | SUAP(ENAP) | O7: https://www.escolavirtual.gov.br/curso/534 | https://www.escolavirtual.gov.br/curso/511 | https://suap.enap.gov.br/portaldoaluno/curso/2016/?area=2
A8: 7 | B8: Aprimorar e adquirir capacidades que envolvem tecnologias emergentes, utilizadas no contexto atual da Tecnologia da Informação e Educação | C8: Servidores da área de Tecnologia da Informação | D8: 2 | E8: Desenvolver novos saberes, processos ou ferramentas relacionadas ao meu trabalho | F8: Tecnologia da Informação | G8: Tecnologias emergentes da área de Tecnologia da Informação e Educação | H8: APLICAR: quando se precisa executar ou implementar na prática o conteúdo que será aprendido | I8: Construir soluções criativas, estratégicas e tempestivas adequadas ao contexto | J8: Aperfeiçoamento sobre as tecnologias atuais utilizadas no âmbito da Tecnologia da Informação e Educação | K8: AE - e-learning | L8: MESTRADO | M8: inovações em tecnologia educacional | praticando business intelligence | N8: EVG(ENAP) | SUAP(ENAP) | O8: https://www.escolavirtual.gov.br/curso/511 | https://suap.enap.gov.br/portaldoaluno/curso/2016/?area=2
A9: 8 | B9: APRIMORAR E ATUALIZAR OS CONHECIMENTOS PARA ATENDER DE FORMA PLENA E COM SEGURANÇA SUAS ATIVIDADES EM ATENDIMENTO ÀS NORMAS EXISTENTES. | C9: AGENTES QUE DESENVOLVEM SUAS ATIVIDADES RELACIONADAS A ELABORAÇÃO DE CONTRATOS, GESTÃO E FISCALIZAÇÃO DE CONTRATOS, PLANILHA DE CUSTOS, ELABORAÇÃO DE TERMOS DE REFERÊNCIAS, PROCESSOS LICITATÓRIOS. | D9: 12 | E9: Melhorar o que já executo | F9: Governança e Gestão de Riscos | G9: APRIMORAR CONHECIMENTOS NA ELABORAÇÃO DE CONTRATOS, PROCESSOS DE COMPRAS DE MATERIAIS E SERVIÇOS E, NA GESTÃO DE RISCOS | H9: APLICAR: quando se precisa executar ou implementar na prática o conteúdo que será aprendido | I9: Antecipar, identificar e administrar a ocorrência de situações de risco | J9: MELHOR EFICIÊNCIA, EFICÁCIA E PADRONIZAÇÃO DE PROCEDIMENTOS. | K9: AE - cursos presenciais | L9: Não.
A10: 9 | B10: Aprofundar conhecimentos da área, desde teóricos à práticos, através da participação de eventos, congressos, intercâmbios, ou pós-graduação | C10: Docentes EBTT e TAEs | D10: 20 | E10: Especializar em um saber, atividade ou ferramenta de trabalho | F10: Química Orgânica | G10: Ensino e/ou pesquisa envolvendo reações químicas. | H10: APLICAR: quando se precisa executar ou implementar na prática o conteúdo que será aprendido | I10: Idear soluções inovadoras e efetivas para problemas de baixa, média ou elevada complexidade com a utilização de dados (numéricos e não numéricos) e evidências que aumentem a precisão e viabilidade das soluções | J10: Desenvolvimento de novas tecnologias, produtos, conhecimentos e habilidades. | K10: ACE - centros de excelência | L10: Não.
A11: 10 | B11: Capacidade de produzir atividades baseadas em conhecimento atualizado na área de finanças, compras, almoxarifado, patrimônio e contratos. | C11: Assistentes em Administração | D11: 7 | E11: Especializar em um saber, atividade ou ferramenta de trabalho | F11: Administração de Setores Específicos | G11: Compras e Licitações, Orçamento Financiero e Contabilidade, Contratos, Almoxarifado e Patrimônio. | H11: APLICAR: quando se precisa executar ou implementar na prática o conteúdo que será aprendido | I11: Colaborar e cooperar em atividades desenvolvidas coletivamente para atingir metas compartilhadas | J11: Atividades desenvolvidas com maior aprimoramento e de forma mais eficiente. | K11: RSC - membros, eventos, informações e recursos de comunidade | L11: Não.
A12: 11 | B12: Capacitação sobre atualizações nas Legislações Tributárias, Suprimento de Fundos e Operacionalização dos Sistemas: Comprasnet Contratos, SIAFI e SCDP. | C12: Servidores lotados nas COCAFs | D12: 3 | E12: Especializar em um saber, atividade ou ferramenta de trabalho | F12: Gestor Público | G12: Finanças Públicas | H12: APLICAR: quando se precisa executar ou implementar na prática o conteúdo que será aprendido | I12: Orientar suas ações com base em desempenho, metas, resultados e seus impactos, construídos de forma aderente ao contexto organizacional e social existente | J12: Melhora dos processos e conhecimentos necessários para a execução do trabalho. | K12: AE - cursos presenciais | L12: MESTRADO | M12: scdp - aprovação e pagamento | lei de responsabilidade fiscal (lrf) e novo regime fiscal (nrf) | O arrolamento de bens para a proteção do crédito tributário no âmbito da Receita Federal | N12: EVG(ENAP) | EVG(ENAP) | EVG(Enap) | O12: https://www.escolavirtual.gov.br/curso/362 | https://www.escolavirtual.gov.br/curso/341 | https://www.escolavirtual.gov.br/curso/460
A13: 12 | B13: Comunicação Não Violenta | C13: Assistentes em Administração | D13: 7 | E13: Aprender o básico | F13: Comunicação Institucional | G13: Comunicação Não Violenta | H13: CRIAR: quando se precisa generalizar, planejar ou produzir sobre o conteúdo que será aprendido | I13: Adotar novos insights à sua ação | J13: Ambiente de Trabalhoharmonizado bem como produção de documentos com melhores resultados e níveis de entendimento no grupo. | K13: GT - competências e níveis de proficiência | L13: Não. | M13: comunicação não violenta | N13: EVG(ENAP) | O13: https://www.escolavirtual.gov.br/curso/463
A14: 13 | B14: Ética no serviço Público | C14: Assistentes em Administração | D14: 7 | E14: Aprender o básico | F14: Ética no Setor Público | G14: Ética | H14: CRIAR: quando se precisa generalizar, planejar ou produzir sobre o conteúdo que será aprendido | I14: Colaborar e cooperar em atividades desenvolvidas coletivamente para atingir metas compartilhadas | J14: Espera-se que o servidor tenha suas ações e práticas pautadas na ética prevista em seu código de ações no trabalho. | K14: ACE - centros de excelência | L14: Não. | M14: Ética e Integridade Pública(trilha) | ética e serviço público | introdução à gestão e apuração da ética pública | N14: EVG(ENAP) | EVG(ENAP) | EVG(ENAP) | O14: https://www.escolavirtual.gov.br/trilha/239 | https://www.escolavirtual.gov.br/curso/4 | https://www.escolavirtual.gov.br/curso/347
A15: 14 | B15: Gestão de Pessoas | C15: Assistentes em Administração | D15: 7 | E15: Desenvolver novos saberes, processos ou ferramentas relacionadas ao meu trabalho | F15: Gestão de Pessoas | G15: Gestão de Pessoas | H15: ANALISAR: quando se precisa diferenciar, organizar, atribuir ou concluir sobre o conteúdo que será aprendido | I15: Construir parcerias e fortalecer as relações institucionais, atuando em um ambiente de governança em rede | J15: Colaboração com a gestão de pessoas da insituição | K15: RSC - outras pessoas em funções similares ou relacionadas | L15: Não. | M15: Gestão de Pessoas | N15: EVG(Enap) | O15: https://www.escolavirtual.gov.br/curso/1338
A16: 15 | B16: Há a necessidade de aprimorar os conhecimentos técnicos, de forma mais aprofundada. | C16: Engenheiro Agrônomo do IFSul - Câmpus Bagé. | D16: 1 | E16: Desenvolver novos saberes, processos ou ferramentas relacionadas ao meu trabalho | F16: Ciência do Solo | G16: Agricultura Regenerativa voltada ao estudo de microrganismos, saúde e sustentabilidade do uso solo. | H16: ANALISAR: quando se precisa diferenciar, organizar, atribuir ou concluir sobre o conteúdo que será aprendido | I16: Idear soluções inovadoras e efetivas para problemas de baixa, média ou elevada complexidade com a utilização de dados (numéricos e não numéricos) e evidências que aumentem a precisão e viabilidade das soluções | J16: Com a aprendizagem concluída, conseguirei atender de forma mais eficiente as demandas do setor em que atuo, desenvolvendo atividades de ensino, pesquisa e extensão, de forma mais adequada e tecnicamente mais aprofundada. | K16: GC - tópicos de informação | L16: DOUTORADO
A17: 16 | B17: Habilidades para gerenciar e trabalhar em grupo. | C17: Assistentes em Administração | D17: 7 | E17: Desenvolver novos saberes, processos ou ferramentas relacionadas ao meu trabalho | F17: Gestor Público | G17: Gerenciar equipe, trabalhar em grupo, relacionar-se no ambiente de trabalho, trabalhar em home office, trabalho remoto, trabalho a distância. | H17: CRIAR: quando se precisa generalizar, planejar ou produzir sobre o conteúdo que será aprendido | I17: Colaborar e cooperar em atividades desenvolvidas coletivamente para atingir metas compartilhadas | J17: Eficiência no trabalho remoto, em grupo e situações gerenciais. | K17: AE - cursos presenciais | L17: Não. | M17: Engajamento de pessoas e equipes(trilha) | Habilidades de Gestão de Pessoas | Desenvolvimento de Equipes | N17: EVG(ENAP) | SUAP(ENAP) | SUAP(ENAP) | O17: https://www.escolavirtual.gov.br/trilha/268 | https://suap.enap.gov.br/portaldoaluno/curso/2023/ | https://suap.enap.gov.br/portaldoaluno/curso/2760/
A18: 17 | B18: O doutorado ou pós-doutorado é crucial para aprimorar conhecimentos e habilidades em Ciências e Educação, contribuindo para o docente e a instituição | C18: Docentes | D18: 4 | E18: Especializar em um saber, atividade ou ferramenta de trabalho | F18: Educação e Docência | G18: Análise e melhorias na Educação e Ciências | H18: ANALISAR: quando se precisa diferenciar, organizar, atribuir ou concluir sobre o conteúdo que será aprendido | I18: Identificar suas capacidades e limitações, assumindo o compromisso pelo próprio desenvolvimento, mediante a adoção de uma postura de abertura à aprendizagem contínua | J18: Avanços na qualidade da pesquisa, inovação, desenvolvimento, capacitação, impacto social e acadêmico | K18: GT - objetivos de trabalho e desenvolvimento | L18: DOUTORADO
A19: 18 | B19: O doutorado ou pós-doutorado é crucial para aprimorar conhecimentos e habilidades em Ciências e Educação, contribuindo para o docente e a instituição. | C19: Professores de Ciências, incluindo Química, Física e Biologia. | D19: 2 | E19: Especializar em um saber, atividade ou ferramenta de trabalho | F19: Ensino-Aprendizagem | G19: Análise e melhorias na Educação e Ciências | H19: ANALISAR: quando se precisa diferenciar, organizar, atribuir ou concluir sobre o conteúdo que será aprendido | I19: Identificar suas capacidades e limitações, assumindo o compromisso pelo próprio desenvolvimento, mediante a adoção de uma postura de abertura à aprendizagem contínua | J19: Avanços na qualidade da pesquisa, inovação, desenvolvimento, capacitação, impacto social e acadêmico. | K19: GT - objetivos de trabalho e desenvolvimento | L19: DOUTORADO
A20: 19 | B20: Ortografia e normas técnicas relativas a documentos institucionais | C20: Assistentes em Administração | D20: 7 | E20: Aprender o básico | F20: Língua Portuguesa | G20: Aprimorr o uso da língua falada e escrita | H20: CRIAR: quando se precisa generalizar, planejar ou produzir sobre o conteúdo que será aprendido | I20: Escutar, indagar e expressar conceitos e ideias nos momentos apropriados e de forma efetiva, garantindo uma dinâmica produtiva das interações internas e externas | J20: Documentos mais claros, precisos e corretos | K20: AE - cursos presenciais | L20: Não. | M20: elaboração de editais para aquisições no setor público | Praticando a Aplicação de Penalidades nos Contratos Administrativos | Praticando a Elaboração de Indicadores de Desempenho Institucional | N20: EVG(ENAP) | SUAP(ENAP) | SUAP(ENAP) | O20: https://www.escolavirtual.gov.br/curso/431 | https://suap.enap.gov.br/portaldoaluno/curso/2037/ | https://suap.enap.gov.br/portaldoaluno/curso/2051/
A21: 20 | B21: Profissionalização em Educação e Tecnologia. | C21: Assistentes em Administração | D21: 7 | E21: Desenvolver novos saberes, processos ou ferramentas relacionadas ao meu trabalho | F21: Sociologia do Desenvolvimento | G21: Tecnologias e Educação | H21: CRIAR: quando se precisa generalizar, planejar ou produzir sobre o conteúdo que será aprendido | I21: Autoregular suas emoções de modo a construir uma cultura organizacional fundada em valores humanos, reconhecendo intimamente suas forças e fraquezas de ordem comportamental | J21: Capacidade de promover o uso do aprendizado no ambiente do trabalho | K21: AE - cursos presenciais | L21: DOUTORADO
A22: 21 | B22: RETENÇÕES TRIBUTÁRIAS, SIAFI, LIQUIDAÇÕES, PAGTO., CONTAS VINCULADAS BB, CONFORMIDADE CONTÁBIL E DE GESTÃO E DEMAIS PROCEDIMENTOS CONTÁBEIS | C22: Técnico Contábil - áreas contábil, financeira, orçamentária | D22: 4 | E22: Desenvolver novos saberes, processos ou ferramentas relacionadas ao meu trabalho | F22: Governança e Gestão de Riscos | G22: Desenvolver as atividades do setor com segurança e menores riscos para a instituição. | H22: APLICAR: quando se precisa executar ou implementar na prática o conteúdo que será aprendido | I22: Idear soluções inovadoras e efetivas para problemas de baixa, média ou elevada complexidade com a utilização de dados (numéricos e não numéricos) e evidências que aumentem a precisão e viabilidade das soluções | J22: PADRONIZAÇÃO DE PROCEDIMENTOS E REDUÇÃO DE RISCOS | K22: AE - cursos presenciais | L22: Não. | M22: lei de responsabilidade fiscal (lrf) e novo regime fiscal (nrf) | contabilidade com foco na gestão do patrimônio público | boas práticas em contratos de serviços terceirizados | N22: EVG(ENAP) | EVG(ENAP) | EVG(ENAP) | O22: https://www.escolavirtual.gov.br/curso/341 | https://www.escolavirtual.gov.br/curso/342 | https://www.escolavirtual.gov.br/curso/929
A23: 22 | B23: Treinamentos na área de patrimônio e almoxarifado, licitações | C23: Treinamentos na área de patrimônio e almoxarifado, licitações | D23: 4 | E23: Especializar em um saber, atividade ou ferramenta de trabalho | F23: Políticas Públicas | G23: Gestão de patrimônio e almoxarifado, licitações | H23: APLICAR: quando se precisa executar ou implementar na prática o conteúdo que será aprendido | I23: Escutar, indagar e expressar conceitos e ideias nos momentos apropriados e de forma efetiva, garantindo uma dinâmica produtiva das interações internas e externas | J23: Atingimento de resultados, transparência e motivação. | K23: SD - modelos | L23: MESTRADO

Sheet Camaquã
A1: Nº | B1: O que NÃO SE SABE FAZER ou NÃO SER | C1: Perfil dos agentes públicos | D1: Agentes Públicos | E1: Solução para este problema de desempenho | F1: Tema Geral | G1: Recorte do Tema Geral | H1: Nivel de aprendizagem | I1: Capacidade a ser desenvolvida | J1: Resultado que trará para a organização | K1: Solução possível para resolver essa necessidade | L1: Envolve uma ação de desenvolvimento a nível de educação formal | M1: Ação de desenvolvimento sugerida pela Enap | N1: Escola de governo ofertante | O1: Link do curso
A2: 1 | B2: Adquirir novos conhecimentos que ajudarão a aperfeiçoar o trabalho desenvolvido e aprofundar conhecimentos já adquiridos. | C2: Todos os servidores | D2: 10 | E2: Melhorar o que já executo | F2: Outro - não especificado | G2: Aperfeiçoamento de saberes nas áreas administrativa e do ensino, para aprimoramento do trabalho executado. | H2: APLICAR: quando se precisa executar ou implementar na prática o conteúdo que será aprendido | I2: Identificar suas capacidades e limitações, assumindo o compromisso pelo próprio desenvolvimento, mediante a adoção de uma postura de abertura à aprendizagem contínua | J2: Qualificação do trabalho com desenvolvimento pessoal e profissional | K2: SD - explicações e orientações | L2: Não. | M2: praticando business intelligence | criatividade e inovação aplicada ao serviço público | N2: SUAP(ENAP) | EVG(ENAP) | O2: https://suap.enap.gov.br/portaldoaluno/curso/2016/?area=2 | https://www.escolavirtual.gov.br/curso/467
A3: 2 | B3: Ampliar conhecimento para análise de proteínas hipotéticas e identificar aquelas com potencial para aplicações no controle de agentes patogênicos. | C3: As atividades são de interesse para professores/pesquisadores da área de Biologia Molecular/Genômica que analisam dados de sequenciamento de genomas utilizando ferramentas da Bioinformática e profissionais da informática envolvidos em estudos que analisam dados de sequenciamento de genes. | D3: 1 | E3: Especializar em um saber, atividade ou ferramenta de trabalho | F3: Biologia Molecular | G3: Aplicação de ferramentas de Bioinformática para análise in sílico da sequência de aminoácidos de proteínas hipotéticas, que indiquem provável função. | H3: ANALISAR: quando se precisa diferenciar, organizar, atribuir ou concluir sobre o conteúdo que será aprendido | I3: Idear soluções inovadoras e efetivas para problemas de baixa, média ou elevada complexidade com a utilização de dados (numéricos e não numéricos) e evidências que aumentem a precisão e viabilidade das soluções | J3: Produção de um artigo científico para publicação em revista especializada; continuidade dos projetos de pesquisa e maior envolvimento dos alunos de Ensino Médio na aplicação de ferramentas de Bioinformática para análise de dados genômicos. | K3: RSC - outras pessoas em funções similares ou relacionadas | L3: PÓS-DOUTORADO
A4: 3 | B4: Aprimorar as capacidades existentes | C4: Servidores Técnico-Administrativos | D4: 10 | E4: Melhorar o que já executo | F4: Administração de Setores Específicos | G4: Administração pública | H4: ENTENDER: quando se precisa interpretar, classificar, resumir, inferir, comparar ou explicar o conteúdo que será aprendido | I4: Garantir o atendimento das necessidades dos usuários e dos cidadãos | J4: Melhoria na realização do trabalho diário | K4: GC - melhores práticas | L4: Não. | M4: gerenciamento de serviços de tic focado na administração pública | como fiscalizar com eficiência contratos públicos | praticando o direito administrativo no setor público | N4: EVG(ENAP) | EVG(ENAP) | SUAP(ENAP) | O4: https://www.escolavirtual.gov.br/curso/535 | https://www.escolavirtual.gov.br/curso/706 | https://suap.enap.gov.br/portaldoaluno/curso/1290/?area=13
A5: 4 | B5: Aprimorar as competências socioemocionais, contribuindo para um ambiente escolar não violento. | C5: Técnicos Administrativos em Educação, Técnicos em Assuntos Educacionais, Servidores envolvidos com ações educativas e de apoio ao ensino. | D5: 4 | E5: Melhorar o que já executo | F5: Educação e Docência | G5: Tipos de violência na escola: física, verbal, psicológica, cyberbullying etc., legislação existente, maneiras de prevenção. | H5: APLICAR: quando se precisa executar ou implementar na prática o conteúdo que será aprendido | I5: Antecipar, identificar e administrar a ocorrência de situações de risco | J5: Desenvolimento de um ambiente educacional saudável e pacífico. | K5: GC - regras e procedimentos | L5: Não.
A6: 5 | B6: Aprimorar conhecimentos sobre a educação profissional e a rede federal de ensino | C6: Todos os servidores | D6: 1 | E6: Especializar em um saber, atividade ou ferramenta de trabalho | F6: Educação e Docência | G6: Educação | H6: ENTENDER: quando se precisa interpretar, classificar, resumir, inferir, comparar ou explicar o conteúdo que será aprendido | I6: Identificar suas capacidades e limitações, assumindo o compromisso pelo próprio desenvolvimento, mediante a adoção de uma postura de abertura à aprendizagem contínua | J6: Desenvolvendo pessoal e profissional do servidor | K6: SD - explicações e orientações | L6: MESTRADO | M6: noções básicas para coordenar cursos on-line | N6: EVG(ENAP) | O6: https://www.escolavirtual.gov.br/curso/198
A7: 6 | B7: Aprimorar os conhecimentos, com a finalidade de aplicá-los na prática das rotinas relacionadas à fiscalização e gestão dos contratos administrativos. | C7: servidores ligados às realizações de licitações e à gestão e fiscalização de contratos | D7: 5 | E7: Especializar em um saber, atividade ou ferramenta de trabalho | F7: Administração Educacional | G7: Estudo da aplicação da nova lei de licitações nas fiscalizações e na gestão dos contratos administrativos do Campus. | H7: CRIAR: quando se precisa generalizar, planejar ou produzir sobre o conteúdo que será aprendido | I7: Idear soluções inovadoras e efetivas para problemas de baixa, média ou elevada complexidade com a utilização de dados (numéricos e não numéricos) e evidências que aumentem a precisão e viabilidade das soluções | J7: Será alcançada uma maior eficiência e eficácia nas fiscalizações e na gestão dos contratos administrativos. | K7: GC - regras e procedimentos | L7: Não. | M7: Praticando a gestão e fiscalização de contratos administrativos | gestão e fiscalização de contratos administrativos | Gestão Municipal de Contratos Administrativos | N7: SUAP(ENAP) | EVG(ENAP) | EVG(Enap) | O7: https://suap.enap.gov.br/portaldoaluno/curso/2079/ | https://www.escolavirtual.gov.br/curso/939 | https://www.escolavirtual.gov.br/curso/497
A8: 7 | B8: Aprimorar/aprofundar conhecimentos/habilidades para execução das atividades pertinentes ao setor que atuo, melhorando o atendimento às demandas. | C8: Servidor TAE | D8: 1 | E8: Melhorar o que já executo | F8: Gestão de Pessoas | G8: Sistemas/Legislação e Normas/Conhecimentos específicos da Gestão de Pessoas e demais setores ligados ao Administrativo de IFs. | H8: APLICAR: quando se precisa executar ou implementar na prática o conteúdo que será aprendido | I8: Garantir o atendimento das necessidades dos usuários e dos cidadãos | J8: Eficiência e qualidade na execução das demandas. | K8: GC - melhores práticas | L8: Não. | M8: gerenciamento de serviços de tic focado na administração pública | gestão por competências | praticando o direito administrativo no setor público | N8: EVG(ENAP) | EVG(ENAP) | SUAP(ENAP) | O8: https://www.escolavirtual.gov.br/curso/535 | https://www.escolavirtual.gov.br/curso/175 | https://suap.enap.gov.br/portaldoaluno/curso/1290/?area=13
A9: 8 | B9: Atividades relacionadas com a proposição de projetos de pesquisa | C9: Docentes da área de informática | D9: 5 | E9: Melhorar o que já executo | F9: Sistemas de Computação | G9: Desenvolvimento de sistemas robóticos | H9: ENTENDER: quando se precisa interpretar, classificar, resumir, inferir, comparar ou explicar o conteúdo que será aprendido | I9: Idear soluções inovadoras e efetivas para problemas de baixa, média ou elevada complexidade com a utilização de dados (numéricos e não numéricos) e evidências que aumentem a precisão e viabilidade das soluções | J9: Aumento de proposição de projetos de pesquisa | K9: AE - cursos presenciais | L9: DOUTORADO | M9: gestão de projetos educacionais | inovando na gestão de projetos | uso do design em políticas públicas | N9: EVG(ENAP) | EVG(ENAP) | EVG(ENAP) | O9: https://www.escolavirtual.gov.br/curso/415 | https://www.escolavirtual.gov.br/curso/956 | https://www.escolavirtual.gov.br/curso/506
A10: 9 | B10: Criar e aprimorar novos saberes, processos e ferramentas relacionadas às práticas administrativas e educacionais. | C10: Técnico Assistente em administração | D10: 3 | E10: Desenvolver novos saberes, processos ou ferramentas relacionadas ao meu trabalho | F10: Educação e Docência | G10: Estudos aplicados à educação básica, processos sociais e históricos, tecnologias e seus reflexos no mundo do trabalho e nos movimentos culturais. | H10: CRIAR: quando se precisa generalizar, planejar ou produzir sobre o conteúdo que será aprendido | I10: Idear soluções inovadoras e efetivas para problemas de baixa, média ou elevada complexidade com a utilização de dados (numéricos e não numéricos) e evidências que aumentem a precisão e viabilidade das soluções | J10: Maior qualidade no planejamento, criação e execução de atividades administrativas e educacionais, considerando a missão institucional. | K10: AE - cursos presenciais | L10: DOUTORADO | M10: gestão de projetos educacionais | metodologias ativas | praticando business intelligence | desenho instrucional para soluções de capacitações presenciais | N10: EVG(ENAP) | EVG(ENAP) | SUAP(ENAP) | EVG(ENAP) | O10: https://www.escolavirtual.gov.br/curso/415 | https://www.escolavirtual.gov.br/curso/628 | https://suap.enap.gov.br/portaldoaluno/curso/2016/?area=2 | https://www.escolavirtual.gov.br/curso/250
A11: 10 | B11: Deficiência de doutoras e doutores no quadro do Campus na área de filosofia, para qualificar o corpo docente. | C11: Docente EBTT | D11: 5 | E11: Especializar em um saber, atividade ou ferramenta de trabalho | F11: Educação e Docência | G11: Filosofia, Ética Normativa, Metaética e Ética Aplicada, Aprendizagem e ensino, Tecnologias em sala de aula, Inteligência artificial, | H11: CRIAR: quando se precisa generalizar, planejar ou produzir sobre o conteúdo que será aprendido | I11: Qualificação no campo da pesquisa da educação e na prática docente. | J11: Qualificação da prática docente, ampliando a atuação na área | K11: GC - melhores práticas | L11: DOUTORADO
A12: 11 | B12: Desenvolver novos saberes, processos educativos ou ferramentas relacionadas ao meu trabalho. | C12: Docentes | D12: 10 | E12: Desenvolver novos saberes, processos ou ferramentas relacionadas ao meu trabalho | F12: Educação e Docência | G12: Participação em atividades de formação como congressos, seminários, encontros, simpósios e afins. | H12: CRIAR: quando se precisa generalizar, planejar ou produzir sobre o conteúdo que será aprendido | I12: Criar um ambiente propício à experimentação e à melhoria contínua | J12: Melhoria dos processos de ensino e aprendizagens alinhados com as metas institucionais | K12: GC - melhores práticas | L12: Não. | M12: metodologias ativas | temos que dar aulas remotas... e agora? | criatividade e inovação aplicada ao serviço público | N12: EVG(ENAP) | EVG(ENAP) | EVG(ENAP) | O12: https://www.escolavirtual.gov.br/curso/628 | https://www.escolavirtual.gov.br/curso/313 | https://www.escolavirtual.gov.br/curso/467
A13: 12 | B13: Desenvolver novos saberes, processos ou ferramentas relacionadas ao meu trabalho | C13: Técnico Administrativo em Educação | D13: 1 | E13: Melhorar o que já executo | F13: Direito Público | G13: Compreender o conceito de direito educacional e os aspectos importantes sobre os processos administrativos educacionais. | H13: ENTENDER: quando se precisa interpretar, classificar, resumir, inferir, comparar ou explicar o conteúdo que será aprendido | I13: Garantir o atendimento das necessidades dos usuários e dos cidadãos | J13: Cooperar para o desenvolvimento de um ambiente escolar democrático. | K13: GC - melhores práticas | L13: Não.
A14: 13 | B14: Desenvolver novos saberes, processos ou ferramentas relacionadas ao meu trabalho | C14: Técnico Administrativo em Educação | D14: 1 | E14: Melhorar o que já executo | F14: Administração de Empresas | G14: Aprendizado, planejamento e execução de atividades administrativas. | H14: ENTENDER: quando se precisa interpretar, classificar, resumir, inferir, comparar ou explicar o conteúdo que será aprendido | I14: Garantir o atendimento das necessidades dos usuários e dos cidadãos | J14: Melhoria de processos | K14: GC - melhores práticas | L14: Não. | M14: praticando business intelligence | praticando a gestão do conhecimento no setor público | gestão de projetos educacionais | N14: SUAP(ENAP) | SUAP(ENAP) | EVG(ENAP) | O14: https://suap.enap.gov.br/portaldoaluno/curso/2016/?area=2 | https://suap.enap.gov.br/portaldoaluno/curso/2061/?area=22 | https://www.escolavirtual.gov.br/curso/415
A15: 14 | B15: Desenvolver novos saberes, processos ou ferramentas relacionadas ao meu trabalho | C15: Técnico Administrativo em Educação | D15: 1 | E15: Melhorar o que já executo | F15: Combate à Corrupção | G15: Compreender a importância, os desafios e os princípios para a construção de estruturas de governança adequadas e confiáveis. | H15: ENTENDER: quando se precisa interpretar, classificar, resumir, inferir, comparar ou explicar o conteúdo que será aprendido | I15: CT - Ética e integridade pública: Capacidade de agir de forma refletida e consciente, nas relações profissionais e interpessoais, considerando princíp | J15: Tornar o trabalho mais eficiente e transparente | K15: GC - melhores práticas | L15: Não. | M15: papéis de trabalho em auditoria interna governamental | a responsabilização administrativa na lei anticorrupção | governança, compliance e integridade na administração pública: novidades, desafios e tendências | N15: EVG(ENAP) | EVG(ENAP) | SUAP(ENAP) | O15: https://www.escolavirtual.gov.br/curso/792 | https://www.escolavirtual.gov.br/curso/1058 | https://suap.enap.gov.br/portaldoaluno/curso/2049/?area=3
A16: 15 | B16: Desenvolver novos saberes, processos ou ferramentas relacionadas ao meu trabalho | C16: Mestrado Profissional - Servidores Públicos | D16: 1 | E16: Desenvolver novos saberes, processos ou ferramentas relacionadas ao meu trabalho | F16: Educação e Docência | G16: Educação Profissional | H16: CRIAR: quando se precisa generalizar, planejar ou produzir sobre o conteúdo que será aprendido | I16: Identificar os principais marcos institucionais que podem impactar os processos decisórios e a gestão de programas e projetos no âmbito do setor público | J16: Uma Visão ampliada sobre o que é educação profissional | K16: GT - objetivos de trabalho e desenvolvimento | L16: MESTRADO | M16: aprendizagem organizacional e trilhas de aprendizagem | desenho instrucional para soluções de capacitações presenciais | metodologias ativas | N16: EVG(ENAP) | EVG(ENAP) | EVG(ENAP) | O16: https://www.escolavirtual.gov.br/curso/423 | https://www.escolavirtual.gov.br/curso/250 | https://www.escolavirtual.gov.br/curso/628
A17: 16 | B17: Desenvolver novos saberes, processos ou ferramentas relacionadas ao meu trabalho. | C17: Técnico administrativo em educação. Assistente em administração. | D17: 10 | E17: Melhorar o que já executo | F17: Administração de Setores Específicos | G17: Direito e Educação. Processo administrativo educacional. Modalidades de educação e ensino. | H17: ENTENDER: quando se precisa interpretar, classificar, resumir, inferir, comparar ou explicar o conteúdo que será aprendido | I17: Garantir o atendimento das necessidades dos usuários e dos cidadãos | J17: Maior qualidade na execução das atividades administrativas e no atendimento aos cidadãos. | K17: GC - melhores práticas | L17: Não.
A18: 17 | B18: Desenvolver novos saberes, processos ou ferramentas relacionadas ao meu trabalho. | C18: Técnico administrativo em educação. Assistente em administração. | D18: 10 | E18: Desenvolver novos saberes, processos ou ferramentas relacionadas ao meu trabalho | F18: Administração de Setores Específicos | G18: Governança. Combate à fraude. Auditoria. | H18: ENTENDER: quando se precisa interpretar, classificar, resumir, inferir, comparar ou explicar o conteúdo que será aprendido | I18: Superar o desempenho padrão, apresentando soluções alinhadas ao cumprimento de metas e ao alcance dos objetivos estratégicos das organizações públicas | J18: Maior qualidade na execução das atividades administrativas e no atendimento aos cidadãos. | K18: GC - melhores práticas | L18: Não. | M18: papéis de trabalho em auditoria interna governamental | contratação e fiscalização de obras públicas | como fiscalizar com eficiência contratos públicos | N18: EVG(ENAP) | EVG(ENAP) | EVG(ENAP) | O18: https://www.escolavirtual.gov.br/curso/792 | https://www.escolavirtual.gov.br/curso/949 | https://www.escolavirtual.gov.br/curso/706
A19: 18 | B19: Desenvolver novos saberes, processos ou ferramentas relacionadas ao meu trabalho. | C19: Técnico administrativo em educação. Assistente em administração. | D19: 10 | E19: Desenvolver novos saberes, processos ou ferramentas relacionadas ao meu trabalho | F19: Administração de Setores Específicos | G19: Papel do agente público. Governança. Compliance. Órgãos de controle. | H19: ENTENDER: quando se precisa interpretar, classificar, resumir, inferir, comparar ou explicar o conteúdo que será aprendido | I19: Superar o desempenho padrão, apresentando soluções alinhadas ao cumprimento de metas e ao alcance dos objetivos estratégicos das organizações públicas | J19: Maior qualidade na execução das atividades administrativas e no atendimento ao público. | K19: GC - melhores práticas | L19: Não. | M19: papéis de trabalho em auditoria interna governamental | como fiscalizar com eficiência contratos públicos | gerenciamento de serviços de tic focado na administração pública | N19: EVG(ENAP) | EVG(ENAP) | EVG(ENAP) | O19: https://www.escolavirtual.gov.br/curso/792 | https://www.escolavirtual.gov.br/curso/706 | https://www.escolavirtual.gov.br/curso/535
A20: 19 | B20: Desenvolvimento Profissional em Alfabetização Informacional e Treinamento em Atendimento ao Público em Bibliotecas | C20: Bibliotecários e auxiliar de biblioteca | D20: 3 | E20: Melhorar o que já executo | F20: Biblioteconomia | G20: capacitação em serviços bibliotecários | H20: APLICAR: quando se precisa executar ou implementar na prática o conteúdo que será aprendido | I20: Superar o desempenho padrão, apresentando soluções alinhadas ao cumprimento de metas e ao alcance dos objetivos estratégicos das organizações públicas | J20: Alcançar metas de melhorar o acesso à informação, promover a pesquisa acadêmica e educar a comunidade usuária | K20: RSC - membros, eventos, informações e recursos de comunidade | L20: Não. | M20: Não existem cursos que correspondam à(s) necessidade(s). | N20: [] | O20: []
A21: 20 | B21: É essencial aprimorar o uso de tecnologias educacionais digitais, integrando-as ao ensino, pesquisa e extensão para inovar e melhorar a aprendizagem. | C21: Docentes | D21: 10 | E21: Melhorar o que já executo | F21: Educação e Docência | G21: Informática na Educação | H21: CRIAR: quando se precisa generalizar, planejar ou produzir sobre o conteúdo que será aprendido | I21: Questionar abordagens convencionais na solução de problemas | J21: O aprimoramento do uso de tecnologias educacionais digitais resultará em melhor aprendizagem, inovação pedagógica, contribuindo para a modernização do ensino, o fortalecimento do pensamento computacional e o alinhamento às metas institucionais. | K21: GC - melhores práticas | L21: DOUTORADO | M21: ambientes digitais de aprendizagem | N21: EVG(ENAP) | O21: https://www.escolavirtual.gov.br/curso/418
A22: 21 | B22: É essencial aprimorar o uso de tecnologias educacionais digitais, integrando-as ao ensino, pesquisa e extensão para inovar e melhorar a aprendizagem. | C22: Docentes | D22: 10 | E22: Melhorar o que já executo | F22: Educação e Docência | G22: Informática na educação | H22: CRIAR: quando se precisa generalizar, planejar ou produzir sobre o conteúdo que será aprendido | I22: Adotar novos insights à sua ação | J22: O aprimoramento do uso de tecnologias educacionais digitais resultará em melhor aprendizagem, inovação pedagógica, contribuindo para a modernização do ensino, o fortalecimento do pensamento computacional e o alinhamento às metas institucionais. | K22: GC - melhores práticas | L22: DOUTORADO | M22: ambientes digitais de aprendizagem | N22: EVG(ENAP) | O22: https://www.escolavirtual.gov.br/curso/418
A23: 22 | B23: Emprego Correto da Lingua Culta, Atendimento ao Público, Redação Oficial | C23: Servidores do Registro Acadêmico | D23: 5 | E23: Desenvolver novos saberes, processos ou ferramentas relacionadas ao meu trabalho | F23: Administração Educacional | G23: Serviços burocráticos e o atendimento ao público | H23: APLICAR: quando se precisa executar ou implementar na prática o conteúdo que será aprendido | I23: Idear soluções inovadoras e efetivas para problemas de baixa, média ou elevada complexidade com a utilização de dados (numéricos e não numéricos) e evidências que aumentem a precisão e viabilidade das soluções | J23: Melhor atendimento ao público | K23: GT - objetivos de trabalho e desenvolvimento | L23: Não.
A24: 23 | B24: Língua Portuguesa, Informática, Atendimento ao público | C24: Capacitar os servidores da CORAC para o desempenho de suas funções | D24: 5 | E24: Especializar em um saber, atividade ou ferramenta de trabalho | F24: Administração Educacional | G24: Língua Portuguesa , Informática, Atendimento ao público | H24: ENTENDER: quando se precisa interpretar, classificar, resumir, inferir, comparar ou explicar o conteúdo que será aprendido | I24: Identificar suas capacidades e limitações, assumindo o compromisso pelo próprio desenvolvimento, mediante a adoção de uma postura de abertura à aprendizagem contínua | J24: Atendimento especializado | K24: SD - conselhos e recomendações | L24: Não. | M24: língua brasileira de sinais no serviço público | linguagem simples aproxima o governo das pessoas. como usar? | introdução à libras | linguagem simples aproxima o governo das pessoas. como usar? | sei usar 4.0 | N24: SUAP(ENAP) | EVG(ENAP) | EVG(ENAP) | EVG(ENAP) | EVG(ENAP) | O24: https://suap.enap.gov.br/vitrine/curso/2366/ | https://www.escolavirtual.gov.br/curso/332 | https://www.escolavirtual.gov.br/curso/11 | https://www.escolavirtual.gov.br/curso/332 | https://www.escolavirtual.gov.br/curso/1052
A25: 24 | B25: Qualificação do servidor | C25: Servidores Técnico Administrativos | D25: 5 | E25: Desenvolver novos saberes, processos ou ferramentas relacionadas ao meu trabalho | F25: Administração Educacional | G25: Conhecer a Rede Federal | H25: ENTENDER: quando se precisa interpretar, classificar, resumir, inferir, comparar ou explicar o conteúdo que será aprendido | I25: Identificar os principais marcos institucionais que podem impactar os processos decisórios e a gestão de programas e projetos no âmbito do setor público | J25: Servidores qualificados, capacitados e seguros de seu papel na sociedade | K25: RSC - outras pessoas em funções similares ou relacionadas | L25: MESTRADO

Sheet Charqueadas
A1: Nº | B1: O que NÃO SE SABE FAZER ou NÃO SER | C1: Perfil dos agentes públicos | D1: Agentes Públicos | E1: Solução para este problema de desempenho | F1: Tema Geral | G1: Recorte do Tema Geral | H1: Nivel de aprendizagem | I1: Capacidade a ser desenvolvida | J1: Resultado que trará para a organização | K1: Solução possível para resolver essa necessidade | L1: Envolve uma ação de desenvolvimento a nível de educação formal | M1: Ação de desenvolvimento sugerida pela Enap | N1: Escola de governo ofertante | O1: Link do curso
A2: 1 | B2: Aprimorar capacidades e atualizar conhecimentos sobre novas normativas e ferramentas operacionais e sistemas. | C2: servidores administrativos | D2: 15 | E2: Melhorar o que já executo | F2: Administração de Setores Específicos | G2: Atuação nas áreas administrativas, financeira, contábil, setor de compras e licitações, gestão de contratos, gestão administrativa. | H2: APLICAR: quando se precisa executar ou implementar na prática o conteúdo que será aprendido | I2: Escutar, indagar e expressar conceitos e ideias nos momentos apropriados e de forma efetiva, garantindo uma dinâmica produtiva das interações internas e externas | J2: Conhecimento aprimorado | K2: SD - explicações e orientações | L2: Não.
A3: 2 | B3: Aprimorar conhecimentos para atendimento educacional especializado | C3: Técnicos Administrativos do Ensino - Assistentes de Alunos | D3: 5 | E3: Desenvolver novos saberes, processos ou ferramentas relacionadas ao meu trabalho | F3: Educação e Docência | G3: Atendimento Educacional Especializado | H3: APLICAR: quando se precisa executar ou implementar na prática o conteúdo que será aprendido | I3: CT - Diversidade e inclusão: Capacidade de reconhecer e valorizar a diversidade de características, identidades, vivências e perspectivas de pessoas e | J3: Proporcionar atendimento e ou acompanhamento à estudantes com transtorno do espectro autista/ TEA. | K3: ACE - centros de excelência | L3: Não.
A4: 3 | B4: Aprimorar conhecimentos sobre planejamento de contratação, para auxiliar as áreas requisitantes na elaboração dos documentos para esta etapa. | C4: Servidores técnico-administrativos de áreas requisitantes na contratação de serviços. | D4: 15 | E4: Desenvolver novos saberes, processos ou ferramentas relacionadas ao meu trabalho | F4: Logística e Compras Públicas | G4: Aquisições dentro das necessidades do órgão. | H4: APLICAR: quando se precisa executar ou implementar na prática o conteúdo que será aprendido | I4: Colaborar e cooperar em atividades desenvolvidas coletivamente para atingir metas compartilhadas | J4: Desenvolvimento de projetos de planejamento eficazes para o período e posteriores. | K4: GC - melhores práticas | L4: Não. | M4: planejamento da contratação de soluções de tic | elaboração de termos de referência para contratação de bens e serviços na nova lei de licitações | N4: EVG(ENAP) | EVG(ENAP) | O4: https://www.escolavirtual.gov.br/curso/343 | https://www.escolavirtual.gov.br/curso/941
A5: 4 | B5: Atualização em relaçâo às Leis que regem a Educação Nacional | C5: Servidores Técnicos Administrativos vinculados ao ensino (DEPEX) | D5: 40 | E5: Especializar em um saber, atividade ou ferramenta de trabalho | F5: Fundamentos da Educação | G5: A educação no texto constitucional e seus desdobramentos | H5: ENTENDER: quando se precisa interpretar, classificar, resumir, inferir, comparar ou explicar o conteúdo que será aprendido | I5: Garantir o atendimento das necessidades dos usuários e dos cidadãos | J5: Embasamento legal para as ações desenvolvidas no ambiente educacional. | K5: ACE - centros de excelência | L5: Não.
A6: 5 | B6: Atualização no uso das ferramentas digitais como: Planilhas, editores de texto e apresentações (Excel, Word, Googleforms...) | C6: Servidores TAE vinculados ao Depex | D6: 40 | E6: Melhorar o que já executo | F6: Tecnologia da Informação | G6: Ferramentas Digitais para uso no serviço público | H6: APLICAR: quando se precisa executar ou implementar na prática o conteúdo que será aprendido | I6: Integrar as tecnologias digitais com: os modelos de gestão; os processos de tomada de decisão e geração de produtos e serviços; e os meios de comunicação interna, externa e de relacionamento com usuários | J6: Eficiência e eficácia no desempenho das atividades relacionadas com a utilização de ferramenta digitais | K6: SD - instruções passo a passo | L6: Não. | M6: o papel do devops na transformação digital dos serviços públicos | cadastro de informações sobre serviços no portal gov.br | estratégias de marketing digital para a administração pública | N6: EVG(ENAP) | EVG(ENAP) | EVG(ENAP) | O6: https://www.escolavirtual.gov.br/curso/366 | https://www.escolavirtual.gov.br/curso/509 | https://www.escolavirtual.gov.br/curso/806
A7: 6 | B7: Atualizar e preparar para as demandas atuais do ensino de inglês, por meio do desenvolvimento de competências teóricas e metodológicas variadas. | C7: Professores EBTT - Língua Inglesa | D7: 1 | E7: Melhorar o que já executo | F7: Línguas Estrangeiras Modernas | G7: Organização do trabalho com grupos heterogêneos e Resistência à aprendizagem de inglês na EJA. | H7: APLICAR: quando se precisa executar ou implementar na prática o conteúdo que será aprendido | I7: Idear soluções inovadoras e efetivas para problemas de baixa, média ou elevada complexidade com a utilização de dados (numéricos e não numéricos) e evidências que aumentem a precisão e viabilidade das soluções | J7: Aprendizagem significativa. | K7: SD - explicações e orientações | L7: ESPECIALIZAÇÃO
A8: 7 | B8: Busca por aprimoramento de processos e tramites ligadas a gestão de entes públicos no geral. | C8: Servidores técnicos administrativos ligados ao DEAP. | D8: 20 | E8: Melhorar o que já executo | F8: Gestor Público | G8: Gestão pública | H8: APLICAR: quando se precisa executar ou implementar na prática o conteúdo que será aprendido | I8: Idear soluções inovadoras e efetivas para problemas de baixa, média ou elevada complexidade com a utilização de dados (numéricos e não numéricos) e evidências que aumentem a precisão e viabilidade das soluções | J8: Melhoria nos processos gerenciais e melhor desempenho das funções inerentes ai cargo. | K8: GC - melhores práticas | L8: ESPECIALIZAÇÃO | M8: gerenciamento de serviços de tic focado na administração pública | gestão estratégica e execução do plano de governo no dia a dia | análise e melhoria de processos | N8: EVG(ENAP) | EVG(ENAP) | EVG(ENAP) | O8: https://www.escolavirtual.gov.br/curso/535 | https://www.escolavirtual.gov.br/curso/496 | https://www.escolavirtual.gov.br/curso/424
