Workbook
Name planilha: CHECKLIST!#REF!
Name planilha: DADOS!$J$19:$L$21
Name planilha2: CHECKLIST!#REF!
Name planilha2: DADOS!$J$19:$L$22

Sheet DADOS
B1: APÊNDICE BB - FERRAMENTA DE GESTÃO - C-DV - IFSUL FERRAMENTA DE GESTÃO DA CONTA-DEPÓSITO VINCULADA - BLOQUEADA PARA MOVIMENTAÇÃO
B2: CONTRATO
B3: OBJETO
B4: CONTRATADA
B5: CNPJ
B6: Nº OFÍCIO DE CADASTRAMENTO
B7: Nº DO PROCESSO DE GESTÃO DA CONTA
B8: Nº DA CONTA VINCULADA
B9: INSTITUIÇÃO FINANCEIRA
B10: AGÊNCIA
B11: OPERAÇÃO
B13: Reserva mensal para o pagamento de encargos trabalhistas Percentual incidente sobre a remuneração | J13: PERCENTUAL %
B14: 13º (décimo Terceiro) Salário | J14: 0.0833
B15: Férias e 1/3 (um terço) constitucional | J15: 0.121
B16: Multa sobre FGTS e contribuição social sobre o aviso prévio indenizado e sobre o aviso prévio trabalhado | J16: 0.04
B17: SUBTOTAL | J17: =SUM(J14:J16) -> 0.2443
B18: Percentuais máximos conforme Grau de Risco SAT/GIIL-RAT (%) | J18: PERCENTUAL % | K18: PERCENTUAL % | L18: PERCENTUAL %
B19: SAT/GIIL-RAT | J19: 0.01 | K19: 0.02 | L19: 0.03
B20: Incidência do Submódulo 2.2 sobre férias, 1/3 de férias e 13º | J20: 0.0739 | K20: 0.076 | L20: 0.0782
B21: TOTAL | J21: =J17+J20 -> 0.3182 | K21: =J17+K20 -> 0.3203 | L21: =J17+L20 -> 0.3225
B22: Percentual do submódulo 2.2 de acordo com o SAT/GIIL-RAT* | J22: 0.348 | K22: 0.358 | L22: 0.368
B24: SAT/GIIL-RAT | C24: 0.03 | D24: INCIDÊNCIA DO SUBMÓDULO 2.2 SOBRE FÉRIAS, 1/3 CONSTITUICIONAL DE FÉRIAS E 13º SALÁRIO | L24: =HLOOKUP(C24,planilha,2,) -> 0.0782
B25: SUBMÓDULO 2.2 - ENCARGOS PREVIDENCIÁRIOS (GPS), FUNDO DE GARANTIA POR TEMPO DE SERVIÇO (FGTS) E OUTRAS CONTRIBUIÇÕES | L25: =HLOOKUP(C24,planilha2,4) -> 0.368
B27: *NOTA: O IFSul Utiliza-se, para fins de cálculo, o pecentual do RAT de acordo com a natureza do serviço (conforme proposta vigente) e não o RAT ajustado, isso para fins de padronização dos cálculos
B29: DESENVOLVIDO POR IF-COGES - ATUALIZADO EM DEZEMBRO/2020

Sheet PARCELAS
B1: NÚMERO DA PARCELA | C1: REFERÊNCIA ANUAL | D1: MÊS DE REFERÊNCIA | E1: NÚMERO DA NOTA FISCAL | F1: NÚMERO DO PROCESSO SUAP | G1: VALOR PROVISIONADO | H1: VALOR ACUMULADO
B2: 1 | G2: ='PARCELA 1'!J38 -> 0 | H2: ='PARCELA 1'!J38 -> 0
B3: 2 | G3: ='PARCELA 2'!J38 -> 0 | H3: ='PARCELA 2'!L82 -> 0
B4: 3 | G4: ='PARCELA 3'!$J$38 -> 0 | H4: ='PARCELA 3'!$L$82 -> 0
B5: 4 | G5: ='PARCELA 4'!$J$38 -> 0 | H5: ='PARCELA 4'!$L$82 -> 0
B6: 5 | G6: ='PARCELA 5'!$J$38 -> 0 | H6: ='PARCELA 5'!$L$82 -> 0
B7: 6 | G7: ='PARCELA 6'!$J$38 -> 0 | H7: ='PARCELA 6'!$L$82 -> 0
B8: 7 | G8: ='PARCELA 7'!$J$38 -> 0 | H8: ='PARCELA 7'!$L$82 -> 0
B9: 8 | G9: ='PARCELA 8'!$J$38 -> 0 | H9: ='PARCELA 8'!$L$82 -> 0
B10: 9 | G10: ='PARCELA 9'!$J$38 -> 0 | H10: ='PARCELA 9'!$L$82 -> 0
B11: 10 | G11: ='PARCELA 10'!$J$38 -> 0 | H11: ='PARCELA 10'!$L$82 -> 0
B12: 11 | G12: ='PARCELA 11'!$J$38 -> 0 | H12: ='PARCELA 11'!$L$82 -> 0
B13: 12 | G13: ='PARCELA 12'!$J$38 -> 0 | H13: ='PARCELA 12'!$L$82 -> 0
B14: 13 | G14: ='PARCELA 13'!$J$38 -> 0 | H14: ='PARCELA 13'!$L$82 -> 0
B15: 14 | G15: ='PARCELA 14'!$J$38 -> 0 | H15: ='PARCELA 14'!$L$82 -> 0
B16: 15 | G16: ='PARCELA 15'!$J$38 -> 0 | H16: ='PARCELA 15'!$L$82 -> 0
B17: 16 | G17: ='PARCELA 16'!$J$38 -> 0 | H17: ='PARCELA 16'!$L$82 -> 0
B18: 17 | G18: ='PARCELA 17'!$J$38 -> 0 | H18: ='PARCELA 17'!$L$82 -> 0
B19: 18 | G19: ='PARCELA 18'!$J$38 -> 0 | H19: ='PARCELA 18'!$L$82 -> 0
B20: 19 | G20: ='PARCELA 19'!$J$38 -> 0 | H20: ='PARCELA 19'!$L$82 -> 0
B21: 20 | G21: ='PARCELA 20'!$J$38 -> 0 | H21: ='PARCELA 20'!$L$82 -> 0
B22: 21 | G22: ='PARCELA 21'!$J$38 -> 0 | H22: ='PARCELA 21'!$L$82 -> 0
B23: 22 | G23: ='PARCELA 22'!$J$38 -> 0 | H23: ='PARCELA 22'!$L$82 -> 0
B24: 23 | G24: ='PARCELA 23'!$J$38 -> 0 | H24: ='PARCELA 23'!$L$82 -> 0
B25: 24 | G25: ='PARCELA 24'!$J$38 -> 0 | H25: ='PARCELA 24'!$L$82 -> 0
B26: 25 | G26: ='PARCELA 25'!$J$38 -> 0 | H26: ='PARCELA 25'!$L$82 -> 0
B27: 26 | G27: ='PARCELA 26'!$J$38 -> 0 | H27: ='PARCELA 26'!$L$82 -> 0
B28: 27 | G28: ='PARCELA 27'!$J$38 -> 0 | H28: ='PARCELA 27'!$L$82 -> 0
B29: 28 | G29: ='PARCELA 28'!$J$38 -> 0 | H29: ='PARCELA 28'!$L$82 -> 0
B30: 29 | G30: ='PARCELA 29'!$J$38 -> 0 | H30: ='PARCELA 29'!$L$82 -> 0
B31: 30 | G31: ='PARCELA 30'!$J$38 -> 0 | H31: ='PARCELA 30'!$L$82 -> 0
B32: 31 | G32: ='PARCELA 31'!$J$38 -> 0 | H32: ='PARCELA 31'!$L$82 -> 0
B33: 32 | G33: ='PARCELA 32'!$J$38 -> 0 | H33: ='PARCELA 32'!$L$82 -> 0
B34: 33 | G34: ='PARCELA 33'!$J$38 -> 0 | H34: ='PARCELA 33'!$L$82 -> 0
B35: 34 | G35: ='PARCELA 34'!$J$38 -> 0 | H35: ='PARCELA 34'!$L$82 -> 0
B36: 35 | G36: ='PARCELA 35'!$J$38 -> 0 | H36: ='PARCELA 35'!$L$82 -> 0
B37: 36 | G37: ='PARCELA 36'!$J$38 -> 0 | H37: ='PARCELA 36'!$L$82 -> 0
B38: 37 | G38: ='PARCELA 37'!$J$38 -> 0 | H38: ='PARCELA 37'!$L$82 -> 0
B39: 38 | G39: ='PARCELA 38'!$J$38 -> 0 | H39: ='PARCELA 38'!$L$82 -> 0
B40: 39 | G40: ='PARCELA 39'!$J$38 -> 0 | H40: ='PARCELA 39'!$L$82 -> 0
B41: 40 | G41: ='PARCELA 40'!$J$38 -> 0 | H41: ='PARCELA 40'!$L$82 -> 0
B42: 41 | G42: ='PARCELA 41'!$J$38 -> 0 | H42: ='PARCELA 41'!$L$82 -> 0
B43: 42 | G43: ='PARCELA 42'!$J$38 -> 0 | H43: ='PARCELA 42'!$L$82 -> 0
B44: 43 | G44: ='PARCELA 43'!$J$38 -> 0 | H44: ='PARCELA 43'!$L$82 -> 0
B45: 44 | G45: ='PARCELA 44'!$J$38 -> 0 | H45: ='PARCELA 44'!$L$82 -> 0
B46: 45 | G46: ='PARCELA 45'!$J$38 -> 0 | H46: ='PARCELA 45'!$L$82 -> 0
B47: 46 | G47: ='PARCELA 46'!$J$38 -> 0 | H47: ='PARCELA 46'!$L$82 -> 0
B48: 47 | G48: ='PARCELA 47'!$J$38 -> 0 | H48: ='PARCELA 47'!$L$82 -> 0
B49: 48 | G49: ='PARCELA 48'!$J$38 -> 0 | H49: ='PARCELA 48'!$L$82 -> 0
B50: 49 | G50: ='PARCELA 49'!$J$38 -> 0 | H50: ='PARCELA 49'!$L$82 -> 0
B51: 50 | G51: ='PARCELA 50'!$J$38 -> 0 | H51: ='PARCELA 50'!$L$82 -> 0
B52: 51 | G52: ='PARCELA 51'!$J$38 -> 0 | H52: ='PARCELA 51'!$L$82 -> 0
B53: 52 | G53: ='PARCELA 52'!$J$38 -> 0 | H53: ='PARCELA 52'!$L$82 -> 0
B54: 53 | G54: ='PARCELA 53'!$J$38 -> 0 | H54: ='PARCELA 53'!$L$82 -> 0
B55: 54 | G55: ='PARCELA 54'!$J$38 -> 0 | H55: ='PARCELA 54'!$L$82 -> 0
B56: 55 | G56: ='PARCELA 55'!$J$38 -> 0 | H56: ='PARCELA 55'!$L$82 -> 0
B57: 56 | G57: ='PARCELA 56'!$J$38 -> 0 | H57: ='PARCELA 56'!$L$82 -> 0
B58: 57 | G58: ='PARCELA 57'!$J$38 -> 0 | H58: ='PARCELA 57'!$L$82 -> 0
B59: 58 | G59: ='PARCELA 58'!$J$38 -> 0 | H59: ='PARCELA 58'!$L$82 -> 0
B60: 59 | G60: ='PARCELA 59'!$J$38 -> 0 | H60: ='PARCELA 59'!$L$82 -> 0
B61: 60 | G61: ='PARCELA 60'!$J$38 -> 0 | H61: ='PARCELA 60'!$L$82 -> 0
B62: 61 | G62: ='PARCELA 61'!$J$38 -> 0 | H62: ='PARCELA 61'!$L$82 -> 0
B63: 62 | G63: ='PARCELA 62'!$J$38 -> 0 | H63: ='PARCELA 62'!$L$82 -> 0
B64: 63 | G64: ='PARCELA 63'!$J$38 -> 0 | H64: ='PARCELA 63'!$L$82 -> 0
B65: 64 | G65: ='PARCELA 64'!$J$38 -> 0 | H65: ='PARCELA 64'!$L$82 -> 0
B66: 65 | G66: ='PARCELA 65'!$J$38 -> 0 | H66: ='PARCELA 65'!$L$82 -> 0
B67: 66 | G67: ='PARCELA 66'!$J$38 -> 0 | H67: ='PARCELA 66'!$L$82 -> 0
B68: 67 | G68: ='PARCELA 67'!$J$38 -> 0 | H68: ='PARCELA 67'!$L$82 -> 0
B69: 68 | G69: ='PARCELA 68'!$J$38 -> 0 | H69: ='PARCELA 68'!$L$82 -> 0
B70: 69 | G70: ='PARCELA 69'!$J$38 -> 0 | H70: ='PARCELA 69'!$L$82 -> 0
B71: 70 | G71: ='PARCELA 70'!$J$38 -> 0 | H71: ='PARCELA 70'!$L$82 -> 0
B72: 71 | G72: ='PARCELA 71'!$J$38 -> 0 | H72: ='PARCELA 71'!$L$82 -> 0
B73: 72 | G73: ='PARCELA 72'!$J$38 -> 0 | H73: ='PARCELA 72'!$L$82 -> 0
B74: TOTAL | G74: =SUM(G2:G73) -> 0 | H74: =SUM(H2:H73) -> 0

Sheet FÉRIAS
B1: NÚMERO DA LIBERAÇÃO | C1: EMPREGADO | D1: DISPONIBILIZAÇÃO PARA O ORGÃO | E1: PERÍODO AQUISITIVO | F1: FRUIÇÃO | G1: DIAS | H1: AVOS DEVIDOS | I1: REMUNERAÇÃO | J1: FÉRIAS | K1: 1/3 CONSTITUCIONAL DE FÉRIAS | L1: SUBTOTAL | M1: PERCENTUAL DE ENCARGOS PREVIDENCIÁRIOS E FGTS SOBRE FÉRIAS E AD. DE FÉRIAS | N1: VALOR TOTAL A LIBERAR DE FÉRIAS E AD. DE FÉRIAS E RESPECTIVOS ENCARGOS SOCIAIS
B2: LIBERAÇÃO DE VALORES PARA PAGAMENTO DE FÉRIAS E 1/3 CONSTITUCIONAL DE FÉRIAS | M2: =DADOS!L25 -> 0.368
B3: 1ª | C3: (inserir nome do funcionário) | D3: 42963 | E3: 16/08/2017 a 15/08/2018 | F3: 43160 | G3: 10 | H3: 12 | I3: 2584.75 | J3: =(((I3/12)*H3)/30)*G3 -> 861.58333 | K3: =J3*1/3 -> 287.19444 | L3: =SUM(J3:K3) -> 1148.7778 | M3: =L3*$M$2 -> 422.75022 | N3: =SUM(L3:M3) -> 1571.528
J4: =(((I4/12)*H4)/30)*G4 -> 0 | K4: =J4*1/3 -> 0 | L4: =SUM(J4:K4) -> 0 | M4: =L4*$M$2 -> 0 | N4: =SUM(L4:M4) -> 0
J5: =(((I5/12)*H5)/30)*G5 -> 0 | K5: =J5*1/3 -> 0 | L5: =SUM(J5:K5) -> 0 | M5: =L5*$M$2 -> 0 | N5: =SUM(L5:M5) -> 0
J6: =(((I6/12)*H6)/30)*G6 -> 0 | K6: =J6*1/3 -> 0 | L6: =SUM(J6:K6) -> 0 | M6: =L6*$M$2 -> 0 | N6: =SUM(L6:M6) -> 0
J7: =(((I7/12)*H7)/30)*G7 -> 0 | K7: =J7*1/3 -> 0 | L7: =SUM(J7:K7) -> 0 | M7: =L7*$M$2 -> 0 | N7: =SUM(L7:M7) -> 0
J8: =(((I8/12)*H8)/30)*G8 -> 0 | K8: =J8*1/3 -> 0 | L8: =SUM(J8:K8) -> 0 | M8: =L8*$M$2 -> 0 | N8: =SUM(L8:M8) -> 0
J9: =(((I9/12)*H9)/30)*G9 -> 0 | K9: =J9*1/3 -> 0 | L9: =SUM(J9:K9) -> 0 | M9: =L9*$M$2 -> 0 | N9: =SUM(L9:M9) -> 0
J10: =(((I10/12)*H10)/30)*G10 -> 0 | K10: =J10*1/3 -> 0 | L10: =SUM(J10:K10) -> 0 | M10: =L10*$M$2 -> 0 | N10: =SUM(L10:M10) -> 0
J11: =(((I11/12)*H11)/30)*G11 -> 0 | K11: =J11*1/3 -> 0 | L11: =SUM(J11:K11) -> 0 | M11: =L11*$M$2 -> 0 | N11: =SUM(L11:M11) -> 0
J12: =(((I12/12)*H12)/30)*G12 -> 0 | K12: =J12*1/3 -> 0 | L12: =SUM(J12:K12) -> 0 | M12: =L12*$M$2 -> 0 | N12: =SUM(L12:M12) -> 0
J13: =(((I13/12)*H13)/30)*G13 -> 0 | K13: =J13*1/3 -> 0 | L13: =SUM(J13:K13) -> 0 | M13: =L13*$M$2 -> 0 | N13: =SUM(L13:M13) -> 0
J14: =(((I14/12)*H14)/30)*G14 -> 0 | K14: =J14*1/3 -> 0 | L14: =SUM(J14:K14) -> 0 | M14: =L14*$M$2 -> 0 | N14: =SUM(L14:M14) -> 0
J15: =(((I15/12)*H15)/30)*G15 -> 0 | K15: =J15*1/3 -> 0 | L15: =SUM(J15:K15) -> 0 | M15: =L15*$M$2 -> 0 | N15: =SUM(L15:M15) -> 0
... J109: =(((I109/12)*H109)/30)*G109 -> 0 | K109: =J109*1/3 -> 0 | L109: =SUM(J109:K109) -> 0 | M109: =L109*$M$2 -> 0 | N109: =SUM(L109:M109) -> 0

Sheet 13º
B1: NÚMERO DA LIBERAÇÃO | C1: EMPREGADO | D1: DATA DE ADMISSÃO | E1: DISPONIBILIZAÇÃO PARA O ORGÃO | F1: AVOS DEVIDOS | G1: REMUNERAÇÃO | H1: SUBTOTAL 13º SALÁRIO | I1: PERCENTUAL DE ENCARGOS PREVIDENCIÁRIOS E FGTS SOBRE 13º SALÁRIO | J1: VALOR TOTAL A LIBERAR DE 13º SALÁRIO E RESPECTIVOS ENCARGOS SOCIAIS
B2: LIBERAÇÃO DE VALORES PARA PAGAMENTO DE 13º (DÉCIMO TERCEIRO SALÁRIO) | I2: =DADOS!L25 -> 0.368
B3: 1ª | C3: (inserir nome do funcionário) | D3: 42963 | E3: 42963 | F3: 12 | G3: 2584.75 | H3: =(G3/12)*F3 -> 2584.75 | I3: =H3*$I$2 -> 951.188 | J3: =SUM(H3:I3) -> 3535.938
H4: =(G4/12)*F4 -> 0 | I4: =H4*$I$2 -> 0 | J4: =SUM(H4:I4) -> 0
H5: =(G5/12)*F5 -> 0 | I5: =H5*$I$2 -> 0 | J5: =SUM(H5:I5) -> 0
H6: =(G6/12)*F6 -> 0 | I6: =H6*$I$2 -> 0 | J6: =SUM(H6:I6) -> 0
H7: =(G7/12)*F7 -> 0 | I7: =H7*$I$2 -> 0 | J7: =SUM(H7:I7) -> 0
H8: =(G8/12)*F8 -> 0 | I8: =H8*$I$2 -> 0 | J8: =SUM(H8:I8) -> 0
H9: =(G9/12)*F9 -> 0 | I9: =H9*$I$2 -> 0 | J9: =SUM(H9:I9) -> 0
H10: =(G10/12)*F10 -> 0 | I10: =H10*$I$2 -> 0 | J10: =SUM(H10:I10) -> 0
H11: =(G11/12)*F11 -> 0 | I11: =H11*$I$2 -> 0 | J11: =SUM(H11:I11) -> 0
H12: =(G12/12)*F12 -> 0 | I12: =H12*$I$2 -> 0 | J12: =SUM(H12:I12) -> 0
H13: =(G13/12)*F13 -> 0 | I13: =H13*$I$2 -> 0 | J13: =SUM(H13:I13) -> 0
H14: =(G14/12)*F14 -> 0 | I14: =H14*$I$2 -> 0 | J14: =SUM(H14:I14) -> 0
H15: =(G15/12)*F15 -> 0 | I15: =H15*$I$2 -> 0 | J15: =SUM(H15:I15) -> 0
... H109: =(G109/12)*F109 -> 0 | I109: =H109*$I$2 -> 0 | J109: =SUM(H109:I109) -> 0

Sheet RESCISÕES
B1: NÚMERO DA LIBERAÇÃO | C1: NOME DO EMPREGADO | D1: ADMISSÃO | E1: DISPONIBILIZAÇÃO PARA O ORGÃO | F1: DESLIGAMENTO | G1: REMUNERAÇÃO | H1: AVOS DEVIDOS | K1: 13º PROPORCIONAL | L1: FÉIRAS | N1: 1/3 CONSTITUCIONAL DE FÉRIAS | P1: TOTAL DE VERBAS | Q1: PERCENTUAL DE ENCARGOS PREVIDENCIÁRIOS E FGTS SOBRE A RESCISÃO | R1: SUBTOTAL | S1: DIAS TRABALHADOS | T1: MULTA FGTS | U1: VALOR TOTAL A LIBERAR DE RESCISÃO
B2: LIBERAÇÃO DE VALORES PARA PAGAMENTO DE FESCISÃO CONTRATUAL | H2: 13º | I2: FÉRIAS VENCIDAS | J2: FÉRIAS PROPORCIONAIS | L2: VENCIDAS | M2: PROPORCINAL | N2: VENCIDAS | O2: PROPORCINAL | Q2: =DADOS!L25 -> 0.368 | T2: =DADOS!J16 -> 0.04
B3: 1ª | C3: (inserir nome do funcionário) | D3: 42963 | E3: 42963 | F3: 43424 | G3: 2138.94 | H3: 1 | I3: 3 | J3: 3 | K3: =G3/12*H3 -> 178.245 | L3: =(G3/12)*I3 -> 534.735 | M3: =G3/12*J3 -> 534.735 | N3: =L3/3 -> 178.245 | O3: =M3*1/3 -> 178.245 | P3: =SUM(K3:O3) -> 1604.205 | Q3: =P3*Q2 -> 590.34744 | R3: =SUM(P3:Q3) -> 2194.5524 | S3: =F3-E3 -> 461 | T3: =((G3/30)*S3)*T2 -> 1314.7351 | U3: =SUM(R3,T3) -> 3509.2876
K4: =G4/12*H4 -> 0 | L4: =(G4/12)*I4 -> 0 | M4: =G4/12*J4 -> 0 | N4: =L4/3 -> 0 | O4: =M4*1/3 -> 0 | P4: =SUM(K4:O4) -> 0 | Q4: =P4*Q3 -> 0 | R4: =SUM(P4:Q4) -> 0 | S4: =F4-E4 -> 0 | T4: =((G4/30)*S4)*T3 -> 0 | U4: =SUM(R4,T4) -> 0
K5: =G5/12*H5 -> 0 | L5: =(G5/12)*I5 -> 0 | M5: =G5/12*J5 -> 0 | N5: =L5/3 -> 0 | O5: =M5*1/3 -> 0 | P5: =SUM(K5:O5) -> 0 | Q5: =P5*Q4 -> 0 | R5: =SUM(P5:Q5) -> 0 | S5: =F5-E5 -> 0 | T5: =((G5/30)*S5)*T4 -> 0 | U5: =SUM(R5,T5) -> 0
K6: =G6/12*H6 -> 0 | L6: =(G6/12)*I6 -> 0 | M6: =G6/12*J6 -> 0 | N6: =L6/3 -> 0 | O6: =M6*1/3 -> 0 | P6: =SUM(K6:O6) -> 0 | Q6: =P6*Q5 -> 0 | R6: =SUM(P6:Q6) -> 0 | S6: =F6-E6 -> 0 | T6: =((G6/30)*S6)*T5 -> 0 | U6: =SUM(R6,T6) -> 0
K7: =G7/12*H7 -> 0 | L7: =(G7/12)*I7 -> 0 | M7: =G7/12*J7 -> 0 | N7: =L7/3 -> 0 | O7: =M7*1/3 -> 0 | P7: =SUM(K7:O7) -> 0 | Q7: =P7*Q6 -> 0 | R7: =SUM(P7:Q7) -> 0 | S7: =F7-E7 -> 0 | T7: =((G7/30)*S7)*T6 -> 0 | U7: =SUM(R7,T7) -> 0
K8: =G8/12*H8 -> 0 | L8: =(G8/12)*I8 -> 0 | M8: =G8/12*J8 -> 0 | N8: =L8/3 -> 0 | O8: =M8*1/3 -> 0 | P8: =SUM(K8:O8) -> 0 | Q8: =P8*Q7 -> 0 | R8: =SUM(P8:Q8) -> 0 | S8: =F8-E8 -> 0 | T8: =((G8/30)*S8)*T7 -> 0 | U8: =SUM(R8,T8) -> 0
K9: =G9/12*H9 -> 0 | L9: =(G9/12)*I9 -> 0 | M9: =G9/12*J9 -> 0 | N9: =L9/3 -> 0 | O9: =M9*1/3 -> 0 | P9: =SUM(K9:O9) -> 0 | Q9: =P9*Q8 -> 0 | R9: =SUM(P9:Q9) -> 0 | S9: =F9-E9 -> 0 | T9: =((G9/30)*S9)*T8 -> 0 | U9: =SUM(R9,T9) -> 0
K10: =G10/12*H10 -> 0 | L10: =(G10/12)*I10 -> 0 | M10: =G10/12*J10 -> 0 | N10: =L10/3 -> 0 | O10: =M10*1/3 -> 0 | P10: =SUM(K10:O10) -> 0 | Q10: =P10*Q9 -> 0 | R10: =SUM(P10:Q10) -> 0 | S10: =F10-E10 -> 0 | T10: =((G10/30)*S10)*T9 -> 0 | U10: =SUM(R10,T10) -> 0
K11: =G11/12*H11 -> 0 | L11: =(G11/12)*I11 -> 0 | M11: =G11/12*J11 -> 0 | N11: =L11/3 -> 0 | O11: =M11*1/3 -> 0 | P11: =SUM(K11:O11) -> 0 | Q11: =P11*Q10 -> 0 | R11: =SUM(P11:Q11) -> 0 | S11: =F11-E11 -> 0 | T11: =((G11/30)*S11)*T10 -> 0 | U11: =SUM(R11,T11) -> 0
K12: =G12/12*H12 -> 0 | L12: =(G12/12)*I12 -> 0 | M12: =G12/12*J12 -> 0 | N12: =L12/3 -> 0 | O12: =M12*1/3 -> 0 | P12: =SUM(K12:O12) -> 0 | Q12: =P12*Q11 -> 0 | R12: =SUM(P12:Q12) -> 0 | S12: =F12-E12 -> 0 | T12: =((G12/30)*S12)*T11 -> 0 | U12: =SUM(R12,T12) -> 0
K13: =G13/12*H13 -> 0 | L13: =(G13/12)*I13 -> 0 | M13: =G13/12*J13 -> 0 | N13: =L13/3 -> 0 | O13: =M13*1/3 -> 0 | P13: =SUM(K13:O13) -> 0 | Q13: =P13*Q12 -> 0 | R13: =SUM(P13:Q13) -> 0 | S13: =F13-E13 -> 0 | T13: =((G13/30)*S13)*T12 -> 0 | U13: =SUM(R13,T13) -> 0
K14: =G14/12*H14 -> 0 | L14: =(G14/12)*I14 -> 0 | M14: =G14/12*J14 -> 0 | N14: =L14/3 -> 0 | O14: =M14*1/3 -> 0 | P14: =SUM(K14:O14) -> 0 | Q14: =P14*Q13 -> 0 | R14: =SUM(P14:Q14) -> 0 | S14: =F14-E14 -> 0 | T14: =((G14/30)*S14)*T13 -> 0 | U14: =SUM(R14,T14) -> 0
K15: =G15/12*H15 -> 0 | L15: =(G15/12)*I15 -> 0 | M15: =G15/12*J15 -> 0 | N15: =L15/3 -> 0 | O15: =M15*1/3 -> 0 | P15: =SUM(K15:O15) -> 0 | Q15: =P15*Q14 -> 0 | R15: =SUM(P15:Q15) -> 0 | S15: =F15-E15 -> 0 | T15: =((G15/30)*S15)*T14 -> 0 | U15: =SUM(R15,T15) -> 0
... K112: =G112/12*H112 -> 0 | L112: =(G112/12)*I112 -> 0 | M112: =G112/12*J112 -> 0 | N112: =L112/3 -> 0 | O112: =M112*1/3 -> 0 | P112: =SUM(K112:O112) -> 0 | Q112: =P112*Q111 -> 0 | R112: =SUM(P112:Q112) -> 0 | S112: =F112-E112 -> 0 | T112: =((G112/30)*S112)*T111 -> 0 | U112: =SUM(R112,T112) -> 0

Sheet CHECKLIST
B1: CHECKLIST DE LIBERAÇÕES DE VALORES PROVISIONADOS NA CONTA-DEPÓSITO VINCULADA - BLOQUEADA PARA MOVIMENTAÇÃO
B2: DESCRIÇÃO\NÚMERO DA LIBERAÇÃO | C2: 1ª | D2: 2ª | E2: 3ª | F2: 4ª | G2: 5ª | H2: 6ª | I2: 7ª | J2: 8ª | K2: 9ª | L2: 10ª | M2: 11ª | N2: 12ª | O2: 13ª | P2: 14ª | Q2: 15ª | R2: 16ª | S2: 17ª | T2: 18ª | U2: 19ª | V2: 20ª
B3: Ofício de solicitação de liberação de valores
B4: Documentos comprobatórios da ocorrência
B5: Planilha modelo IFSul preenchida
B6: Confirmação da ocorrência
B7: Conferência dos cálculos apresentados
B8: Preenchimento da Planilha de Gestão C-DV
B9: Expedição de Ofício de Liberação de Valores à Instituição Financeira
B10: Solicitação de assinatura do Ofício ao Gestor do Contrato
B11: Envio do Ofício à Instituição Financeira via E-mail
B12: Anexar documentação ao processo de Gestão da CV
B13: Conferir/solicitar o envio dos documentos de quitação das obrigações
B14: Anexar a documentação de quitação ao processo de Gestão da CV

Sheet PARCELA 1
B1: Ordem | C1: Nome do Empregado | D1: Cargo | E1: Remuneração (Salário base + adicionais ) | F1: 13º salário | G1: Férias e terço constitucional | H1: Multa s/ FGTS e Cont.Social sobre aviso previo indenizado e trabalhado | I1: Submodulo 2.2 sobre férias , um terço constitucional e 13 ° Considerando RAT = 1,00 %, 2,00 % ou 3,00 % | J1: Total provisionado por funcionário
B2: VOCÊ ESTÁ NA PARCELA DE NÚMERO | D2: =_xlfn.SHEET()-6 -> 1 | E2: 1 | F2: =DADOS!J14 -> 0.0833 | G2: =DADOS!J15 -> 0.121 | H2: =DADOS!J16 -> 0.04 | I2: =DADOS!L24 -> 0.0782 | J2: =SUM(F2:I2) -> 0.3225
B3: 1 | F3: =$F$2*E3 -> 0 | G3: =$G$2*E3 -> 0 | H3: =$H$2*E3 -> 0 | I3: =$I$2*E3 -> 0 | J3: =F3+G3+H3+I3 -> 0
B4: 2 | F4: =$F$2*E4 -> 0 | G4: =$G$2*E4 -> 0 | H4: =$H$2*E4 -> 0 | I4: =$I$2*E4 -> 0 | J4: =F4+G4+H4+I4 -> 0
B5: 3 | F5: =$F$2*E5 -> 0 | G5: =$G$2*E5 -> 0 | H5: =$H$2*E5 -> 0 | I5: =$I$2*E5 -> 0 | J5: =F5+G5+H5+I5 -> 0
B6: 4 | F6: =$F$2*E6 -> 0 | G6: =$G$2*E6 -> 0 | H6: =$H$2*E6 -> 0 | I6: =$I$2*E6 -> 0 | J6: =F6+G6+H6+I6 -> 0
B7: 5 | F7: =$F$2*E7 -> 0 | G7: =$G$2*E7 -> 0 | H7: =$H$2*E7 -> 0 | I7: =$I$2*E7 -> 0 | J7: =F7+G7+H7+I7 -> 0
B8: 6 | F8: =$F$2*E8 -> 0 | G8: =$G$2*E8 -> 0 | H8: =$H$2*E8 -> 0 | I8: =$I$2*E8 -> 0 | J8: =F8+G8+H8+I8 -> 0
B9: 7 | F9: =$F$2*E9 -> 0 | G9: =$G$2*E9 -> 0 | H9: =$H$2*E9 -> 0 | I9: =$I$2*E9 -> 0 | J9: =F9+G9+H9+I9 -> 0
B10: 8 | F10: =$F$2*E10 -> 0 | G10: =$G$2*E10 -> 0 | H10: =$H$2*E10 -> 0 | I10: =$I$2*E10 -> 0 | J10: =F10+G10+H10+I10 -> 0
B11: 9 | F11: =$F$2*E11 -> 0 | G11: =$G$2*E11 -> 0 | H11: =$H$2*E11 -> 0 | I11: =$I$2*E11 -> 0 | J11: =F11+G11+H11+I11 -> 0
B12: 10 | F12: =$F$2*E12 -> 0 | G12: =$G$2*E12 -> 0 | H12: =$H$2*E12 -> 0 | I12: =$I$2*E12 -> 0 | J12: =F12+G12+H12+I12 -> 0
B13: 11 | F13: =$F$2*E13 -> 0 | G13: =$G$2*E13 -> 0 | H13: =$H$2*E13 -> 0 | I13: =$I$2*E13 -> 0 | J13: =F13+G13+H13+I13 -> 0
B14: 12 | F14: =$F$2*E14 -> 0 | G14: =$G$2*E14 -> 0 | H14: =$H$2*E14 -> 0 | I14: =$I$2*E14 -> 0 | J14: =F14+G14+H14+I14 -> 0
... B37: 35 | F37: =$F$2*E37 -> 0 | G37: =$G$2*E37 -> 0 | H37: =$H$2*E37 -> 0 | I37: =$I$2*E37 -> 0 | J37: =F37+G37+H37+I37 -> 0
B38: TOTAIS | E38: =SUM(E3:E37) -> 0 | F38: =SUM(F3:F37) -> 0 | G38: =SUM(G3:G37) -> 0 | H38: =SUM(H3:H37) -> 0 | I38: =SUM(I3:I37) -> 0 | J38: =SUM(J3:J37) -> 0

Sheet PARCELA 2
B1: Ordem | C1: Nome do Empregado | D1: Cargo | E1: Remuneração (Salário base + adicionais ) | F1: 13º salário | G1: Férias e terço constitucional | H1: Multa s/ FGTS e Cont.Social sobre aviso previo indenizado e trabalhado | I1: Submodulo 2.2 sobre férias , um terço constitucional e 13 ° Considerando RAT = 1,00 %, 2,00 % ou 3,00 % | J1: Total a ser provisionado
B2: VOCÊ ESTÁ NA PARCELA DE NÚMERO | D2: =_xlfn.SHEET()-6 -> 2 | E2: 1 | F2: =DADOS!J14 -> 0.0833 | G2: =DADOS!J15 -> 0.121 | H2: =DADOS!J16 -> 0.04 | I2: =DADOS!L24 -> 0.0782 | J2: =SUM(F2:I2) -> 0.3225
B3: 1 | F3: =$F$2*E3 -> 0 | G3: =$G$2*E3 -> 0 | H3: =$H$2*E3 -> 0 | I3: =$I$2*E3 -> 0 | J3: =SUM(F3:I3) -> 0
B4: 2 | F4: =$F$2*E4 -> 0 | G4: =$G$2*E4 -> 0 | H4: =$H$2*E4 -> 0 | I4: =$I$2*E4 -> 0 | J4: =SUM(F4:I4) -> 0
B5: 3 | F5: =$F$2*E5 -> 0 | G5: =$G$2*E5 -> 0 | H5: =$H$2*E5 -> 0 | I5: =$I$2*E5 -> 0 | J5: =SUM(F5:I5) -> 0
B6: 4 | F6: =$F$2*E6 -> 0 | G6: =$G$2*E6 -> 0 | H6: =$H$2*E6 -> 0 | I6: =$I$2*E6 -> 0 | J6: =SUM(F6:I6) -> 0
B7: 5 | F7: =$F$2*E7 -> 0 | G7: =$G$2*E7 -> 0 | H7: =$H$2*E7 -> 0 | I7: =$I$2*E7 -> 0 | J7: =SUM(F7:I7) -> 0
B8: 6 | F8: =$F$2*E8 -> 0 | G8: =$G$2*E8 -> 0 | H8: =$H$2*E8 -> 0 | I8: =$I$2*E8 -> 0 | J8: =SUM(F8:I8) -> 0
B9: 7 | F9: =$F$2*E9 -> 0 | G9: =$G$2*E9 -> 0 | H9: =$H$2*E9 -> 0 | I9: =$I$2*E9 -> 0 | J9: =SUM(F9:I9) -> 0
B10: 8 | F10: =$F$2*E10 -> 0 | G10: =$G$2*E10 -> 0 | H10: =$H$2*E10 -> 0 | I10: =$I$2*E10 -> 0 | J10: =SUM(F10:I10) -> 0
B11: 9 | F11: =$F$2*E11 -> 0 | G11: =$G$2*E11 -> 0 | H11: =$H$2*E11 -> 0 | I11: =$I$2*E11 -> 0 | J11: =SUM(F11:I11) -> 0
B12: 10 | F12: =$F$2*E12 -> 0 | G12: =$G$2*E12 -> 0 | H12: =$H$2*E12 -> 0 | I12: =$I$2*E12 -> 0 | J12: =SUM(F12:I12) -> 0
B13: 11 | F13: =$F$2*E13 -> 0 | G13: =$G$2*E13 -> 0 | H13: =$H$2*E13 -> 0 | I13: =$I$2*E13 -> 0 | J13: =SUM(F13:I13) -> 0
B14: 12 | F14: =$F$2*E14 -> 0 | G14: =$G$2*E14 -> 0 | H14: =$H$2*E14 -> 0 | I14: =$I$2*E14 -> 0 | J14: =SUM(F14:I14) -> 0
... B37: 35 | F37: =$F$2*E37 -> 0 | G37: =$G$2*E37 -> 0 | H37: =$H$2*E37 -> 0 | I37: =$I$2*E37 -> 0 | J37: =SUM(F37:I37) -> 0
B38: TOTAIS | E38: =SUM(E3:E37) -> 0 | F38: =SUM(F3:F37) -> 0 | G38: =SUM(G3:G37) -> 0 | H38: =SUM(H3:H37) -> 0 | I38: =SUM(I3:I37) -> 0 | J38: =SUM(J3:J37) -> 0
B44: TOTAL ACUMULADO
B45: Ref. | C45: Nome do Funcionário | D45: Cargo | E45: Remuneração acumulada (Salário base + adicionais ) | F45: 13º salário | G45: Férias e terço constitucional | H45: Multa s/ FGTS e Cont.Social sobre aviso previo indenizado e trabalhado | I45: Submodulo 4.1 sobre férias , um terço constitucional e 13° | J45: Total a ser provisionado | K45: Total liberado por funcionário | L45: Total provisionado por funcionário
E46: 1 | F46: =F2 -> 0.0833 | G46: =G2 -> 0.121 | H46: =H2 -> 0.04 | I46: =I2 -> 0.0782 | J46: =SUM(F46:I46) -> 0.3225
B47: 1 | E47: ='PARCELA 1'!E3+'PARCELA 2'!E3 -> 0 | F47: =$F$46*E47 -> 0 | G47: =$G$46*E47 -> 0 | H47: =$H$46*E47 -> 0 | I47: =$I$46*E47 -> 0 | J47: =SUM(F47:I47) -> 0 | L47: =J47-K47 -> 0
B48: 2 | E48: ='PARCELA 1'!E4+'PARCELA 2'!E4 -> 0 | F48: =$F$2*E48 -> 0 | G48: =$G$2*E48 -> 0 | H48: =$H$2*E48 -> 0 | I48: =$I$2*E48 -> 0 | J48: =SUM(F48:I48) -> 0 | L48: =J48-K48 -> 0
B49: 3 | E49: ='PARCELA 1'!E5+'PARCELA 2'!E5 -> 0 | F49: =$F$2*E49 -> 0 | G49: =$G$2*E49 -> 0 | H49: =$H$2*E49 -> 0 | I49: =$I$2*E49 -> 0 | J49: =SUM(F49:I49) -> 0 | L49: =J49-K49 -> 0
B50: 4 | E50: ='PARCELA 1'!E6+'PARCELA 2'!E6 -> 0 | F50: =$F$2*E50 -> 0 | G50: =$G$2*E50 -> 0 | H50: =$H$2*E50 -> 0 | I50: =$I$2*E50 -> 0 | J50: =SUM(F50:I50) -> 0 | L50: =J50-K50 -> 0
B51: 5 | E51: ='PARCELA 1'!E7+'PARCELA 2'!E7 -> 0 | F51: =$F$2*E51 -> 0 | G51: =$G$2*E51 -> 0 | H51: =$H$2*E51 -> 0 | I51: =$I$2*E51 -> 0 | J51: =SUM(F51:I51) -> 0 | L51: =J51-K51 -> 0
B52: 6 | E52: ='PARCELA 1'!E8+'PARCELA 2'!E8 -> 0 | F52: =$F$2*E52 -> 0 | G52: =$G$2*E52 -> 0 | H52: =$H$2*E52 -> 0 | I52: =$I$2*E52 -> 0 | J52: =SUM(F52:I52) -> 0 | L52: =J52-K52 -> 0
B53: 7 | E53: ='PARCELA 1'!E9+'PARCELA 2'!E9 -> 0 | F53: =$F$2*E53 -> 0 | G53: =$G$2*E53 -> 0 | H53: =$H$2*E53 -> 0 | I53: =$I$2*E53 -> 0 | J53: =SUM(F53:I53) -> 0 | L53: =J53-K53 -> 0
B54: 8 | E54: ='PARCELA 1'!E10+'PARCELA 2'!E10 -> 0 | F54: =$F$2*E54 -> 0 | G54: =$G$2*E54 -> 0 | H54: =$H$2*E54 -> 0 | I54: =$I$2*E54 -> 0 | J54: =SUM(F54:I54) -> 0 | L54: =J54-K54 -> 0
B55: 9 | E55: ='PARCELA 1'!E11+'PARCELA 2'!E11 -> 0 | F55: =$F$2*E55 -> 0 | G55: =$G$2*E55 -> 0 | H55: =$H$2*E55 -> 0 | I55: =$I$2*E55 -> 0 | J55: =SUM(F55:I55) -> 0 | L55: =J55-K55 -> 0
B56: 10 | E56: ='PARCELA 1'!E12+'PARCELA 2'!E12 -> 0 | F56: =$F$2*E56 -> 0 | G56: =$G$2*E56 -> 0 | H56: =$H$2*E56 -> 0 | I56: =$I$2*E56 -> 0 | J56: =SUM(F56:I56) -> 0 | L56: =J56-K56 -> 0
B57: 11 | E57: ='PARCELA 1'!E13+'PARCELA 2'!E13 -> 0 | F57: =$F$2*E57 -> 0 | G57: =$G$2*E57 -> 0 | H57: =$H$2*E57 -> 0 | I57: =$I$2*E57 -> 0 | J57: =SUM(F57:I57) -> 0 | L57: =J57-K57 -> 0
B58: 12 | E58: ='PARCELA 1'!E14+'PARCELA 2'!E14 -> 0 | F58: =$F$2*E58 -> 0 | G58: =$G$2*E58 -> 0 | H58: =$H$2*E58 -> 0 | I58: =$I$2*E58 -> 0 | J58: =SUM(F58:I58) -> 0 | L58: =J58-K58 -> 0
B59: 13 | E59: ='PARCELA 1'!E15+'PARCELA 2'!E15 -> 0 | F59: =$F$2*E59 -> 0 | G59: =$G$2*E59 -> 0 | H59: =$H$2*E59 -> 0 | I59: =$I$2*E59 -> 0 | J59: =SUM(F59:I59) -> 0 | L59: =J59-K59 -> 0
... B81: 35 | E81: ='PARCELA 1'!E37+'PARCELA 2'!E37 -> 0 | F81: =$F$2*E81 -> 0 | G81: =$G$2*E81 -> 0 | H81: =$H$2*E81 -> 0 | I81: =$I$2*E81 -> 0 | J81: =SUM(F81:I81) -> 0 | L81: =J81-K81 -> 0
B82: Subtotais | E82: =SUM(E47:E81) -> 0 | F82: =SUM(F47:F81) -> 0 | G82: =SUM(G47:G81) -> 0 | H82: =SUM(H47:H81) -> 0 | I82: =SUM(I47:I81) -> 0 | J82: =SUM(J47:J81) -> 0 | K82: =SUM(K47:K81) -> 0 | L82: =SUM(L47:L81) -> 0
B83: Arredondamentos
B84: Total

Sheet PARCELA 3
B1: Ordem | C1: Nome do Empregado | D1: Cargo | E1: Remuneração (Salário base + adicionais ) | F1: 13º salário | G1: Férias e terço constitucional | H1: Multa s/ FGTS e Cont.Social sobre aviso previo indenizado e trabalhado | I1: Submodulo 2.2 sobre férias , um terço constitucional e 13 ° Considerando RAT = 1,00 %, 2,00 % ou 3,00 % | J1: Total a ser provisionado
B2: VOCÊ ESTÁ NA PARCELA DE NÚMERO | D2: =_xlfn.SHEET()-6 -> 3 | E2: 1 | F2: =DADOS!J14 -> 0.0833 | G2: =DADOS!J15 -> 0.121 | H2: =DADOS!J16 -> 0.04 | I2: =DADOS!L24 -> 0.0782 | J2: =SUM(F2:I2) -> 0.3225
B3: 1 | F3: =$F$2*E3 -> 0 | G3: =$G$2*E3 -> 0 | H3: =$H$2*E3 -> 0 | I3: =$I$2*E3 -> 0 | J3: =SUM(F3:I3) -> 0
B4: 2 | F4: =$F$2*E4 -> 0 | G4: =$G$2*E4 -> 0 | H4: =$H$2*E4 -> 0 | I4: =$I$2*E4 -> 0 | J4: =SUM(F4:I4) -> 0
B5: 3 | F5: =$F$2*E5 -> 0 | G5: =$G$2*E5 -> 0 | H5: =$H$2*E5 -> 0 | I5: =$I$2*E5 -> 0 | J5: =SUM(F5:I5) -> 0
B6: 4 | F6: =$F$2*E6 -> 0 | G6: =$G$2*E6 -> 0 | H6: =$H$2*E6 -> 0 | I6: =$I$2*E6 -> 0 | J6: =SUM(F6:I6) -> 0
B7: 5 | F7: =$F$2*E7 -> 0 | G7: =$G$2*E7 -> 0 | H7: =$H$2*E7 -> 0 | I7: =$I$2*E7 -> 0 | J7: =SUM(F7:I7) -> 0
B8: 6 | F8: =$F$2*E8 -> 0 | G8: =$G$2*E8 -> 0 | H8: =$H$2*E8 -> 0 | I8: =$I$2*E8 -> 0 | J8: =SUM(F8:I8) -> 0
B9: 7 | F9: =$F$2*E9 -> 0 | G9: =$G$2*E9 -> 0 | H9: =$H$2*E9 -> 0 | I9: =$I$2*E9 -> 0 | J9: =SUM(F9:I9) -> 0
B10: 8 | F10: =$F$2*E10 -> 0 | G10: =$G$2*E10 -> 0 | H10: =$H$2*E10 -> 0 | I10: =$I$2*E10 -> 0 | J10: =SUM(F10:I10) -> 0
B11: 9 | F11: =$F$2*E11 -> 0 | G11: =$G$2*E11 -> 0 | H11: =$H$2*E11 -> 0 | I11: =$I$2*E11 -> 0 | J11: =SUM(F11:I11) -> 0
B12: 10 | F12: =$F$2*E12 -> 0 | G12: =$G$2*E12 -> 0 | H12: =$H$2*E12 -> 0 | I12: =$I$2*E12 -> 0 | J12: =SUM(F12:I12) -> 0
B13: 11 | F13: =$F$2*E13 -> 0 | G13: =$G$2*E13 -> 0 | H13: =$H$2*E13 -> 0 | I13: =$I$2*E13 -> 0 | J13: =SUM(F13:I13) -> 0
B14: 12 | F14: =$F$2*E14 -> 0 | G14: =$G$2*E14 -> 0 | H14: =$H$2*E14 -> 0 | I14: =$I$2*E14 -> 0 | J14: =SUM(F14:I14) -> 0
... B37: 35 | F37: =$F$2*E37 -> 0 | G37: =$G$2*E37 -> 0 | H37: =$H$2*E37 -> 0 | I37: =$I$2*E37 -> 0 | J37: =SUM(F37:I37) -> 0
B38: TOTAIS | E38: =SUM(E3:E37) -> 0 | F38: =SUM(F3:F37) -> 0 | G38: =SUM(G3:G37) -> 0 | H38: =SUM(H3:H37) -> 0 | I38: =SUM(I3:I37) -> 0 | J38: =SUM(J3:J37) -> 0
B44: TOTAL ACUMULADO
B45: Ref. | C45: Nome do Funcionário | D45: Cargo | E45: Remuneração acumulada (Salário base + adicionais ) | F45: 13º salário | G45: Férias e terço constitucional | H45: Multa s/ FGTS e Cont.Social sobre aviso previo indenizado e trabalhado | I45: Submodulo 2.2 sobre férias , um terço constitucional e 13° | J45: Total a ser provisionado | K45: Total liberado por funcionário | L45: Total provisionado por funcionário
E46: 1 | F46: =F2 -> 0.0833 | G46: =G2 -> 0.121 | H46: =H2 -> 0.04 | I46: =I2 -> 0.0782 | J46: =SUM(F46:I46) -> 0.3225
B47: 1 | E47: ='PARCELA 1'!E3+'PARCELA 2'!E3+'PARCELA 3'!E3 -> 0 | F47: =$F$46*E47 -> 0 | G47: =$G$46*E47 -> 0 | H47: =$H$46*E47 -> 0 | I47: =$I$46*E47 -> 0 | J47: =SUM(F47:I47) -> 0 | L47: =J47-K47-'PARCELA 2'!K47 -> 0
B48: 2 | E48: ='PARCELA 1'!E4+'PARCELA 2'!E4+'PARCELA 3'!E4 -> 0 | F48: =$F$2*E48 -> 0 | G48: =$G$2*E48 -> 0 | H48: =$H$2*E48 -> 0 | I48: =$I$2*E48 -> 0 | J48: =SUM(F48:I48) -> 0 | L48: =J48-K48-'PARCELA 2'!K48 -> 0
B49: 3 | E49: ='PARCELA 1'!E5+'PARCELA 2'!E5+'PARCELA 3'!E5 -> 0 | F49: =$F$2*E49 -> 0 | G49: =$G$2*E49 -> 0 | H49: =$H$2*E49 -> 0 | I49: =$I$2*E49 -> 0 | J49: =SUM(F49:I49) -> 0 | L49: =J49-K49-'PARCELA 2'!K49 -> 0
B50: 4 | E50: ='PARCELA 1'!E6+'PARCELA 2'!E6+'PARCELA 3'!E6 -> 0 | F50: =$F$2*E50 -> 0 | G50: =$G$2*E50 -> 0 | H50: =$H$2*E50 -> 0 | I50: =$I$2*E50 -> 0 | J50: =SUM(F50:I50) -> 0 | L50: =J50-K50-'PARCELA 2'!K50 -> 0
B51: 5 | E51: ='PARCELA 1'!E7+'PARCELA 2'!E7+'PARCELA 3'!E7 -> 0 | F51: =$F$2*E51 -> 0 | G51: =$G$2*E51 -> 0 | H51: =$H$2*E51 -> 0 | I51: =$I$2*E51 -> 0 | J51: =SUM(F51:I51) -> 0 | L51: =J51-K51-'PARCELA 2'!K51 -> 0
B52: 6 | E52: ='PARCELA 1'!E8+'PARCELA 2'!E8+'PARCELA 3'!E8 -> 0 | F52: =$F$2*E52 -> 0 | G52: =$G$2*E52 -> 0 | H52: =$H$2*E52 -> 0 | I52: =$I$2*E52 -> 0 | J52: =SUM(F52:I52) -> 0 | L52: =J52-K52-'PARCELA 2'!K52 -> 0
B53: 7 | E53: ='PARCELA 1'!E9+'PARCELA 2'!E9+'PARCELA 3'!E9 -> 0 | F53: =$F$2*E53 -> 0 | G53: =$G$2*E53 -> 0 | H53: =$H$2*E53 -> 0 | I53: =$I$2*E53 -> 0 | J53: =SUM(F53:I53) -> 0 | L53: =J53-K53-'PARCELA 2'!K53 -> 0
B54: 8 | E54: ='PARCELA 1'!E10+'PARCELA 2'!E10+'PARCELA 3'!E10 -> 0 | F54: =$F$2*E54 -> 0 | G54: =$G$2*E54 -> 0 | H54: =$H$2*E54 -> 0 | I54: =$I$2*E54 -> 0 | J54: =SUM(F54:I54) -> 0 | L54: =J54-K54-'PARCELA 2'!K54 -> 0
B55: 9 | E55: ='PARCELA 1'!E11+'PARCELA 2'!E11+'PARCELA 3'!E11 -> 0 | F55: =$F$2*E55 -> 0 | G55: =$G$2*E55 -> 0 | H55: =$H$2*E55 -> 0 | I55: =$I$2*E55 -> 0 | J55: =SUM(F55:I55) -> 0 | L55: =J55-K55-'PARCELA 2'!K55 -> 0
B56: 10 | E56: ='PARCELA 1'!E12+'PARCELA 2'!E12+'PARCELA 3'!E12 -> 0 | F56: =$F$2*E56 -> 0 | G56: =$G$2*E56 -> 0 | H56: =$H$2*E56 -> 0 | I56: =$I$2*E56 -> 0 | J56: =SUM(F56:I56) -> 0 | L56: =J56-K56-'PARCELA 2'!K56 -> 0
B57: 11 | E57: ='PARCELA 1'!E13+'PARCELA 2'!E13+'PARCELA 3'!E13 -> 0 | F57: =$F$2*E57 -> 0 | G57: =$G$2*E57 -> 0 | H57: =$H$2*E57 -> 0 | I57: =$I$2*E57 -> 0 | J57: =SUM(F57:I57) -> 0 | L57: =J57-K57-'PARCELA 2'!K57 -> 0
B58: 12 | E58: ='PARCELA 1'!E14+'PARCELA 2'!E14+'PARCELA 3'!E14 -> 0 | F58: =$F$2*E58 -> 0 | G58: =$G$2*E58 -> 0 | H58: =$H$2*E58 -> 0 | I58: =$I$2*E58 -> 0 | J58: =SUM(F58:I58) -> 0 | L58: =J58-K58-'PARCELA 2'!K58 -> 0
B59: 13 | E59: ='PARCELA 1'!E15+'PARCELA 2'!E15+'PARCELA 3'!E15 -> 0 | F59: =$F$2*E59 -> 0 | G59: =$G$2*E59 -> 0 | H59: =$H$2*E59 -> 0 | I59: =$I$2*E59 -> 0 | J59: =SUM(F59:I59) -> 0 | L59: =J59-K59-'PARCELA 2'!K59 -> 0
... B81: 35 | E81: ='PARCELA 1'!E37+'PARCELA 2'!E37+'PARCELA 3'!E37 -> 0 | F81: =$F$2*E81 -> 0 | G81: =$G$2*E81 -> 0 | H81: =$H$2*E81 -> 0 | I81: =$I$2*E81 -> 0 | J81: =SUM(F81:I81) -> 0 | L81: =J81-K81-'PARCELA 2'!K81 -> 0
B82: Subtotais | E82: =SUM(E47:E81) -> 0 | F82: =SUM(F47:F81) -> 0 | G82: =SUM(G47:G81) -> 0 | H82: =SUM(H47:H81) -> 0 | I82: =SUM(I47:I81) -> 0 | J82: =SUM(J47:J81) -> 0 | K82: =SUM(K47:K81) -> 0 | L82: =SUM(L47:L81) -> 0
B83: Arredondamentos
B84: Total

Sheet PARCELA 4
B1: Ordem | C1: Nome do Empregado | D1: Cargo | E1: Remuneração (Salário base + adicionais ) | F1: 13º salário | G1: Férias e terço constitucional | H1: Multa s/ FGTS e Cont.Social sobre aviso previo indenizado e trabalhado | I1: Submodulo 2.2 sobre férias , um terço constitucional e 13 ° Considerando RAT = 1,00 %, 2,00 % ou 3,00 % | J1: Total a ser provisionado
B2: VOCÊ ESTÁ NA PARCELA DE NÚMERO | D2: =_xlfn.SHEET()-6 -> 4 | E2: 1 | F2: =DADOS!J14 -> 0.0833 | G2: =DADOS!J15 -> 0.121 | H2: =DADOS!J16 -> 0.04 | I2: =DADOS!L24 -> 0.0782 | J2: =SUM(F2:I2) -> 0.3225
B3: 1 | F3: =$F$2*E3 -> 0 | G3: =$G$2*E3 -> 0 | H3: =$H$2*E3 -> 0 | I3: =$I$2*E3 -> 0 | J3: =SUM(F3:I3) -> 0
B4: 2 | F4: =$F$2*E4 -> 0 | G4: =$G$2*E4 -> 0 | H4: =$H$2*E4 -> 0 | I4: =$I$2*E4 -> 0 | J4: =SUM(F4:I4) -> 0
B5: 3 | F5: =$F$2*E5 -> 0 | G5: =$G$2*E5 -> 0 | H5: =$H$2*E5 -> 0 | I5: =$I$2*E5 -> 0 | J5: =SUM(F5:I5) -> 0
B6: 4 | F6: =$F$2*E6 -> 0 | G6: =$G$2*E6 -> 0 | H6: =$H$2*E6 -> 0 | I6: =$I$2*E6 -> 0 | J6: =SUM(F6:I6) -> 0
B7: 5 | F7: =$F$2*E7 -> 0 | G7: =$G$2*E7 -> 0 | H7: =$H$2*E7 -> 0 | I7: =$I$2*E7 -> 0 | J7: =SUM(F7:I7) -> 0
B8: 6 | F8: =$F$2*E8 -> 0 | G8: =$G$2*E8 -> 0 | H8: =$H$2*E8 -> 0 | I8: =$I$2*E8 -> 0 | J8: =SUM(F8:I8) -> 0
B9: 7 | F9: =$F$2*E9 -> 0 | G9: =$G$2*E9 -> 0 | H9: =$H$2*E9 -> 0 | I9: =$I$2*E9 -> 0 | J9: =SUM(F9:I9) -> 0
B10: 8 | F10: =$F$2*E10 -> 0 | G10: =$G$2*E10 -> 0 | H10: =$H$2*E10 -> 0 | I10: =$I$2*E10 -> 0 | J10: =SUM(F10:I10) -> 0
B11: 9 | F11: =$F$2*E11 -> 0 | G11: =$G$2*E11 -> 0 | H11: =$H$2*E11 -> 0 | I11: =$I$2*E11 -> 0 | J11: =SUM(F11:I11) -> 0
B12: 10 | F12: =$F$2*E12 -> 0 | G12: =$G$2*E12 -> 0 | H12: =$H$2*E12 -> 0 | I12: =$I$2*E12 -> 0 | J12: =SUM(F12:I12) -> 0
B13: 11 | F13: =$F$2*E13 -> 0 | G13: =$G$2*E13 -> 0 | H13: =$H$2*E13 -> 0 | I13: =$I$2*E13 -> 0 | J13: =SUM(F13:I13) -> 0
B14: 12 | F14: =$F$2*E14 -> 0 | G14: =$G$2*E14 -> 0 | H14: =$H$2*E14 -> 0 | I14: =$I$2*E14 -> 0 | J14: =SUM(F14:I14) -> 0
... B37: 35 | F37: =$F$2*E37 -> 0 | G37: =$G$2*E37 -> 0 | H37: =$H$2*E37 -> 0 | I37: =$I$2*E37 -> 0 | J37: =SUM(F37:I37) -> 0
B38: TOTAIS | E38: =SUM(E3:E37) -> 0 | F38: =SUM(F3:F37) -> 0 | G38: =SUM(G3:G37) -> 0 | H38: =SUM(H3:H37) -> 0 | I38: =SUM(I3:I37) -> 0 | J38: =SUM(J3:J37) -> 0
B44: TOTAL ACUMULADO
B45: Ref. | C45: Nome do Funcionário | D45: Cargo | E45: Remuneração acumulada (Salário base + adicionais ) | F45: 13º salário | G45: Férias e terço constitucional | H45: Multa s/ FGTS e Cont.Social sobre aviso previo indenizado e trabalhado | I45: Submodulo 2.2 sobre férias , um terço constitucional e 13º | J45: Total a ser provisionado | K45: Total liberado por funcionário | L45: Total provisionado por funcionário
E46: 1 | F46: =F2 -> 0.0833 | G46: =G2 -> 0.121 | H46: =H2 -> 0.04 | I46: =I2 -> 0.0782 | J46: =SUM(F46:I46) -> 0.3225
B47: 1 | E47: ='PARCELA 1'!E3+'PARCELA 2'!E3+'PARCELA 3'!E3+'PARCELA 4'!E3 -> 0 | F47: =$F$46*E47 -> 0 | G47: =$G$46*E47 -> 0 | H47: =$H$46*E47 -> 0 | I47: =$I$46*E47 -> 0 | J47: =SUM(F47:I47) -> 0 | L47: =J47-K47-'PARCELA 2'!K47-'PARCELA 3'!K47 -> 0
B48: 2 | E48: ='PARCELA 1'!E4+'PARCELA 2'!E4+'PARCELA 3'!E4+'PARCELA 4'!E4 -> 0 | F48: =$F$2*E48 -> 0 | G48: =$G$2*E48 -> 0 | H48: =$H$2*E48 -> 0 | I48: =$I$2*E48 -> 0 | J48: =SUM(F48:I48) -> 0 | L48: =J48-K48-'PARCELA 2'!K48-'PARCELA 3'!K48 -> 0
B49: 3 | E49: ='PARCELA 1'!E5+'PARCELA 2'!E5+'PARCELA 3'!E5+'PARCELA 4'!E5 -> 0 | F49: =$F$2*E49 -> 0 | G49: =$G$2*E49 -> 0 | H49: =$H$2*E49 -> 0 | I49: =$I$2*E49 -> 0 | J49: =SUM(F49:I49) -> 0 | L49: =J49-K49-'PARCELA 2'!K49-'PARCELA 3'!K49 -> 0
B50: 4 | E50: ='PARCELA 1'!E6+'PARCELA 2'!E6+'PARCELA 3'!E6+'PARCELA 4'!E6 -> 0 | F50: =$F$2*E50 -> 0 | G50: =$G$2*E50 -> 0 | H50: =$H$2*E50 -> 0 | I50: =$I$2*E50 -> 0 | J50: =SUM(F50:I50) -> 0 | L50: =J50-K50-'PARCELA 2'!K50-'PARCELA 3'!K50 -> 0
B51: 5 | E51: ='PARCELA 1'!E7+'PARCELA 2'!E7+'PARCELA 3'!E7+'PARCELA 4'!E7 -> 0 | F51: =$F$2*E51 -> 0 | G51: =$G$2*E51 -> 0 | H51: =$H$2*E51 -> 0 | I51: =$I$2*E51 -> 0 | J51: =SUM(F51:I51) -> 0 | L51: =J51-K51-'PARCELA 2'!K51-'PARCELA 3'!K51 -> 0
B52: 6 | E52: ='PARCELA 1'!E8+'PARCELA 2'!E8+'PARCELA 3'!E8+'PARCELA 4'!E8 -> 0 | F52: =$F$2*E52 -> 0 | G52: =$G$2*E52 -> 0 | H52: =$H$2*E52 -> 0 | I52: =$I$2*E52 -> 0 | J52: =SUM(F52:I52) -> 0 | L52: =J52-K52-'PARCELA 2'!K52-'PARCELA 3'!K52 -> 0
B53: 7 | E53: ='PARCELA 1'!E9+'PARCELA 2'!E9+'PARCELA 3'!E9+'PARCELA 4'!E9 -> 0 | F53: =$F$2*E53 -> 0 | G53: =$G$2*E53 -> 0 | H53: =$H$2*E53 -> 0 | I53: =$I$2*E53 -> 0 | J53: =SUM(F53:I53) -> 0 | L53: =J53-K53-'PARCELA 2'!K53-'PARCELA 3'!K53 -> 0
B54: 8 | E54: ='PARCELA 1'!E10+'PARCELA 2'!E10+'PARCELA 3'!E10+'PARCELA 4'!E10 -> 0 | F54: =$F$2*E54 -> 0 | G54: =$G$2*E54 -> 0 | H54: =$H$2*E54 -> 0 | I54: =$I$2*E54 -> 0 | J54: =SUM(F54:I54) -> 0 | L54: =J54-K54-'PARCELA 2'!K54-'PARCELA 3'!K54 -> 0
B55: 9 | E55: ='PARCELA 1'!E11+'PARCELA 2'!E11+'PARCELA 3'!E11+'PARCELA 4'!E11 -> 0 | F55: =$F$2*E55 -> 0 | G55: =$G$2*E55 -> 0 | H55: =$H$2*E55 -> 0 | I55: =$I$2*E55 -> 0 | J55: =SUM(F55:I55) -> 0 | L55: =J55-K55-'PARCELA 2'!K55-'PARCELA 3'!K55 -> 0
B56: 10 | E56: ='PARCELA 1'!E12+'PARCELA 2'!E12+'PARCELA 3'!E12+'PARCELA 4'!E12 -> 0 | F56: =$F$2*E56 -> 0 | G56: =$G$2*E56 -> 0 | H56: =$H$2*E56 -> 0 | I56: =$I$2*E56 -> 0 | J56: =SUM(F56:I56) -> 0 | L56: =J56-K56-'PARCELA 2'!K56-'PARCELA 3'!K56 -> 0
B57: 11 | E57: ='PARCELA 1'!E13+'PARCELA 2'!E13+'PARCELA 3'!E13+'PARCELA 4'!E13 -> 0 | F57: =$F$2*E57 -> 0 | G57: =$G$2*E57 -> 0 | H57: =$H$2*E57 -> 0 | I57: =$I$2*E57 -> 0 | J57: =SUM(F57:I57) -> 0 | L57: =J57-K57-'PARCELA 2'!K57-'PARCELA 3'!K57 -> 0
B58: 12 | E58: ='PARCELA 1'!E14+'PARCELA 2'!E14+'PARCELA 3'!E14+'PARCELA 4'!E14 -> 0 | F58: =$F$2*E58 -> 0 | G58: =$G$2*E58 -> 0 | H58: =$H$2*E58 -> 0 | I58: =$I$2*E58 -> 0 | J58: =SUM(F58:I58) -> 0 | L58: =J58-K58-'PARCELA 2'!K58-'PARCELA 3'!K58 -> 0
B59: 13 | E59: ='PARCELA 1'!E15+'PARCELA 2'!E15+'PARCELA 3'!E15+'PARCELA 4'!E15 -> 0 | F59: =$F$2*E59 -> 0 | G59: =$G$2*E59 -> 0 | H59: =$H$2*E59 -> 0 | I59: =$I$2*E59 -> 0 | J59: =SUM(F59:I59) -> 0 | L59: =J59-K59-'PARCELA 2'!K59-'PARCELA 3'!K59 -> 0
... B81: 35 | E81: ='PARCELA 1'!E37+'PARCELA 2'!E37+'PARCELA 3'!E37+'PARCELA 4'!E37 -> 0 | F81: =$F$2*E81 -> 0 | G81: =$G$2*E81 -> 0 | H81: =$H$2*E81 -> 0 | I81: =$I$2*E81 -> 0 | J81: =SUM(F81:I81) -> 0 | L81: =J81-K81-'PARCELA 2'!K81-'PARCELA 3'!K81 -> 0
B82: Subtotais | E82: =SUM(E47:E81) -> 0 | F82: =SUM(F47:F81) -> 0 | G82: =SUM(G47:G81) -> 0 | H82: =SUM(H47:H81) -> 0 | I82: =SUM(I47:I81) -> 0 | J82: =SUM(J47:J81) -> 0 | K82: =SUM(K47:K81) -> 0 | L82: =SUM(L47:L81) -> 0
B83: Arredondamentos
B84: Total

Sheet PARCELA 5
B1: Ordem | C1: Nome do Empregado | D1: Cargo | E1: Remuneração (Salário base + adicionais ) | F1: 13º salário | G1: Férias e terço constitucional | H1: Multa s/ FGTS e Cont.Social sobre aviso previo indenizado e trabalhado | I1: Submodulo 2.2 sobre férias , um terço constitucional e 13 ° Considerando RAT = 1,00 %, 2,00 % ou 3,00 % | J1: Total a ser provisionado
B2: VOCÊ ESTÁ NA PARCELA DE NÚMERO | D2: =_xlfn.SHEET()-6 -> 5 | E2: 1 | F2: =DADOS!J14 -> 0.0833 | G2: =DADOS!J15 -> 0.121 | H2: =DADOS!J16 -> 0.04 | I2: =DADOS!L24 -> 0.0782 | J2: =SUM(F2:I2) -> 0.3225
B3: 1 | F3: =$F$2*E3 -> 0 | G3: =$G$2*E3 -> 0 | H3: =$H$2*E3 -> 0 | I3: =$I$2*E3 -> 0 | J3: =SUM(F3:I3) -> 0
B4: 2 | F4: =$F$2*E4 -> 0 | G4: =$G$2*E4 -> 0 | H4: =$H$2*E4 -> 0 | I4: =$I$2*E4 -> 0 | J4: =SUM(F4:I4) -> 0
B5: 3 | F5: =$F$2*E5 -> 0 | G5: =$G$2*E5 -> 0 | H5: =$H$2*E5 -> 0 | I5: =$I$2*E5 -> 0 | J5: =SUM(F5:I5) -> 0
B6: 4 | F6: =$F$2*E6 -> 0 | G6: =$G$2*E6 -> 0 | H6: =$H$2*E6 -> 0 | I6: =$I$2*E6 -> 0 | J6: =SUM(F6:I6) -> 0
B7: 5 | F7: =$F$2*E7 -> 0 | G7: =$G$2*E7 -> 0 | H7: =$H$2*E7 -> 0 | I7: =$I$2*E7 -> 0 | J7: =SUM(F7:I7) -> 0
B8: 6 | F8: =$F$2*E8 -> 0 | G8: =$G$2*E8 -> 0 | H8: =$H$2*E8 -> 0 | I8: =$I$2*E8 -> 0 | J8: =SUM(F8:I8) -> 0
B9: 7 | F9: =$F$2*E9 -> 0 | G9: =$G$2*E9 -> 0 | H9: =$H$2*E9 -> 0 | I9: =$I$2*E9 -> 0 | J9: =SUM(F9:I9) -> 0
B10: 8 | F10: =$F$2*E10 -> 0 | G10: =$G$2*E10 -> 0 | H10: =$H$2*E10 -> 0 | I10: =$I$2*E10 -> 0 | J10: =SUM(F10:I10) -> 0
B11: 9 | F11: =$F$2*E11 -> 0 | G11: =$G$2*E11 -> 0 | H11: =$H$2*E11 -> 0 | I11: =$I$2*E11 -> 0 | J11: =SUM(F11:I11) -> 0
B12: 10 | F12: =$F$2*E12 -> 0 | G12: =$G$2*E12 -> 0 | H12: =$H$2*E12 -> 0 | I12: =$I$2*E12 -> 0 | J12: =SUM(F12:I12) -> 0
B13: 11 | F13: =$F$2*E13 -> 0 | G13: =$G$2*E13 -> 0 | H13: =$H$2*E13 -> 0 | I13: =$I$2*E13 -> 0 | J13: =SUM(F13:I13) -> 0
B14: 12 | F14: =$F$2*E14 -> 0 | G14: =$G$2*E14 -> 0 | H14: =$H$2*E14 -> 0 | I14: =$I$2*E14 -> 0 | J14: =SUM(F14:I14) -> 0
... B37: 35 | F37: =$F$2*E37 -> 0 | G37: =$G$2*E37 -> 0 | H37: =$H$2*E37 -> 0 | I37: =$I$2*E37 -> 0 | J37: =SUM(F37:I37) -> 0
B38: TOTAIS | E38: =SUM(E3:E37) -> 0 | F38: =SUM(F3:F37) -> 0 | G38: =SUM(G3:G37) -> 0 | H38: =SUM(H3:H37) -> 0 | I38: =SUM(I3:I37) -> 0 | J38: =SUM(J3:J37) -> 0
B44: TOTAL ACUMULADO
B45: Ref. | C45: Nome do Funcionário | D45: Cargo | E45: Remuneração acumulada (Salário base + adicionais ) | F45: 13º salário | G45: Férias e terço constitucional | H45: Multa s/ FGTS e Cont.Social sobre aviso previo indenizado e trabalhado | I45: Submodulo 2.2 sobre férias , um terço constitucional e 13° | J45: Total a ser provisionado | K45: Total liberado por funcionário | L45: Total provisionado por funcionário
E46: 1 | F46: =F2 -> 0.0833 | G46: =G2 -> 0.121 | H46: =H2 -> 0.04 | I46: =I2 -> 0.0782 | J46: =SUM(F46:I46) -> 0.3225
B47: 1 | E47: ='PARCELA 1'!E3+'PARCELA 2'!E3+'PARCELA 3'!E3+'PARCELA 4'!E3+'PARCELA 5'!E3 -> 0 | F47: =$F$46*E47 -> 0 | G47: =$G$46*E47 -> 0 | H47: =$H$46*E47 -> 0 | I47: =$I$46*E47 -> 0 | J47: =SUM(F47:I47) -> 0 | L47: =J47-K47-'PARCELA 2'!K47-'PARCELA 3'!K47-'PARCELA 4'!K47 -> 0
B48: 2 | E48: ='PARCELA 1'!E4+'PARCELA 2'!E4+'PARCELA 3'!E4+'PARCELA 4'!E4+'PARCELA 5'!E4 -> 0 | F48: =$F$2*E48 -> 0 | G48: =$G$2*E48 -> 0 | H48: =$H$2*E48 -> 0 | I48: =$I$2*E48 -> 0 | J48: =SUM(F48:I48) -> 0 | L48: =J48-K48-'PARCELA 2'!K48-'PARCELA 3'!K48-'PARCELA 4'!K48 -> 0
B49: 3 | E49: ='PARCELA 1'!E5+'PARCELA 2'!E5+'PARCELA 3'!E5+'PARCELA 4'!E5+'PARCELA 5'!E5 -> 0 | F49: =$F$2*E49 -> 0 | G49: =$G$2*E49 -> 0 | H49: =$H$2*E49 -> 0 | I49: =$I$2*E49 -> 0 | J49: =SUM(F49:I49) -> 0 | L49: =J49-K49-'PARCELA 2'!K49-'PARCELA 3'!K49-'PARCELA 4'!K49 -> 0
B50: 4 | E50: ='PARCELA 1'!E6+'PARCELA 2'!E6+'PARCELA 3'!E6+'PARCELA 4'!E6+'PARCELA 5'!E6 -> 0 | F50: =$F$2*E50 -> 0 | G50: =$G$2*E50 -> 0 | H50: =$H$2*E50 -> 0 | I50: =$I$2*E50 -> 0 | J50: =SUM(F50:I50) -> 0 | L50: =J50-K50-'PARCELA 2'!K50-'PARCELA 3'!K50-'PARCELA 4'!K50 -> 0
B51: 5 | E51: ='PARCELA 1'!E7+'PARCELA 2'!E7+'PARCELA 3'!E7+'PARCELA 4'!E7+'PARCELA 5'!E7 -> 0 | F51: =$F$2*E51 -> 0 | G51: =$G$2*E51 -> 0 | H51: =$H$2*E51 -> 0 | I51: =$I$2*E51 -> 0 | J51: =SUM(F51:I51) -> 0 | L51: =J51-K51-'PARCELA 2'!K51-'PARCELA 3'!K51-'PARCELA 4'!K51 -> 0
B52: 6 | E52: ='PARCELA 1'!E8+'PARCELA 2'!E8+'PARCELA 3'!E8+'PARCELA 4'!E8+'PARCELA 5'!E8 -> 0 | F52: =$F$2*E52 -> 0 | G52: =$G$2*E52 -> 0 | H52: =$H$2*E52 -> 0 | I52: =$I$2*E52 -> 0 | J52: =SUM(F52:I52) -> 0 | L52: =J52-K52-'PARCELA 2'!K52-'PARCELA 3'!K52-'PARCELA 4'!K52 -> 0
B53: 7 | E53: ='PARCELA 1'!E9+'PARCELA 2'!E9+'PARCELA 3'!E9+'PARCELA 4'!E9+'PARCELA 5'!E9 -> 0 | F53: =$F$2*E53 -> 0 | G53: =$G$2*E53 -> 0 | H53: =$H$2*E53 -> 0 | I53: =$I$2*E53 -> 0 | J53: =SUM(F53:I53) -> 0 | L53: =J53-K53-'PARCELA 2'!K53-'PARCELA 3'!K53-'PARCELA 4'!K53 -> 0
B54: 8 | E54: ='PARCELA 1'!E10+'PARCELA 2'!E10+'PARCELA 3'!E10+'PARCELA 4'!E10+'PARCELA 5'!E10 -> 0 | F54: =$F$2*E54 -> 0 | G54: =$G$2*E54 -> 0 | H54: =$H$2*E54 -> 0 | I54: =$I$2*E54 -> 0 | J54: =SUM(F54:I54) -> 0 | L54: =J54-K54-'PARCELA 2'!K54-'PARCELA 3'!K54-'PARCELA 4'!K54 -> 0
B55: 9 | E55: ='PARCELA 1'!E11+'PARCELA 2'!E11+'PARCELA 3'!E11+'PARCELA 4'!E11+'PARCELA 5'!E11 -> 0 | F55: =$F$2*E55 -> 0 | G55: =$G$2*E55 -> 0 | H55: =$H$2*E55 -> 0 | I55: =$I$2*E55 -> 0 | J55: =SUM(F55:I55) -> 0 | L55: =J55-K55-'PARCELA 2'!K55-'PARCELA 3'!K55-'PARCELA 4'!K55 -> 0
B56: 10 | E56: ='PARCELA 1'!E12+'PARCELA 2'!E12+'PARCELA 3'!E12+'PARCELA 4'!E12+'PARCELA 5'!E12 -> 0 | F56: =$F$2*E56 -> 0 | G56: =$G$2*E56 -> 0 | H56: =$H$2*E56 -> 0 | I56: =$I$2*E56 -> 0 | J56: =SUM(F56:I56) -> 0 | L56: =J56-K56-'PARCELA 2'!K56-'PARCELA 3'!K56-'PARCELA 4'!K56 -> 0
B57: 11 | E57: ='PARCELA 1'!E13+'PARCELA 2'!E13+'PARCELA 3'!E13+'PARCELA 4'!E13+'PARCELA 5'!E13 -> 0 | F57: =$F$2*E57 -> 0 | G57: =$G$2*E57 -> 0 | H57: =$H$2*E57 -> 0 | I57: =$I$2*E57 -> 0 | J57: =SUM(F57:I57) -> 0 | L57: =J57-K57-'PARCELA 2'!K57-'PARCELA 3'!K57-'PARCELA 4'!K57 -> 0
B58: 12 | E58: ='PARCELA 1'!E14+'PARCELA 2'!E14+'PARCELA 3'!E14+'PARCELA 4'!E14+'PARCELA 5'!E14 -> 0 | F58: =$F$2*E58 -> 0 | G58: =$G$2*E58 -> 0 | H58: =$H$2*E58 -> 0 | I58: =$I$2*E58 -> 0 | J58: =SUM(F58:I58) -> 0 | L58: =J58-K58-'PARCELA 2'!K58-'PARCELA 3'!K58-'PARCELA 4'!K58 -> 0
B59: 13 | E59: ='PARCELA 1'!E15+'PARCELA 2'!E15+'PARCELA 3'!E15+'PARCELA 4'!E15+'PARCELA 5'!E15 -> 0 | F59: =$F$2*E59 -> 0 | G59: =$G$2*E59 -> 0 | H59: =$H$2*E59 -> 0 | I59: =$I$2*E59 -> 0 | J59: =SUM(F59:I59) -> 0 | L59: =J59-K59-'PARCELA 2'!K59-'PARCELA 3'!K59-'PARCELA 4'!K59 -> 0
... B81: 35 | E81: ='PARCELA 1'!E37+'PARCELA 2'!E37+'PARCELA 3'!E37+'PARCELA 4'!E37+'PARCELA 5'!E37 -> 0 | F81: =$F$2*E81 -> 0 | G81: =$G$2*E81 -> 0 | H81: =$H$2*E81 -> 0 | I81: =$I$2*E81 -> 0 | J81: =SUM(F81:I81) -> 0 | L81: =J81-K81-'PARCELA 2'!K81-'PARCELA 3'!K81-'PARCELA 4'!K81 -> 0
B82: Subtotais | E82: =SUM(E47:E81) -> 0 | F82: =SUM(F47:F81) -> 0 | G82: =SUM(G47:G81) -> 0 | H82: =SUM(H47:H81) -> 0 | I82: =SUM(I47:I81) -> 0 | J82: =SUM(J47:J81) -> 0 | K82: =SUM(K47:K81) -> 0 | L82: =SUM(L47:L81) -> 0
B83: Arredondamentos
B84: Total

Sheet PARCELA 6
B1: Ordem | C1: Nome do Empregado | D1: Cargo | E1: Remuneração (Salário base + adicionais ) | F1: 13º salário | G1: Férias e terço constitucional | H1: Multa s/ FGTS e Cont.Social sobre aviso previo indenizado e trabalhado | I1: Submodulo 2.2 sobre férias , um terço constitucional e 13 ° Considerando RAT = 1,00 %, 2,00 % ou 3,00 % | J1: Total a ser provisionado
B2: VOCÊ ESTÁ NA PARCELA DE NÚMERO | D2: =_xlfn.SHEET()-6 -> 6 | E2: 1 | F2: =DADOS!J14 -> 0.0833 | G2: =DADOS!J15 -> 0.121 | H2: =DADOS!J16 -> 0.04 | I2: =DADOS!L24 -> 0.0782 | J2: =SUM(F2:I2) -> 0.3225
B3: 1 | F3: =$F$2*E3 -> 0 | G3: =$G$2*E3 -> 0 | H3: =$H$2*E3 -> 0 | I3: =$I$2*E3 -> 0 | J3: =SUM(F3:I3) -> 0
B4: 2 | F4: =$F$2*E4 -> 0 | G4: =$G$2*E4 -> 0 | H4: =$H$2*E4 -> 0 | I4: =$I$2*E4 -> 0 | J4: =SUM(F4:I4) -> 0
B5: 3 | F5: =$F$2*E5 -> 0 | G5: =$G$2*E5 -> 0 | H5: =$H$2*E5 -> 0 | I5: =$I$2*E5 -> 0 | J5: =SUM(F5:I5) -> 0
B6: 4 | F6: =$F$2*E6 -> 0 | G6: =$G$2*E6 -> 0 | H6: =$H$2*E6 -> 0 | I6: =$I$2*E6 -> 0 | J6: =SUM(F6:I6) -> 0
B7: 5 | F7: =$F$2*E7 -> 0 | G7: =$G$2*E7 -> 0 | H7: =$H$2*E7 -> 0 | I7: =$I$2*E7 -> 0 | J7: =SUM(F7:I7) -> 0
B8: 6 | F8: =$F$2*E8 -> 0 | G8: =$G$2*E8 -> 0 | H8: =$H$2*E8 -> 0 | I8: =$I$2*E8 -> 0 | J8: =SUM(F8:I8) -> 0
B9: 7 | F9: =$F$2*E9 -> 0 | G9: =$G$2*E9 -> 0 | H9: =$H$2*E9 -> 0 | I9: =$I$2*E9 -> 0 | J9: =SUM(F9:I9) -> 0
B10: 8 | F10: =$F$2*E10 -> 0 | G10: =$G$2*E10 -> 0 | H10: =$H$2*E10 -> 0 | I10: =$I$2*E10 -> 0 | J10: =SUM(F10:I10) -> 0
B11: 9 | F11: =$F$2*E11 -> 0 | G11: =$G$2*E11 -> 0 | H11: =$H$2*E11 -> 0 | I11: =$I$2*E11 -> 0 | J11: =SUM(F11:I11) -> 0
B12: 10 | F12: =$F$2*E12 -> 0 | G12: =$G$2*E12 -> 0 | H12: =$H$2*E12 -> 0 | I12: =$I$2*E12 -> 0 | J12: =SUM(F12:I12) -> 0
B13: 11 | F13: =$F$2*E13 -> 0 | G13: =$G$2*E13 -> 0 | H13: =$H$2*E13 -> 0 | I13: =$I$2*E13 -> 0 | J13: =SUM(F13:I13) -> 0
B14: 12 | F14: =$F$2*E14 -> 0 | G14: =$G$2*E14 -> 0 | H14: =$H$2*E14 -> 0 | I14: =$I$2*E14 -> 0 | J14: =SUM(F14:I14) -> 0
... B37: 35 | F37: =$F$2*E37 -> 0 | G37: =$G$2*E37 -> 0 | H37: =$H$2*E37 -> 0 | I37: =$I$2*E37 -> 0 | J37: =SUM(F37:I37) -> 0
B38: TOTAIS | E38: =SUM(E3:E37) -> 0 | F38: =SUM(F3:F37) -> 0 | G38: =SUM(G3:G37) -> 0 | H38: =SUM(H3:H37) -> 0 | I38: =SUM(I3:I37) -> 0 | J38: =SUM(J3:J37) -> 0
B44: TOTAL ACUMULADO
B45: Ref. | C45: Nome do Funcionário | D45: Cargo | E45: Remuneração acumulada (Salário base + adicionais ) | F45: 13º salário | G45: Férias e terço constitucional | H45: Multa s/ FGTS e Cont.Social sobre aviso previo indenizado e trabalhado | I45: Submodulo 2.2 sobre férias , um terço constitucional e 13° | J45: Total a ser provisionado | K45: Total liberado por funcionário | L45: Total provisionado por funcionário
E46: 1 | F46: =F2 -> 0.0833 | G46: =G2 -> 0.121 | H46: =H2 -> 0.04 | I46: =I2 -> 0.0782 | J46: =SUM(F46:I46) -> 0.3225
B47: 1 | E47: ='PARCELA 1'!E3+'PARCELA 2'!E3+'PARCELA 3'!E3+'PARCELA 4'!E3+'PARCELA 5'!E3+'PARCELA 6'!E3 -> 0 | F47: =$F$46*E47 -> 0 | G47: =$G$46*E47 -> 0 | H47: =$H$46*E47 -> 0 | I47: =$I$46*E47 -> 0 | J47: =SUM(F47:I47) -> 0 | L47: =J47-K47-'PARCELA 2'!K47-'PARCELA 3'!K47-'PARCELA 4'!K47-'PARCELA 5'!K47 -> 0
B48: 2 | E48: ='PARCELA 1'!E4+'PARCELA 2'!E4+'PARCELA 3'!E4+'PARCELA 4'!E4+'PARCELA 5'!E4+'PARCELA 6'!E4 -> 0 | F48: =$F$2*E48 -> 0 | G48: =$G$2*E48 -> 0 | H48: =$H$2*E48 -> 0 | I48: =$I$2*E48 -> 0 | J48: =SUM(F48:I48) -> 0 | L48: =J48-K48-'PARCELA 2'!K48-'PARCELA 3'!K48-'PARCELA 4'!K48-'PARCELA 5'!K48 -> 0
B49: 3 | E49: ='PARCELA 1'!E5+'PARCELA 2'!E5+'PARCELA 3'!E5+'PARCELA 4'!E5+'PARCELA 5'!E5+'PARCELA 6'!E5 -> 0 | F49: =$F$2*E49 -> 0 | G49: =$G$2*E49 -> 0 | H49: =$H$2*E49 -> 0 | I49: =$I$2*E49 -> 0 | J49: =SUM(F49:I49) -> 0 | L49: =J49-K49-'PARCELA 2'!K49-'PARCELA 3'!K49-'PARCELA 4'!K49-'PARCELA 5'!K49 -> 0
B50: 4 | E50: ='PARCELA 1'!E6+'PARCELA 2'!E6+'PARCELA 3'!E6+'PARCELA 4'!E6+'PARCELA 5'!E6+'PARCELA 6'!E6 -> 0 | F50: =$F$2*E50 -> 0 | G50: =$G$2*E50 -> 0 | H50: =$H$2*E50 -> 0 | I50: =$I$2*E50 -> 0 | J50: =SUM(F50:I50) -> 0 | L50: =J50-K50-'PARCELA 2'!K50-'PARCELA 3'!K50-'PARCELA 4'!K50-'PARCELA 5'!K50 -> 0
B51: 5 | E51: ='PARCELA 1'!E7+'PARCELA 2'!E7+'PARCELA 3'!E7+'PARCELA 4'!E7+'PARCELA 5'!E7+'PARCELA 6'!E7 -> 0 | F51: =$F$2*E51 -> 0 | G51: =$G$2*E51 -> 0 | H51: =$H$2*E51 -> 0 | I51: =$I$2*E51 -> 0 | J51: =SUM(F51:I51) -> 0 | L51: =J51-K51-'PARCELA 2'!K51-'PARCELA 3'!K51-'PARCELA 4'!K51-'PARCELA 5'!K51 -> 0
B52: 6 | E52: ='PARCELA 1'!E8+'PARCELA 2'!E8+'PARCELA 3'!E8+'PARCELA 4'!E8+'PARCELA 5'!E8+'PARCELA 6'!E8 -> 0 | F52: =$F$2*E52 -> 0 | G52: =$G$2*E52 -> 0 | H52: =$H$2*E52 -> 0 | I52: =$I$2*E52 -> 0 | J52: =SUM(F52:I52) -> 0 | L52: =J52-K52-'PARCELA 2'!K52-'PARCELA 3'!K52-'PARCELA 4'!K52-'PARCELA 5'!K52 -> 0
B53: 7 | E53: ='PARCELA 1'!E9+'PARCELA 2'!E9+'PARCELA 3'!E9+'PARCELA 4'!E9+'PARCELA 5'!E9+'PARCELA 6'!E9 -> 0 | F53: =$F$2*E53 -> 0 | G53: =$G$2*E53 -> 0 | H53: =$H$2*E53 -> 0 | I53: =$I$2*E53 -> 0 | J53: =SUM(F53:I53) -> 0 | L53: =J53-K53-'PARCELA 2'!K53-'PARCELA 3'!K53-'PARCELA 4'!K53-'PARCELA 5'!K53 -> 0
B54: 8 | E54: ='PARCELA 1'!E10+'PARCELA 2'!E10+'PARCELA 3'!E10+'PARCELA 4'!E10+'PARCELA 5'!E10+'PARCELA 6'!E10 -> 0 | F54: =$F$2*E54 -> 0 | G54: =$G$2*E54 -> 0 | H54: =$H$2*E54 -> 0 | I54: =$I$2*E54 -> 0 | J54: =SUM(F54:I54) -> 0 | L54: =J54-K54-'PARCELA 2'!K54-'PARCELA 3'!K54-'PARCELA 4'!K54-'PARCELA 5'!K54 -> 0
B55: 9 | E55: ='PARCELA 1'!E11+'PARCELA 2'!E11+'PARCELA 3'!E11+'PARCELA 4'!E11+'PARCELA 5'!E11+'PARCELA 6'!E11 -> 0 | F55: =$F$2*E55 -> 0 | G55: =$G$2*E55 -> 0 | H55: =$H$2*E55 -> 0 | I55: =$I$2*E55 -> 0 | J55: =SUM(F55:I55) -> 0 | L55: =J55-K55-'PARCELA 2'!K55-'PARCELA 3'!K55-'PARCELA 4'!K55-'PARCELA 5'!K55 -> 0
B56: 10 | E56: ='PARCELA 1'!E12+'PARCELA 2'!E12+'PARCELA 3'!E12+'PARCELA 4'!E12+'PARCELA 5'!E12+'PARCELA 6'!E12 -> 0 | F56: =$F$2*E56 -> 0 | G56: =$G$2*E56 -> 0 | H56: =$H$2*E56 -> 0 | I56: =$I$2*E56 -> 0 | J56: =SUM(F56:I56) -> 0 | L56: =J56-K56-'PARCELA 2'!K56-'PARCELA 3'!K56-'PARCELA 4'!K56-'PARCELA 5'!K56 -> 0
B57: 11 | E57: ='PARCELA 1'!E13+'PARCELA 2'!E13+'PARCELA 3'!E13+'PARCELA 4'!E13+'PARCELA 5'!E13+'PARCELA 6'!E13 -> 0 | F57: =$F$2*E57 -> 0 | G57: =$G$2*E57 -> 0 | H57: =$H$2*E57 -> 0 | I57: =$I$2*E57 -> 0 | J57: =SUM(F57:I57) -> 0 | L57: =J57-K57-'PARCELA 2'!K57-'PARCELA 3'!K57-'PARCELA 4'!K57-'PARCELA 5'!K57 -> 0
B58: 12 | E58: ='PARCELA 1'!E14+'PARCELA 2'!E14+'PARCELA 3'!E14+'PARCELA 4'!E14+'PARCELA 5'!E14+'PARCELA 6'!E14 -> 0 | F58: =$F$2*E58 -> 0 | G58: =$G$2*E58 -> 0 | H58: =$H$2*E58 -> 0 | I58: =$I$2*E58 -> 0 | J58: =SUM(F58:I58) -> 0 | L58: =J58-K58-'PARCELA 2'!K58-'PARCELA 3'!K58-'PARCELA 4'!K58-'PARCELA 5'!K58 -> 0
B59: 13 | E59: ='PARCELA 1'!E15+'PARCELA 2'!E15+'PARCELA 3'!E15+'PARCELA 4'!E15+'PARCELA 5'!E15+'PARCELA 6'!E15 -> 0 | F59: =$F$2*E59 -> 0 | G59: =$G$2*E59 -> 0 | H59: =$H$2*E59 -> 0 | I59: =$I$2*E59 -> 0 | J59: =SUM(F59:I59) -> 0 | L59: =J59-K59-'PARCELA 2'!K59-'PARCELA 3'!K59-'PARCELA 4'!K59-'PARCELA 5'!K59 -> 0
... B81: 35 | E81: ='PARCELA 1'!E37+'PARCELA 2'!E37+'PARCELA 3'!E37+'PARCELA 4'!E37+'PARCELA 5'!E37+'PARCELA 6'!E37 -> 0 | F81: =$F$2*E81 -> 0 | G81: =$G$2*E81 -> 0 | H81: =$H$2*E81 -> 0 | I81: =$I$2*E81 -> 0 | J81: =SUM(F81:I81) -> 0 | L81: =J81-K81-'PARCELA 2'!K81-'PARCELA 3'!K81-'PARCELA 4'!K81-'PARCELA 5'!K81 -> 0
B82: Subtotais | E82: =SUM(E47:E81) -> 0 | F82: =SUM(F47:F81) -> 0 | G82: =SUM(G47:G81) -> 0 | H82: =SUM(H47:H81) -> 0 | I82: =SUM(I47:I81) -> 0 | J82: =SUM(J47:J81) -> 0 | K82: =SUM(K47:K81) -> 0 | L82: =SUM(L47:L81) -> 0
B83: Arredondamentos
B84: Total

Sheet PARCELA 7
B1: Ordem | C1: Nome do Empregado | D1: Cargo | E1: Remuneração (Salário base + adicionais ) | F1: 13º salário | G1: Férias e terço constitucional | H1: Multa s/ FGTS e Cont.Social sobre aviso previo indenizado e trabalhado | I1: Submodulo 2.2 sobre férias , um terço constitucional e 13 ° Considerando RAT = 1,00 %, 2,00 % ou 3,00 % | J1: Total a ser provisionado
B2: VOCÊ ESTÁ NA PARCELA DE NÚMERO | D2: =_xlfn.SHEET()-6 -> 7 | E2: 1 | F2: =DADOS!J14 -> 0.0833 | G2: =DADOS!J15 -> 0.121 | H2: =DADOS!J16 -> 0.04 | I2: =DADOS!L24 -> 0.0782 | J2: =SUM(F2:I2) -> 0.3225
B3: 1 | F3: =$F$2*E3 -> 0 | G3: =$G$2*E3 -> 0 | H3: =$H$2*E3 -> 0 | I3: =$I$2*E3 -> 0 | J3: =SUM(F3:I3) -> 0
B4: 2 | F4: =$F$2*E4 -> 0 | G4: =$G$2*E4 -> 0 | H4: =$H$2*E4 -> 0 | I4: =$I$2*E4 -> 0 | J4: =SUM(F4:I4) -> 0
B5: 3 | F5: =$F$2*E5 -> 0 | G5: =$G$2*E5 -> 0 | H5: =$H$2*E5 -> 0 | I5: =$I$2*E5 -> 0 | J5: =SUM(F5:I5) -> 0
B6: 4 | F6: =$F$2*E6 -> 0 | G6: =$G$2*E6 -> 0 | H6: =$H$2*E6 -> 0 | I6: =$I$2*E6 -> 0 | J6: =SUM(F6:I6) -> 0
B7: 5 | F7: =$F$2*E7 -> 0 | G7: =$G$2*E7 -> 0 | H7: =$H$2*E7 -> 0 | I7: =$I$2*E7 -> 0 | J7: =SUM(F7:I7) -> 0
B8: 6 | F8: =$F$2*E8 -> 0 | G8: =$G$2*E8 -> 0 | H8: =$H$2*E8 -> 0 | I8: =$I$2*E8 -> 0 | J8: =SUM(F8:I8) -> 0
B9: 7 | F9: =$F$2*E9 -> 0 | G9: =$G$2*E9 -> 0 | H9: =$H$2*E9 -> 0 | I9: =$I$2*E9 -> 0 | J9: =SUM(F9:I9) -> 0
B10: 8 | F10: =$F$2*E10 -> 0 | G10: =$G$2*E10 -> 0 | H10: =$H$2*E10 -> 0 | I10: =$I$2*E10 -> 0 | J10: =SUM(F10:I10) -> 0
B11: 9 | F11: =$F$2*E11 -> 0 | G11: =$G$2*E11 -> 0 | H11: =$H$2*E11 -> 0 | I11: =$I$2*E11 -> 0 | J11: =SUM(F11:I11) -> 0
B12: 10 | F12: =$F$2*E12 -> 0 | G12: =$G$2*E12 -> 0 | H12: =$H$2*E12 -> 0 | I12: =$I$2*E12 -> 0 | J12: =SUM(F12:I12) -> 0
B13: 11 | F13: =$F$2*E13 -> 0 | G13: =$G$2*E13 -> 0 | H13: =$H$2*E13 -> 0 | I13: =$I$2*E13 -> 0 | J13: =SUM(F13:I13) -> 0
B14: 12 | F14: =$F$2*E14 -> 0 | G14: =$G$2*E14 -> 0 | H14: =$H$2*E14 -> 0 | I14: =$I$2*E14 -> 0 | J14: =SUM(F14:I14) -> 0
... B37: 35 | F37: =$F$2*E37 -> 0 | G37: =$G$2*E37 -> 0 | H37: =$H$2*E37 -> 0 | I37: =$I$2*E37 -> 0 | J37: =SUM(F37:I37) -> 0
B38: TOTAIS | E38: =SUM(E3:E37) -> 0 | F38: =SUM(F3:F37) -> 0 | G38: =SUM(G3:G37) -> 0 | H38: =SUM(H3:H37) -> 0 | I38: =SUM(I3:I37) -> 0 | J38: =SUM(J3:J37) -> 0
B44: TOTAL ACUMULADO
B45: Ref. | C45: Nome do Funcionário | D45: Cargo | E45: Remuneração acumulada (Salário base + adicionais ) | F45: 13º salário | G45: Férias e terço constitucional | H45: Multa s/ FGTS e Cont.Social sobre aviso previo indenizado e trabalhado | I45: Submodulo 2.2 sobre férias , um terço constitucional e 13° | J45: Total a ser provisionado | K45: Total liberado por funcionário | L45: Total provisionado por funcionário
E46: 1 | F46: =F2 -> 0.0833 | G46: =G2 -> 0.121 | H46: =H2 -> 0.04 | I46: =I2 -> 0.0782 | J46: =SUM(F46:I46) -> 0.3225
B47: 1 | E47: ='PARCELA 1'!E3+'PARCELA 2'!E3+'PARCELA 3'!E3+'PARCELA 4'!E3+'PARCELA 5'!E3+'PARCELA 6'!E3+'PARCELA 7'!E3 -> 0 | F47: =$F$46*E47 -> 0 | G47: =$G$46*E47 -> 0 | H47: =$H$46*E47 -> 0 | I47: =$I$46*E47 -> 0 | J47: =SUM(F47:I47) -> 0 | L47: =J47-K47-'PARCELA 2'!K47-'PARCELA 3'!K47-'PARCELA 4'!K47-'PARCELA 5'!K47-'PARCELA 6'!K47 -> 0
B48: 2 | E48: ='PARCELA 1'!E4+'PARCELA 2'!E4+'PARCELA 3'!E4+'PARCELA 4'!E4+'PARCELA 5'!E4+'PARCELA 6'!E4+'PARCELA 7'!E4 -> 0 | F48: =$F$2*E48 -> 0 | G48: =$G$2*E48 -> 0 | H48: =$H$2*E48 -> 0 | I48: =$I$2*E48 -> 0 | J48: =SUM(F48:I48) -> 0 | L48: =J48-K48-'PARCELA 2'!K48-'PARCELA 3'!K48-'PARCELA 4'!K48-'PARCELA 5'!K48-'PARCELA 6'!K48 -> 0
B49: 3 | E49: ='PARCELA 1'!E5+'PARCELA 2'!E5+'PARCELA 3'!E5+'PARCELA 4'!E5+'PARCELA 5'!E5+'PARCELA 6'!E5+'PARCELA 7'!E5 -> 0 | F49: =$F$2*E49 -> 0 | G49: =$G$2*E49 -> 0 | H49: =$H$2*E49 -> 0 | I49: =$I$2*E49 -> 0 | J49: =SUM(F49:I49) -> 0 | L49: =J49-K49-'PARCELA 2'!K49-'PARCELA 3'!K49-'PARCELA 4'!K49-'PARCELA 5'!K49-'PARCELA 6'!K49 -> 0
B50: 4 | E50: ='PARCELA 1'!E6+'PARCELA 2'!E6+'PARCELA 3'!E6+'PARCELA 4'!E6+'PARCELA 5'!E6+'PARCELA 6'!E6+'PARCELA 7'!E6 -> 0 | F50: =$F$2*E50 -> 0 | G50: =$G$2*E50 -> 0 | H50: =$H$2*E50 -> 0 | I50: =$I$2*E50 -> 0 | J50: =SUM(F50:I50) -> 0 | L50: =J50-K50-'PARCELA 2'!K50-'PARCELA 3'!K50-'PARCELA 4'!K50-'PARCELA 5'!K50-'PARCELA 6'!K50 -> 0
B51: 5 | E51: ='PARCELA 1'!E7+'PARCELA 2'!E7+'PARCELA 3'!E7+'PARCELA 4'!E7+'PARCELA 5'!E7+'PARCELA 6'!E7+'PARCELA 7'!E7 -> 0 | F51: =$F$2*E51 -> 0 | G51: =$G$2*E51 -> 0 | H51: =$H$2*E51 -> 0 | I51: =$I$2*E51 -> 0 | J51: =SUM(F51:I51) -> 0 | L51: =J51-K51-'PARCELA 2'!K51-'PARCELA 3'!K51-'PARCELA 4'!K51-'PARCELA 5'!K51-'PARCELA 6'!K51 -> 0
B52: 6 | E52: ='PARCELA 1'!E8+'PARCELA 2'!E8+'PARCELA 3'!E8+'PARCELA 4'!E8+'PARCELA 5'!E8+'PARCELA 6'!E8+'PARCELA 7'!E8 -> 0 | F52: =$F$2*E52 -> 0 | G52: =$G$2*E52 -> 0 | H52: =$H$2*E52 -> 0 | I52: =$I$2*E52 -> 0 | J52: =SUM(F52:I52) -> 0 | L52: =J52-K52-'PARCELA 2'!K52-'PARCELA 3'!K52-'PARCELA 4'!K52-'PARCELA 5'!K52-'PARCELA 6'!K52 -> 0
B53: 7 | E53: ='PARCELA 1'!E9+'PARCELA 2'!E9+'PARCELA 3'!E9+'PARCELA 4'!E9+'PARCELA 5'!E9+'PARCELA 6'!E9+'PARCELA 7'!E9 -> 0 | F53: =$F$2*E53 -> 0 | G53: =$G$2*E53 -> 0 | H53: =$H$2*E53 -> 0 | I53: =$I$2*E53 -> 0 | J53: =SUM(F53:I53) -> 0 | L53: =J53-K53-'PARCELA 2'!K53-'PARCELA 3'!K53-'PARCELA 4'!K53-'PARCELA 5'!K53-'PARCELA 6'!K53 -> 0
B54: 8 | E54: ='PARCELA 1'!E10+'PARCELA 2'!E10+'PARCELA 3'!E10+'PARCELA 4'!E10+'PARCELA 5'!E10+'PARCELA 6'!E10+'PARCELA 7'!E10 -> 0 | F54: =$F$2*E54 -> 0 | G54: =$G$2*E54 -> 0 | H54: =$H$2*E54 -> 0 | I54: =$I$2*E54 -> 0 | J54: =SUM(F54:I54) -> 0 | L54: =J54-K54-'PARCELA 2'!K54-'PARCELA 3'!K54-'PARCELA 4'!K54-'PARCELA 5'!K54-'PARCELA 6'!K54 -> 0
B55: 9 | E55: ='PARCELA 1'!E11+'PARCELA 2'!E11+'PARCELA 3'!E11+'PARCELA 4'!E11+'PARCELA 5'!E11+'PARCELA 6'!E11+'PARCELA 7'!E11 -> 0 | F55: =$F$2*E55 -> 0 | G55: =$G$2*E55 -> 0 | H55: =$H$2*E55 -> 0 | I55: =$I$2*E55 -> 0 | J55: =SUM(F55:I55) -> 0 | L55: =J55-K55-'PARCELA 2'!K55-'PARCELA 3'!K55-'PARCELA 4'!K55-'PARCELA 5'!K55-'PARCELA 6'!K55 -> 0
B56: 10 | E56: ='PARCELA 1'!E12+'PARCELA 2'!E12+'PARCELA 3'!E12+'PARCELA 4'!E12+'PARCELA 5'!E12+'PARCELA 6'!E12+'PARCELA 7'!E12 -> 0 | F56: =$F$2*E56 -> 0 | G56: =$G$2*E56 -> 0 | H56: =$H$2*E56 -> 0 | I56: =$I$2*E56 -> 0 | J56: =SUM(F56:I56) -> 0 | L56: =J56-K56-'PARCELA 2'!K56-'PARCELA 3'!K56-'PARCELA 4'!K56-'PARCELA 5'!K56-'PARCELA 6'!K56 -> 0
B57: 11 | E57: ='PARCELA 1'!E13+'PARCELA 2'!E13+'PARCELA 3'!E13+'PARCELA 4'!E13+'PARCELA 5'!E13+'PARCELA 6'!E13+'PARCELA 7'!E13 -> 0 | F57: =$F$2*E57 -> 0 | G57: =$G$2*E57 -> 0 | H57: =$H$2*E57 -> 0 | I57: =$I$2*E57 -> 0 | J57: =SUM(F57:I57) -> 0 | L57: =J57-K57-'PARCELA 2'!K57-'PARCELA 3'!K57-'PARCELA 4'!K57-'PARCELA 5'!K57-'PARCELA 6'!K57 -> 0
B58: 12 | E58: ='PARCELA 1'!E14+'PARCELA 2'!E14+'PARCELA 3'!E14+'PARCELA 4'!E14+'PARCELA 5'!E14+'PARCELA 6'!E14+'PARCELA 7'!E14 -> 0 | F58: =$F$2*E58 -> 0 | G58: =$G$2*E58 -> 0 | H58: =$H$2*E58 -> 0 | I58: =$I$2*E58 -> 0 | J58: =SUM(F58:I58) -> 0 | L58: =J58-K58-'PARCELA 2'!K58-'PARCELA 3'!K58-'PARCELA 4'!K58-'PARCELA 5'!K58-'PARCELA 6'!K58 -> 0
B59: 13 | E59: ='PARCELA 1'!E15+'PARCELA 2'!E15+'PARCELA 3'!E15+'PARCELA 4'!E15+'PARCELA 5'!E15+'PARCELA 6'!E15+'PARCELA 7'!E15 -> 0 | F59: =$F$2*E59 -> 0 | G59: =$G$2*E59 -> 0 | H59: =$H$2*E59 -> 0 | I59: =$I$2*E59 -> 0 | J59: =SUM(F59:I59) -> 0 | L59: =J59-K59-'PARCELA 2'!K59-'PARCELA 3'!K59-'PARCELA 4'!K59-'PARCELA 5'!K59-'PARCELA 6'!K59 -> 0
... B81: 35 | E81: ='PARCELA 1'!E37+'PARCELA 2'!E37+'PARCELA 3'!E37+'PARCELA 4'!E37+'PARCELA 5'!E37+'PARCELA 6'!E37+'PARCELA 7'!E37 -> 0 | F81: =$F$2*E81 -> 0 | G81: =$G$2*E81 -> 0 | H81: =$H$2*E81 -> 0 | I81: =$I$2*E81 -> 0 | J81: =SUM(F81:I81) -> 0 | L81: =J81-K81-'PARCELA 2'!K81-'PARCELA 3'!K81-'PARCELA 4'!K81-'PARCELA 5'!K81-'PARCELA 6'!K81 -> 0
B82: Subtotais | E82: =SUM(E47:E81) -> 0 | F82: =SUM(F47:F81) -> 0 | G82: =SUM(G47:G81) -> 0 | H82: =SUM(H47:H81) -> 0 | I82: =SUM(I47:I81) -> 0 | J82: =SUM(J47:J81) -> 0 | K82: =SUM(K47:K81) -> 0 | L82: =SUM(L47:L81) -> 0
B83: Arredondamentos
B84: Total

Sheet PARCELA 8
B1: Ordem | C1: Nome do Empregado | D1: Cargo | E1: Remuneração (Salário base + adicionais ) | F1: 13º salário | G1: Férias e terço constitucional | H1: Multa s/ FGTS e Cont.Social sobre aviso previo indenizado e trabalhado | I1: Submodulo 2.2 sobre férias , um terço constitucional e 13 ° Considerando RAT = 1,00 %, 2,00 % ou 3,00 % | J1: Total a ser provisionado
B2: VOCÊ ESTÁ NA PARCELA DE NÚMERO | D2: =_xlfn.SHEET()-6 -> 8 | E2: 1 | F2: =DADOS!J14 -> 0.0833 | G2: =DADOS!J15 -> 0.121 | H2: =DADOS!J16 -> 0.04 | I2: =DADOS!L24 -> 0.0782 | J2: =SUM(F2:I2) -> 0.3225
B3: 1 | F3: =$F$2*E3 -> 0 | G3: =$G$2*E3 -> 0 | H3: =$H$2*E3 -> 0 | I3: =$I$2*E3 -> 0 | J3: =SUM(F3:I3) -> 0
B4: 2 | F4: =$F$2*E4 -> 0 | G4: =$G$2*E4 -> 0 | H4: =$H$2*E4 -> 0 | I4: =$I$2*E4 -> 0 | J4: =SUM(F4:I4) -> 0
B5: 3 | F5: =$F$2*E5 -> 0 | G5: =$G$2*E5 -> 0 | H5: =$H$2*E5 -> 0 | I5: =$I$2*E5 -> 0 | J5: =SUM(F5:I5) -> 0
B6: 4 | F6: =$F$2*E6 -> 0 | G6: =$G$2*E6 -> 0 | H6: =$H$2*E6 -> 0 | I6: =$I$2*E6 -> 0 | J6: =SUM(F6:I6) -> 0
B7: 5 | F7: =$F$2*E7 -> 0 | G7: =$G$2*E7 -> 0 | H7: =$H$2*E7 -> 0 | I7: =$I$2*E7 -> 0 | J7: =SUM(F7:I7) -> 0
B8: 6 | F8: =$F$2*E8 -> 0 | G8: =$G$2*E8 -> 0 | H8: =$H$2*E8 -> 0 | I8: =$I$2*E8 -> 0 | J8: =SUM(F8:I8) -> 0
B9: 7 | F9: =$F$2*E9 -> 0 | G9: =$G$2*E9 -> 0 | H9: =$H$2*E9 -> 0 | I9: =$I$2*E9 -> 0 | J9: =SUM(F9:I9) -> 0
B10: 8 | F10: =$F$2*E10 -> 0 | G10: =$G$2*E10 -> 0 | H10: =$H$2*E10 -> 0 | I10: =$I$2*E10 -> 0 | J10: =SUM(F10:I10) -> 0
B11: 9 | F11: =$F$2*E11 -> 0 | G11: =$G$2*E11 -> 0 | H11: =$H$2*E11 -> 0 | I11: =$I$2*E11 -> 0 | J11: =SUM(F11:I11) -> 0
B12: 10 | F12: =$F$2*E12 -> 0 | G12: =$G$2*E12 -> 0 | H12: =$H$2*E12 -> 0 | I12: =$I$2*E12 -> 0 | J12: =SUM(F12:I12) -> 0
B13: 11 | F13: =$F$2*E13 -> 0 | G13: =$G$2*E13 -> 0 | H13: =$H$2*E13 -> 0 | I13: =$I$2*E13 -> 0 | J13: =SUM(F13:I13) -> 0
B14: 12 | F14: =$F$2*E14 -> 0 | G14: =$G$2*E14 -> 0 | H14: =$H$2*E14 -> 0 | I14: =$I$2*E14 -> 0 | J14: =SUM(F14:I14) -> 0
... B37: 35 | F37: =$F$2*E37 -> 0 | G37: =$G$2*E37 -> 0 | H37: =$H$2*E37 -> 0 | I37: =$I$2*E37 -> 0 | J37: =SUM(F37:I37) -> 0
B38: TOTAIS | E38: =SUM(E3:E37) -> 0 | F38: =SUM(F3:F37) -> 0 | G38: =SUM(G3:G37) -> 0 | H38: =SUM(H3:H37) -> 0 | I38: =SUM(I3:I37) -> 0 | J38: =SUM(J3:J37) -> 0
B44: TOTAL ACUMULADO
B45: Ref. | C45: Nome do Funcionário | D45: Cargo | E45: Remuneração acumulada (Salário base + adicionais ) | F45: 13º salário | G45: Férias e terço constitucional | H45: Multa s/ FGTS e Cont.Social sobre aviso previo indenizado e trabalhado | I45: Submodulo 2.2 sobre férias , um terço constitucional e 13° | J45: Total a ser provisionado | K45: Total liberado por funcionário | L45: Total provisionado por funcionário
E46: 1 | F46: =F2 -> 0.0833 | G46: =G2 -> 0.121 | H46: =H2 -> 0.04 | I46: =I2 -> 0.0782 | J46: =SUM(F46:I46) -> 0.3225
B47: 1 | E47: ='PARCELA 1'!E3+'PARCELA 2'!E3+'PARCELA 3'!E3+'PARCELA 4'!E3+'PARCELA 5'!E3+'PARCELA 6'!E3+'PARCELA 7'!E3+'PARCELA 8'!E3 -> 0 | F47: =$F$46*E47 -> 0 | G47: =$G$46*E47 -> 0 | H47: =$H$46*E47 -> 0 | I47: =$I$46*E47 -> 0 | J47: =SUM(F47:I47) -> 0 | L47: =J47-K47-'PARCELA 2'!K47-'PARCELA 3'!K47-'PARCELA 4'!K47-'PARCELA 5'!K47-'PARCELA 6'!K47-'PARCELA 7'!K47 -> 0
B48: 2 | E48: ='PARCELA 1'!E4+'PARCELA 2'!E4+'PARCELA 3'!E4+'PARCELA 4'!E4+'PARCELA 5'!E4+'PARCELA 6'!E4+'PARCELA 7'!E4+'PARCELA 8'!E4 -> 0 | F48: =$F$2*E48 -> 0 | G48: =$G$2*E48 -> 0 | H48: =$H$2*E48 -> 0 | I48: =$I$2*E48 -> 0 | J48: =SUM(F48:I48) -> 0 | L48: =J48-K48-'PARCELA 2'!K48-'PARCELA 3'!K48-'PARCELA 4'!K48-'PARCELA 5'!K48-'PARCELA 6'!K48-'PARCELA 7'!K48 -> 0
B49: 3 | E49: ='PARCELA 1'!E5+'PARCELA 2'!E5+'PARCELA 3'!E5+'PARCELA 4'!E5+'PARCELA 5'!E5+'PARCELA 6'!E5+'PARCELA 7'!E5+'PARCELA 8'!E5 -> 0 | F49: =$F$2*E49 -> 0 | G49: =$G$2*E49 -> 0 | H49: =$H$2*E49 -> 0 | I49: =$I$2*E49 -> 0 | J49: =SUM(F49:I49) -> 0 | L49: =J49-K49-'PARCELA 2'!K49-'PARCELA 3'!K49-'PARCELA 4'!K49-'PARCELA 5'!K49-'PARCELA 6'!K49-'PARCELA 7'!K49 -> 0
B50: 4 | E50: ='PARCELA 1'!E6+'PARCELA 2'!E6+'PARCELA 3'!E6+'PARCELA 4'!E6+'PARCELA 5'!E6+'PARCELA 6'!E6+'PARCELA 7'!E6+'PARCELA 8'!E6 -> 0 | F50: =$F$2*E50 -> 0 | G50: =$G$2*E50 -> 0 | H50: =$H$2*E50 -> 0 | I50: =$I$2*E50 -> 0 | J50: =SUM(F50:I50) -> 0 | L50: =J50-K50-'PARCELA 2'!K50-'PARCELA 3'!K50-'PARCELA 4'!K50-'PARCELA 5'!K50-'PARCELA 6'!K50-'PARCELA 7'!K50 -> 0
B51: 5 | E51: ='PARCELA 1'!E7+'PARCELA 2'!E7+'PARCELA 3'!E7+'PARCELA 4'!E7+'PARCELA 5'!E7+'PARCELA 6'!E7+'PARCELA 7'!E7+'PARCELA 8'!E7 -> 0 | F51: =$F$2*E51 -> 0 | G51: =$G$2*E51 -> 0 | H51: =$H$2*E51 -> 0 | I51: =$I$2*E51 -> 0 | J51: =SUM(F51:I51) -> 0 | L51: =J51-K51-'PARCELA 2'!K51-'PARCELA 3'!K51-'PARCELA 4'!K51-'PARCELA 5'!K51-'PARCELA 6'!K51-'PARCELA 7'!K51 -> 0
B52: 6 | E52: ='PARCELA 1'!E8+'PARCELA 2'!E8+'PARCELA 3'!E8+'PARCELA 4'!E8+'PARCELA 5'!E8+'PARCELA 6'!E8+'PARCELA 7'!E8+'PARCELA 8'!E8 -> 0 | F52: =$F$2*E52 -> 0 | G52: =$G$2*E52 -> 0 | H52: =$H$2*E52 -> 0 | I52: =$I$2*E52 -> 0 | J52: =SUM(F52:I52) -> 0 | L52: =J52-K52-'PARCELA 2'!K52-'PARCELA 3'!K52-'PARCELA 4'!K52-'PARCELA 5'!K52-'PARCELA 6'!K52-'PARCELA 7'!K52 -> 0
B53: 7 | E53: ='PARCELA 1'!E9+'PARCELA 2'!E9+'PARCELA 3'!E9+'PARCELA 4'!E9+'PARCELA 5'!E9+'PARCELA 6'!E9+'PARCELA 7'!E9+'PARCELA 8'!E9 -> 0 | F53: =$F$2*E53 -> 0 | G53: =$G$2*E53 -> 0 | H53: =$H$2*E53 -> 0 | I53: =$I$2*E53 -> 0 | J53: =SUM(F53:I53) -> 0 | L53: =J53-K53-'PARCELA 2'!K53-'PARCELA 3'!K53-'PARCELA 4'!K53-'PARCELA 5'!K53-'PARCELA 6'!K53-'PARCELA 7'!K53 -> 0
B54: 8 | E54: ='PARCELA 1'!E10+'PARCELA 2'!E10+'PARCELA 3'!E10+'PARCELA 4'!E10+'PARCELA 5'!E10+'PARCELA 6'!E10+'PARCELA 7'!E10+'PARCELA 8'!E10 -> 0 | F54: =$F$2*E54 -> 0 | G54: =$G$2*E54 -> 0 | H54: =$H$2*E54 -> 0 | I54: =$I$2*E54 -> 0 | J54: =SUM(F54:I54) -> 0 | L54: =J54-K54-'PARCELA 2'!K54-'PARCELA 3'!K54-'PARCELA 4'!K54-'PARCELA 5'!K54-'PARCELA 6'!K54-'PARCELA 7'!K54 -> 0
B55: 9 | E55: ='PARCELA 1'!E11+'PARCELA 2'!E11+'PARCELA 3'!E11+'PARCELA 4'!E11+'PARCELA 5'!E11+'PARCELA 6'!E11+'PARCELA 7'!E11+'PARCELA 8'!E11 -> 0 | F55: =$F$2*E55 -> 0 | G55: =$G$2*E55 -> 0 | H55: =$H$2*E55 -> 0 | I55: =$I$2*E55 -> 0 | J55: =SUM(F55:I55) -> 0 | L55: =J55-K55-'PARCELA 2'!K55-'PARCELA 3'!K55-'PARCELA 4'!K55-'PARCELA 5'!K55-'PARCELA 6'!K55-'PARCELA 7'!K55 -> 0
B56: 10 | E56: ='PARCELA 1'!E12+'PARCELA 2'!E12+'PARCELA 3'!E12+'PARCELA 4'!E12+'PARCELA 5'!E12+'PARCELA 6'!E12+'PARCELA 7'!E12+'PARCELA 8'!E12 -> 0 | F56: =$F$2*E56 -> 0 | G56: =$G$2*E56 -> 0 | H56: =$H$2*E56 -> 0 | I56: =$I$2*E56 -> 0 | J56: =SUM(F56:I56) -> 0 | L56: =J56-K56-'PARCELA 2'!K56-'PARCELA 3'!K56-'PARCELA 4'!K56-'PARCELA 5'!K56-'PARCELA 6'!K56-'PARCELA 7'!K56 -> 0
B57: 11 | E57: ='PARCELA 1'!E13+'PARCELA 2'!E13+'PARCELA 3'!E13+'PARCELA 4'!E13+'PARCELA 5'!E13+'PARCELA 6'!E13+'PARCELA 7'!E13+'PARCELA 8'!E13 -> 0 | F57: =$F$2*E57 -> 0 | G57: =$G$2*E57 -> 0 | H57: =$H$2*E57 -> 0 | I57: =$I$2*E57 -> 0 | J57: =SUM(F57:I57) -> 0 | L57: =J57-K57-'PARCELA 2'!K57-'PARCELA 3'!K57-'PARCELA 4'!K57-'PARCELA 5'!K57-'PARCELA 6'!K57-'PARCELA 7'!K57 -> 0
B58: 12 | E58: ='PARCELA 1'!E14+'PARCELA 2'!E14+'PARCELA 3'!E14+'PARCELA 4'!E14+'PARCELA 5'!E14+'PARCELA 6'!E14+'PARCELA 7'!E14+'PARCELA 8'!E14 -> 0 | F58: =$F$2*E58 -> 0 | G58: =$G$2*E58 -> 0 | H58: =$H$2*E58 -> 0 | I58: =$I$2*E58 -> 0 | J58: =SUM(F58:I58) -> 0 | L58: =J58-K58-'PARCELA 2'!K58-'PARCELA 3'!K58-'PARCELA 4'!K58-'PARCELA 5'!K58-'PARCELA 6'!K58-'PARCELA 7'!K58 -> 0
B59: 13 | E59: ='PARCELA 1'!E15+'PARCELA 2'!E15+'PARCELA 3'!E15+'PARCELA 4'!E15+'PARCELA 5'!E15+'PARCELA 6'!E15+'PARCELA 7'!E15+'PARCELA 8'!E15 -> 0 | F59: =$F$2*E59 -> 0 | G59: =$G$2*E59 -> 0 | H59: =$H$2*E59 -> 0 | I59: =$I$2*E59 -> 0 | J59: =SUM(F59:I59) -> 0 | L59: =J59-K59-'PARCELA 2'!K59-'PARCELA 3'!K59-'PARCELA 4'!K59-'PARCELA 5'!K59-'PARCELA 6'!K59-'PARCELA 7'!K59 -> 0
... B81: 35 | E81: ='PARCELA 1'!E37+'PARCELA 2'!E37+'PARCELA 3'!E37+'PARCELA 4'!E37+'PARCELA 5'!E37+'PARCELA 6'!E37+'PARCELA 7'!E37+'PARCELA 8'!E37 -> 0 | F81: =$F$2*E81 -> 0 | G81: =$G$2*E81 -> 0 | H81: =$H$2*E81 -> 0 | I81: =$I$2*E81 -> 0 | J81: =SUM(F81:I81) -> 0 | L81: =J81-K81-'PARCELA 2'!K81-'PARCELA 3'!K81-'PARCELA 4'!K81-'PARCELA 5'!K81-'PARCELA 6'!K81-'PARCELA 7'!K81 -> 0
B82: Subtotais | E82: =SUM(E47:E81) -> 0 | F82: =SUM(F47:F81) -> 0 | G82: =SUM(G47:G81) -> 0 | H82: =SUM(H47:H81) -> 0 | I82: =SUM(I47:I81) -> 0 | J82: =SUM(J47:J81) -> 0 | K82: =SUM(K47:K81) -> 0 | L82: =SUM(L47:L81) -> 0
B83: Arredondamentos
B84: Total

Sheet PARCELA 9
B1: Ordem | C1: Nome do Empregado | D1: Cargo | E1: Remuneração (Salário base + adicionais ) | F1: 13º salário | G1: Férias e terço constitucional | H1: Multa s/ FGTS e Cont.Social sobre aviso previo indenizado e trabalhado | I1: Submodulo 2.2 sobre férias , um terço constitucional e 13 ° Considerando RAT = 1,00 %, 2,00 % ou 3,00 % | J1: Total a ser provisionado
B2: VOCÊ ESTÁ NA PARCELA DE NÚMERO | D2: =_xlfn.SHEET()-6 -> 9 | E2: 1 | F2: =DADOS!J14 -> 0.0833 | G2: =DADOS!J15 -> 0.121 | H2: =DADOS!J16 -> 0.04 | I2: =DADOS!L24 -> 0.0782 | J2: =SUM(F2:I2) -> 0.3225
B3: 1 | F3: =$F$2*E3 -> 0 | G3: =$G$2*E3 -> 0 | H3: =$H$2*E3 -> 0 | I3: =$I$2*E3 -> 0 | J3: =SUM(F3:I3) -> 0
B4: 2 | F4: =$F$2*E4 -> 0 | G4: =$G$2*E4 -> 0 | H4: =$H$2*E4 -> 0 | I4: =$I$2*E4 -> 0 | J4: =SUM(F4:I4) -> 0
B5: 3 | F5: =$F$2*E5 -> 0 | G5: =$G$2*E5 -> 0 | H5: =$H$2*E5 -> 0 | I5: =$I$2*E5 -> 0 | J5: =SUM(F5:I5) -> 0
B6: 4 | F6: =$F$2*E6 -> 0 | G6: =$G$2*E6 -> 0 | H6: =$H$2*E6 -> 0 | I6: =$I$2*E6 -> 0 | J6: =SUM(F6:I6) -> 0
B7: 5 | F7: =$F$2*E7 -> 0 | G7: =$G$2*E7 -> 0 | H7: =$H$2*E7 -> 0 | I7: =$I$2*E7 -> 0 | J7: =SUM(F7:I7) -> 0
B8: 6 | F8: =$F$2*E8 -> 0 | G8: =$G$2*E8 -> 0 | H8: =$H$2*E8 -> 0 | I8: =$I$2*E8 -> 0 | J8: =SUM(F8:I8) -> 0
B9: 7 | F9: =$F$2*E9 -> 0 | G9: =$G$2*E9 -> 0 | H9: =$H$2*E9 -> 0 | I9: =$I$2*E9 -> 0 | J9: =SUM(F9:I9) -> 0
B10: 8 | F10: =$F$2*E10 -> 0 | G10: =$G$2*E10 -> 0 | H10: =$H$2*E10 -> 0 | I10: =$I$2*E10 -> 0 | J10: =SUM(F10:I10) -> 0
B11: 9 | F11: =$F$2*E11 -> 0 | G11: =$G$2*E11 -> 0 | H11: =$H$2*E11 -> 0 | I11: =$I$2*E11 -> 0 | J11: =SUM(F11:I11) -> 0
B12: 10 | F12: =$F$2*E12 -> 0 | G12: =$G$2*E12 -> 0 | H12: =$H$2*E12 -> 0 | I12: =$I$2*E12 -> 0 | J12: =SUM(F12:I12) -> 0
B13: 11 | F13: =$F$2*E13 -> 0 | G13: =$G$2*E13 -> 0 | H13: =$H$2*E13 -> 0 | I13: =$I$2*E13 -> 0 | J13: =SUM(F13:I13) -> 0
B14: 12 | F14: =$F$2*E14 -> 0 | G14: =$G$2*E14 -> 0 | H14: =$H$2*E14 -> 0 | I14: =$I$2*E14 -> 0 | J14: =SUM(F14:I14) -> 0
... B37: 35 | F37: =$F$2*E37 -> 0 | G37: =$G$2*E37 -> 0 | H37: =$H$2*E37 -> 0 | I37: =$I$2*E37 -> 0 | J37: =SUM(F37:I37) -> 0
B38: TOTAIS | E38: =SUM(E3:E37) -> 0 | F38: =SUM(F3:F37) -> 0 | G38: =SUM(G3:G37) -> 0 | H38: =SUM(H3:H37) -> 0 | I38: =SUM(I3:I37) -> 0 | J38: =SUM(J3:J37) -> 0
B44: TOTAL ACUMULADO
B45: Ref. | C45: Nome do Funcionário | D45: Cargo | E45: Remuneração acumulada (Salário base + adicionais ) | F45: 13º salário | G45: Férias e terço constitucional | H45: Multa s/ FGTS e Cont.Social sobre aviso previo indenizado e trabalhado | I45: Submodulo 2.2 sobre férias , um terço constitucional e 13° | J45: Total a ser provisionado | K45: Total liberado por funcionário | L45: Total provisionado por funcionário
E46: 1 | F46: =F2 -> 0.0833 | G46: =G2 -> 0.121 | H46: =H2 -> 0.04 | I46: =I2 -> 0.0782 | J46: =SUM(F46:I46) -> 0.3225
B47: 1 | E47: ='PARCELA 1'!E3+'PARCELA 2'!E3+'PARCELA 3'!E3+'PARCELA 4'!E3+'PARCELA 5'!E3+'PARCELA 6'!E3+'PARCELA 7'!E3+'PARCELA 8'!E3+'PARCELA 9'!E3 -> 0 | F47: =$F$46*E47 -> 0 | G47: =$G$46*E47 -> 0 | H47: =$H$46*E47 -> 0 | I47: =$I$46*E47 -> 0 | J47: =SUM(F47:I47) -> 0 | L47: =J47-K47-'PARCELA 2'!K47-'PARCELA 3'!K47-'PARCELA 4'!K47-'PARCELA 5'!K47-'PARCELA 6'!K47-'PARCELA 7'!K47-'PARCELA 8'!K47 -> 0
B48: 2 | E48: ='PARCELA 1'!E4+'PARCELA 2'!E4+'PARCELA 3'!E4+'PARCELA 4'!E4+'PARCELA 5'!E4+'PARCELA 6'!E4+'PARCELA 7'!E4+'PARCELA 8'!E4+'PARCELA 9'!E4 -> 0 | F48: =$F$2*E48 -> 0 | G48: =$G$2*E48 -> 0 | H48: =$H$2*E48 -> 0 | I48: =$I$2*E48 -> 0 | J48: =SUM(F48:I48) -> 0 | L48: =J48-K48-'PARCELA 2'!K48-'PARCELA 3'!K48-'PARCELA 4'!K48-'PARCELA 5'!K48-'PARCELA 6'!K48-'PARCELA 7'!K48-'PARCELA 8'!K48 -> 0
B49: 3 | E49: ='PARCELA 1'!E5+'PARCELA 2'!E5+'PARCELA 3'!E5+'PARCELA 4'!E5+'PARCELA 5'!E5+'PARCELA 6'!E5+'PARCELA 7'!E5+'PARCELA 8'!E5+'PARCELA 9'!E5 -> 0 | F49: =$F$2*E49 -> 0 | G49: =$G$2*E49 -> 0 | H49: =$H$2*E49 -> 0 | I49: =$I$2*E49 -> 0 | J49: =SUM(F49:I49) -> 0 | L49: =J49-K49-'PARCELA 2'!K49-'PARCELA 3'!K49-'PARCELA 4'!K49-'PARCELA 5'!K49-'PARCELA 6'!K49-'PARCELA 7'!K49-'PARCELA 8'!K49 -> 0
B50: 4 | E50: ='PARCELA 1'!E6+'PARCELA 2'!E6+'PARCELA 3'!E6+'PARCELA 4'!E6+'PARCELA 5'!E6+'PARCELA 6'!E6+'PARCELA 7'!E6+'PARCELA 8'!E6+'PARCELA 9'!E6 -> 0 | F50: =$F$2*E50 -> 0 | G50: =$G$2*E50 -> 0 | H50: =$H$2*E50 -> 0 | I50: =$I$2*E50 -> 0 | J50: =SUM(F50:I50) -> 0 | L50: =J50-K50-'PARCELA 2'!K50-'PARCELA 3'!K50-'PARCELA 4'!K50-'PARCELA 5'!K50-'PARCELA 6'!K50-'PARCELA 7'!K50-'PARCELA 8'!K50 -> 0
B51: 5 | E51: ='PARCELA 1'!E7+'PARCELA 2'!E7+'PARCELA 3'!E7+'PARCELA 4'!E7+'PARCELA 5'!E7+'PARCELA 6'!E7+'PARCELA 7'!E7+'PARCELA 8'!E7+'PARCELA 9'!E7 -> 0 | F51: =$F$2*E51 -> 0 | G51: =$G$2*E51 -> 0 | H51: =$H$2*E51 -> 0 | I51: =$I$2*E51 -> 0 | J51: =SUM(F51:I51) -> 0 | L51: =J51-K51-'PARCELA 2'!K51-'PARCELA 3'!K51-'PARCELA 4'!K51-'PARCELA 5'!K51-'PARCELA 6'!K51-'PARCELA 7'!K51-'PARCELA 8'!K51 -> 0
B52: 6 | E52: ='PARCELA 1'!E8+'PARCELA 2'!E8+'PARCELA 3'!E8+'PARCELA 4'!E8+'PARCELA 5'!E8+'PARCELA 6'!E8+'PARCELA 7'!E8+'PARCELA 8'!E8+'PARCELA 9'!E8 -> 0 | F52: =$F$2*E52 -> 0 | G52: =$G$2*E52 -> 0 | H52: =$H$2*E52 -> 0 | I52: =$I$2*E52 -> 0 | J52: =SUM(F52:I52) -> 0 | L52: =J52-K52-'PARCELA 2'!K52-'PARCELA 3'!K52-'PARCELA 4'!K52-'PARCELA 5'!K52-'PARCELA 6'!K52-'PARCELA 7'!K52-'PARCELA 8'!K52 -> 0
B53: 7 | E53: ='PARCELA 1'!E9+'PARCELA 2'!E9+'PARCELA 3'!E9+'PARCELA 4'!E9+'PARCELA 5'!E9+'PARCELA 6'!E9+'PARCELA 7'!E9+'PARCELA 8'!E9+'PARCELA 9'!E9 -> 0 | F53: =$F$2*E53 -> 0 | G53: =$G$2*E53 -> 0 | H53: =$H$2*E53 -> 0 | I53: =$I$2*E53 -> 0 | J53: =SUM(F53:I53) -> 0 | L53: =J53-K53-'PARCELA 2'!K53-'PARCELA 3'!K53-'PARCELA 4'!K53-'PARCELA 5'!K53-'PARCELA 6'!K53-'PARCELA 7'!K53-'PARCELA 8'!K53 -> 0
B54: 8 | E54: ='PARCELA 1'!E10+'PARCELA 2'!E10+'PARCELA 3'!E10+'PARCELA 4'!E10+'PARCELA 5'!E10+'PARCELA 6'!E10+'PARCELA 7'!E10+'PARCELA 8'!E10+'PARCELA 9'!E10 -> 0 | F54: =$F$2*E54 -> 0 | G54: =$G$2*E54 -> 0 | H54: =$H$2*E54 -> 0 | I54: =$I$2*E54 -> 0 | J54: =SUM(F54:I54) -> 0 | L54: =J54-K54-'PARCELA 2'!K54-'PARCELA 3'!K54-'PARCELA 4'!K54-'PARCELA 5'!K54-'PARCELA 6'!K54-'PARCELA 7'!K54-'PARCELA 8'!K54 -> 0
B55: 9 | E55: ='PARCELA 1'!E11+'PARCELA 2'!E11+'PARCELA 3'!E11+'PARCELA 4'!E11+'PARCELA 5'!E11+'PARCELA 6'!E11+'PARCELA 7'!E11+'PARCELA 8'!E11+'PARCELA 9'!E11 -> 0 | F55: =$F$2*E55 -> 0 | G55: =$G$2*E55 -> 0 | H55: =$H$2*E55 -> 0 | I55: =$I$2*E55 -> 0 | J55: =SUM(F55:I55) -> 0 | L55: =J55-K55-'PARCELA 2'!K55-'PARCELA 3'!K55-'PARCELA 4'!K55-'PARCELA 5'!K55-'PARCELA 6'!K55-'PARCELA 7'!K55-'PARCELA 8'!K55 -> 0
B56: 10 | E56: ='PARCELA 1'!E12+'PARCELA 2'!E12+'PARCELA 3'!E12+'PARCELA 4'!E12+'PARCELA 5'!E12+'PARCELA 6'!E12+'PARCELA 7'!E12+'PARCELA 8'!E12+'PARCELA 9'!E12 -> 0 | F56: =$F$2*E56 -> 0 | G56: =$G$2*E56 -> 0 | H56: =$H$2*E56 -> 0 | I56: =$I$2*E56 -> 0 | J56: =SUM(F56:I56) -> 0 | L56: =J56-K56-'PARCELA 2'!K56-'PARCELA 3'!K56-'PARCELA 4'!K56-'PARCELA 5'!K56-'PARCELA 6'!K56-'PARCELA 7'!K56-'PARCELA 8'!K56 -> 0
B57: 11 | E57: ='PARCELA 1'!E13+'PARCELA 2'!E13+'PARCELA 3'!E13+'PARCELA 4'!E13+'PARCELA 5'!E13+'PARCELA 6'!E13+'PARCELA 7'!E13+'PARCELA 8'!E13+'PARCELA 9'!E13 -> 0 | F57: =$F$2*E57 -> 0 | G57: =$G$2*E57 -> 0 | H57: =$H$2*E57 -> 0 | I57: =$I$2*E57 -> 0 | J57: =SUM(F57:I57) -> 0 | L57: =J57-K57-'PARCELA 2'!K57-'PARCELA 3'!K57-'PARCELA 4'!K57-'PARCELA 5'!K57-'PARCELA 6'!K57-'PARCELA 7'!K57-'PARCELA 8'!K57 -> 0
B58: 12 | E58: ='PARCELA 1'!E14+'PARCELA 2'!E14+'PARCELA 3'!E14+'PARCELA 4'!E14+'PARCELA 5'!E14+'PARCELA 6'!E14+'PARCELA 7'!E14+'PARCELA 8'!E14+'PARCELA 9'!E14 -> 0 | F58: =$F$2*E58 -> 0 | G58: =$G$2*E58 -> 0 | H58: =$H$2*E58 -> 0 | I58: =$I$2*E58 -> 0 | J58: =SUM(F58:I58) -> 0 | L58: =J58-K58-'PARCELA 2'!K58-'PARCELA 3'!K58-'PARCELA 4'!K58-'PARCELA 5'!K58-'PARCELA 6'!K58-'PARCELA 7'!K58-'PARCELA 8'!K58 -> 0
B59: 13 | E59: ='PARCELA 1'!E15+'PARCELA 2'!E15+'PARCELA 3'!E15+'PARCELA 4'!E15+'PARCELA 5'!E15+'PARCELA 6'!E15+'PARCELA 7'!E15+'PARCELA 8'!E15+'PARCELA 9'!E15 -> 0 | F59: =$F$2*E59 -> 0 | G59: =$G$2*E59 -> 0 | H59: =$H$2*E59 -> 0 | I59: =$I$2*E59 -> 0 | J59: =SUM(F59:I59) -> 0 | L59: =J59-K59-'PARCELA 2'!K59-'PARCELA 3'!K59-'PARCELA 4'!K59-'PARCELA 5'!K59-'PARCELA 6'!K59-'PARCELA 7'!K59-'PARCELA 8'!K59 -> 0
... B81: 35 | E81: ='PARCELA 1'!E37+'PARCELA 2'!E37+'PARCELA 3'!E37+'PARCELA 4'!E37+'PARCELA 5'!E37+'PARCELA 6'!E37+'PARCELA 7'!E37+'PARCELA 8'!E37+'PARCELA 9'!E37 -> 0 | F81: =$F$2*E81 -> 0 | G81: =$G$2*E81 -> 0 | H81: =$H$2*E81 -> 0 | I81: =$I$2*E81 -> 0 | J81: =SUM(F81:I81) -> 0 | L81: =J81-K81-'PARCELA 2'!K81-'PARCELA 3'!K81-'PARCELA 4'!K81-'PARCELA 5'!K81-'PARCELA 6'!K81-'PARCELA 7'!K81-'PARCELA 8'!K81 -> 0
B82: Subtotais | E82: =SUM(E47:E81) -> 0 | F82: =SUM(F47:F81) -> 0 | G82: =SUM(G47:G81) -> 0 | H82: =SUM(H47:H81) -> 0 | I82: =SUM(I47:I81) -> 0 | J82: =SUM(J47:J81) -> 0 | K82: =SUM(K47:K81) -> 0 | L82: =SUM(L47:L81) -> 0
B83: Arredondamentos
B84: Total

Sheet PARCELA 10
B1: Ordem | C1: Nome do Empregado | D1: Cargo | E1: Remuneração (Salário base + adicionais ) | F1: 13º salário | G1: Férias e terço constitucional | H1: Multa s/ FGTS e Cont.Social sobre aviso previo indenizado e trabalhado | I1: Submodulo 2.2 sobre férias , um terço constitucional e 13 ° Considerando RAT = 1,00 %, 2,00 % ou 3,00 % | J1: Total a ser provisionado
B2: VOCÊ ESTÁ NA PARCELA DE NÚMERO | D2: =_xlfn.SHEET()-6 -> 10 | E2: 1 | F2: =DADOS!J14 -> 0.0833 | G2: =DADOS!J15 -> 0.121 | H2: =DADOS!J16 -> 0.04 | I2: =DADOS!L24 -> 0.0782 | J2: =SUM(F2:I2) -> 0.3225
B3: 1 | F3: =$F$2*E3 -> 0 | G3: =$G$2*E3 -> 0 | H3: =$H$2*E3 -> 0 | I3: =$I$2*E3 -> 0 | J3: =SUM(F3:I3) -> 0
B4: 2 | F4: =$F$2*E4 -> 0 | G4: =$G$2*E4 -> 0 | H4: =$H$2*E4 -> 0 | I4: =$I$2*E4 -> 0 | J4: =SUM(F4:I4) -> 0
B5: 3 | F5: =$F$2*E5 -> 0 | G5: =$G$2*E5 -> 0 | H5: =$H$2*E5 -> 0 | I5: =$I$2*E5 -> 0 | J5: =SUM(F5:I5) -> 0
B6: 4 | F6: =$F$2*E6 -> 0 | G6: =$G$2*E6 -> 0 | H6: =$H$2*E6 -> 0 | I6: =$I$2*E6 -> 0 | J6: =SUM(F6:I6) -> 0
B7: 5 | F7: =$F$2*E7 -> 0 | G7: =$G$2*E7 -> 0 | H7: =$H$2*E7 -> 0 | I7: =$I$2*E7 -> 0 | J7: =SUM(F7:I7) -> 0
B8: 6 | F8: =$F$2*E8 -> 0 | G8: =$G$2*E8 -> 0 | H8: =$H$2*E8 -> 0 | I8: =$I$2*E8 -> 0 | J8: =SUM(F8:I8) -> 0
B9: 7 | F9: =$F$2*E9 -> 0 | G9: =$G$2*E9 -> 0 | H9: =$H$2*E9 -> 0 | I9: =$I$2*E9 -> 0 | J9: =SUM(F9:I9) -> 0
B10: 8 | F10: =$F$2*E10 -> 0 | G10: =$G$2*E10 -> 0 | H10: =$H$2*E10 -> 0 | I10: =$I$2*E10 -> 0 | J10: =SUM(F10:I10) -> 0
B11: 9 | F11: =$F$2*E11 -> 0 | G11: =$G$2*E11 -> 0 | H11: =$H$2*E11 -> 0 | I11: =$I$2*E11 -> 0 | J11: =SUM(F11:I11) -> 0
B12: 10 | F12: =$F$2*E12 -> 0 | G12: =$G$2*E12 -> 0 | H12: =$H$2*E12 -> 0 | I12: =$I$2*E12 -> 0 | J12: =SUM(F12:I12) -> 0
B13: 11 | F13: =$F$2*E13 -> 0 | G13: =$G$2*E13 -> 0 | H13: =$H$2*E13 -> 0 | I13: =$I$2*E13 -> 0 | J13: =SUM(F13:I13) -> 0
B14: 12 | F14: =$F$2*E14 -> 0 | G14: =$G$2*E14 -> 0 | H14: =$H$2*E14 -> 0 | I14: =$I$2*E14 -> 0 | J14: =SUM(F14:I14) -> 0
... B37: 35 | F37: =$F$2*E37 -> 0 | G37: =$G$2*E37 -> 0 | H37: =$H$2*E37 -> 0 | I37: =$I$2*E37 -> 0 | J37: =SUM(F37:I37) -> 0
B38: TOTAIS | E38: =SUM(E3:E37) -> 0 | F38: =SUM(F3:F37) -> 0 | G38: =SUM(G3:G37) -> 0 | H38: =SUM(H3:H37) -> 0 | I38: =SUM(I3:I37) -> 0 | J38: =SUM(J3:J37) -> 0
B44: TOTAL ACUMULADO
B45: Ref. | C45: Nome do Funcionário | D45: Cargo | E45: Remuneração acumulada (Salário base + adicionais ) | F45: 13º salário | G45: Férias e terço constitucional | H45: Multa s/ FGTS e Cont.Social sobre aviso previo indenizado e trabalhado | I45: Submodulo 2.2 sobre férias , um terço constitucional e 13° | J45: Total a ser provisionado | K45: Total liberado por funcionário | L45: Total provisionado por funcionário
E46: 1 | F46: =F2 -> 0.0833 | G46: =G2 -> 0.121 | H46: =H2 -> 0.04 | I46: =I2 -> 0.0782 | J46: =SUM(F46:I46) -> 0.3225
B47: 1 | E47: ='PARCELA 1'!E3+'PARCELA 2'!E3+'PARCELA 3'!E3+'PARCELA 4'!E3+'PARCELA 5'!E3+'PARCELA 6'!E3+'PARCELA 7'!E3+'PARCELA 8'!E3+'PARCELA 9'!E3+'PARCELA 10'!E3 -> 0 | F47: =$F$46*E47 -> 0 | G47: =$G$46*E47 -> 0 | H47: =$H$46*E47 -> 0 | I47: =$I$46*E47 -> 0 | J47: =SUM(F47:I47) -> 0 | L47: =J47-K47-'PARCELA 2'!K47-'PARCELA 3'!K47-'PARCELA 4'!K47-'PARCELA 5'!K47-'PARCELA 6'!K47-'PARCELA 7'!K47-'PARCELA 8'!K47-'PARCELA 9'!K47 -> 0
B48: 2 | E48: ='PARCELA 1'!E4+'PARCELA 2'!E4+'PARCELA 3'!E4+'PARCELA 4'!E4+'PARCELA 5'!E4+'PARCELA 6'!E4+'PARCELA 7'!E4+'PARCELA 8'!E4+'PARCELA 9'!E4+'PARCELA 10'!E4 -> 0 | F48: =$F$2*E48 -> 0 | G48: =$G$2*E48 -> 0 | H48: =$H$2*E48 -> 0 | I48: =$I$2*E48 -> 0 | J48: =SUM(F48:I48) -> 0 | L48: =J48-K48-'PARCELA 2'!K48-'PARCELA 3'!K48-'PARCELA 4'!K48-'PARCELA 5'!K48-'PARCELA 6'!K48-'PARCELA 7'!K48-'PARCELA 8'!K48-'PARCELA 9'!K48 -> 0
B49: 3 | E49: ='PARCELA 1'!E5+'PARCELA 2'!E5+'PARCELA 3'!E5+'PARCELA 4'!E5+'PARCELA 5'!E5+'PARCELA 6'!E5+'PARCELA 7'!E5+'PARCELA 8'!E5+'PARCELA 9'!E5+'PARCELA 10'!E5 -> 0 | F49: =$F$2*E49 -> 0 | G49: =$G$2*E49 -> 0 | H49: =$H$2*E49 -> 0 | I49: =$I$2*E49 -> 0 | J49: =SUM(F49:I49) -> 0 | L49: =J49-K49-'PARCELA 2'!K49-'PARCELA 3'!K49-'PARCELA 4'!K49-'PARCELA 5'!K49-'PARCELA 6'!K49-'PARCELA 7'!K49-'PARCELA 8'!K49-'PARCELA 9'!K49 -> 0
B50: 4 | E50: ='PARCELA 1'!E6+'PARCELA 2'!E6+'PARCELA 3'!E6+'PARCELA 4'!E6+'PARCELA 5'!E6+'PARCELA 6'!E6+'PARCELA 7'!E6+'PARCELA 8'!E6+'PARCELA 9'!E6+'PARCELA 10'!E6 -> 0 | F50: =$F$2*E50 -> 0 | G50: =$G$2*E50 -> 0 | H50: =$H$2*E50 -> 0 | I50: =$I$2*E50 -> 0 | J50: =SUM(F50:I50) -> 0 | L50: =J50-K50-'PARCELA 2'!K50-'PARCELA 3'!K50-'PARCELA 4'!K50-'PARCELA 5'!K50-'PARCELA 6'!K50-'PARCELA 7'!K50-'PARCELA 8'!K50-'PARCELA 9'!K50 -> 0
B51: 5 | E51: ='PARCELA 1'!E7+'PARCELA 2'!E7+'PARCELA 3'!E7+'PARCELA 4'!E7+'PARCELA 5'!E7+'PARCELA 6'!E7+'PARCELA 7'!E7+'PARCELA 8'!E7+'PARCELA 9'!E7+'PARCELA 10'!E7 -> 0 | F51: =$F$2*E51 -> 0 | G51: =$G$2*E51 -> 0 | H51: =$H$2*E51 -> 0 | I51: =$I$2*E51 -> 0 | J51: =SUM(F51:I51) -> 0 | L51: =J51-K51-'PARCELA 2'!K51-'PARCELA 3'!K51-'PARCELA 4'!K51-'PARCELA 5'!K51-'PARCELA 6'!K51-'PARCELA 7'!K51-'PARCELA 8'!K51-'PARCELA 9'!K51 -> 0
B52: 6 | E52: ='PARCELA 1'!E8+'PARCELA 2'!E8+'PARCELA 3'!E8+'PARCELA 4'!E8+'PARCELA 5'!E8+'PARCELA 6'!E8+'PARCELA 7'!E8+'PARCELA 8'!E8+'PARCELA 9'!E8+'PARCELA 10'!E8 -> 0 | F52: =$F$2*E52 -> 0 | G52: =$G$2*E52 -> 0 | H52: =$H$2*E52 -> 0 | I52: =$I$2*E52 -> 0 | J52: =SUM(F52:I52) -> 0 | L52: =J52-K52-'PARCELA 2'!K52-'PARCELA 3'!K52-'PARCELA 4'!K52-'PARCELA 5'!K52-'PARCELA 6'!K52-'PARCELA 7'!K52-'PARCELA 8'!K52-'PARCELA 9'!K52 -> 0
B53: 7 | E53: ='PARCELA 1'!E9+'PARCELA 2'!E9+'PARCELA 3'!E9+'PARCELA 4'!E9+'PARCELA 5'!E9+'PARCELA 6'!E9+'PARCELA 7'!E9+'PARCELA 8'!E9+'PARCELA 9'!E9+'PARCELA 10'!E9 -> 0 | F53: =$F$2*E53 -> 0 | G53: =$G$2*E53 -> 0 | H53: =$H$2*E53 -> 0 | I53: =$I$2*E53 -> 0 | J53: =SUM(F53:I53) -> 0 | L53: =J53-K53-'PARCELA 2'!K53-'PARCELA 3'!K53-'PARCELA 4'!K53-'PARCELA 5'!K53-'PARCELA 6'!K53-'PARCELA 7'!K53-'PARCELA 8'!K53-'PARCELA 9'!K53 -> 0
B54: 8 | E54: ='PARCELA 1'!E10+'PARCELA 2'!E10+'PARCELA 3'!E10+'PARCELA 4'!E10+'PARCELA 5'!E10+'PARCELA 6'!E10+'PARCELA 7'!E10+'PARCELA 8'!E10+'PARCELA 9'!E10+'PARCELA 10'!E10 -> 0 | F54: =$F$2*E54 -> 0 | G54: =$G$2*E54 -> 0 | H54: =$H$2*E54 -> 0 | I54: =$I$2*E54 -> 0 | J54: =SUM(F54:I54) -> 0 | L54: =J54-K54-'PARCELA 2'!K54-'PARCELA 3'!K54-'PARCELA 4'!K54-'PARCELA 5'!K54-'PARCELA 6'!K54-'PARCELA 7'!K54-'PARCELA 8'!K54-'PARCELA 9'!K54 -> 0
B55: 9 | E55: ='PARCELA 1'!E11+'PARCELA 2'!E11+'PARCELA 3'!E11+'PARCELA 4'!E11+'PARCELA 5'!E11+'PARCELA 6'!E11+'PARCELA 7'!E11+'PARCELA 8'!E11+'PARCELA 9'!E11+'PARCELA 10'!E11 -> 0 | F55: =$F$2*E55 -> 0 | G55: =$G$2*E55 -> 0 | H55: =$H$2*E55 -> 0 | I55: =$I$2*E55 -> 0 | J55: =SUM(F55:I55) -> 0 | L55: =J55-K55-'PARCELA 2'!K55-'PARCELA 3'!K55-'PARCELA 4'!K55-'PARCELA 5'!K55-'PARCELA 6'!K55-'PARCELA 7'!K55-'PARCELA 8'!K55-'PARCELA 9'!K55 -> 0
B56: 10 | E56: ='PARCELA 1'!E12+'PARCELA 2'!E12+'PARCELA 3'!E12+'PARCELA 4'!E12+'PARCELA 5'!E12+'PARCELA 6'!E12+'PARCELA 7'!E12+'PARCELA 8'!E12+'PARCELA 9'!E12+'PARCELA 10'!E12 -> 0 | F56: =$F$2*E56 -> 0 | G56: =$G$2*E56 -> 0 | H56: =$H$2*E56 -> 0 | I56: =$I$2*E56 -> 0 | J56: =SUM(F56:I56) -> 0 | L56: =J56-K56-'PARCELA 2'!K56-'PARCELA 3'!K56-'PARCELA 4'!K56-'PARCELA 5'!K56-'PARCELA 6'!K56-'PARCELA 7'!K56-'PARCELA 8'!K56-'PARCELA 9'!K56 -> 0
B57: 11 | E57: ='PARCELA 1'!E13+'PARCELA 2'!E13+'PARCELA 3'!E13+'PARCELA 4'!E13+'PARCELA 5'!E13+'PARCELA 6'!E13+'PARCELA 7'!E13+'PARCELA 8'!E13+'PARCELA 9'!E13+'PARCELA 10'!E13 -> 0 | F57: =$F$2*E57 -> 0 | G57: =$G$2*E57 -> 0 | H57: =$H$2*E57 -> 0 | I57: =$I$2*E57 -> 0 | J57: =SUM(F57:I57) -> 0 | L57: =J57-K57-'PARCELA 2'!K57-'PARCELA 3'!K57-'PARCELA 4'!K57-'PARCELA 5'!K57-'PARCELA 6'!K57-'PARCELA 7'!K57-'PARCELA 8'!K57-'PARCELA 9'!K57 -> 0
B58: 12 | E58: ='PARCELA 1'!E14+'PARCELA 2'!E14+'PARCELA 3'!E14+'PARCELA 4'!E14+'PARCELA 5'!E14+'PARCELA 6'!E14+'PARCELA 7'!E14+'PARCELA 8'!E14+'PARCELA 9'!E14+'PARCELA 10'!E14 -> 0 | F58: =$F$2*E58 -> 0 | G58: =$G$2*E58 -> 0 | H58: =$H$2*E58 -> 0 | I58: =$I$2*E58 -> 0 | J58: =SUM(F58:I58) -> 0 | L58: =J58-K58-'PARCELA 2'!K58-'PARCELA 3'!K58-'PARCELA 4'!K58-'PARCELA 5'!K58-'PARCELA 6'!K58-'PARCELA 7'!K58-'PARCELA 8'!K58-'PARCELA 9'!K58 -> 0
B59: 13 | E59: ='PARCELA 1'!E15+'PARCELA 2'!E15+'PARCELA 3'!E15+'PARCELA 4'!E15+'PARCELA 5'!E15+'PARCELA 6'!E15+'PARCELA 7'!E15+'PARCELA 8'!E15+'PARCELA 9'!E15+'PARCELA 10'!E15 -> 0 | F59: =$F$2*E59 -> 0 | G59: =$G$2*E59 -> 0 | H59: =$H$2*E59 -> 0 | I59: =$I$2*E59 -> 0 | J59: =SUM(F59:I59) -> 0 | L59: =J59-K59-'PARCELA 2'!K59-'PARCELA 3'!K59-'PARCELA 4'!K59-'PARCELA 5'!K59-'PARCELA 6'!K59-'PARCELA 7'!K59-'PARCELA 8'!K59-'PARCELA 9'!K59 -> 0
... B81: 35 | E81: ='PARCELA 1'!E37+'PARCELA 2'!E37+'PARCELA 3'!E37+'PARCELA 4'!E37+'PARCELA 5'!E37+'PARCELA 6'!E37+'PARCELA 7'!E37+'PARCELA 8'!E37+'PARCELA 9'!E37+'PARCELA 10'!E37 -> 0 | F81: =$F$2*E81 -> 0 | G81: =$G$2*E81 -> 0 | H81: =$H$2*E81 -> 0 | I81: =$I$2*E81 -> 0 | J81: =SUM(F81:I81) -> 0 | L81: =J81-K81-'PARCELA 2'!K81-'PARCELA 3'!K81-'PARCELA 4'!K81-'PARCELA 5'!K81-'PARCELA 6'!K81-'PARCELA 7'!K81-'PARCELA 8'!K81-'PARCELA 9'!K81 -> 0
B82: Subtotais | E82: =SUM(E47:E81) -> 0 | F82: =SUM(F47:F81) -> 0 | G82: =SUM(G47:G81) -> 0 | H82: =SUM(H47:H81) -> 0 | I82: =SUM(I47:I81) -> 0 | J82: =SUM(J47:J81) -> 0 | K82: =SUM(K47:K81) -> 0 | L82: =SUM(L47:L81) -> 0
B83: Arredondamentos
B84: Total

Sheet PARCELA 11
B1: Ordem | C1: Nome do Empregado | D1: Cargo | E1: Remuneração (Salário base + adicionais ) | F1: 13º salário | G1: Férias e terço constitucional | H1: Multa s/ FGTS e Cont.Social sobre aviso previo indenizado e trabalhado | I1: Submodulo 2.2 sobre férias , um terço constitucional e 13 ° Considerando RAT = 1,00 %, 2,00 % ou 3,00 % | J1: Total a ser provisionado
B2: VOCÊ ESTÁ NA PARCELA DE NÚMERO | D2: =_xlfn.SHEET()-6 -> 11 | E2: 1 | F2: =DADOS!J14 -> 0.0833 | G2: =DADOS!J15 -> 0.121 | H2: =DADOS!J16 -> 0.04 | I2: =DADOS!L24 -> 0.0782 | J2: =SUM(F2:I2) -> 0.3225
B3: 1 | F3: =$F$2*E3 -> 0 | G3: =$G$2*E3 -> 0 | H3: =$H$2*E3 -> 0 | I3: =$I$2*E3 -> 0 | J3: =SUM(F3:I3) -> 0
B4: 2 | F4: =$F$2*E4 -> 0 | G4: =$G$2*E4 -> 0 | H4: =$H$2*E4 -> 0 | I4: =$I$2*E4 -> 0 | J4: =SUM(F4:I4) -> 0
B5: 3 | F5: =$F$2*E5 -> 0 | G5: =$G$2*E5 -> 0 | H5: =$H$2*E5 -> 0 | I5: =$I$2*E5 -> 0 | J5: =SUM(F5:I5) -> 0
B6: 4 | F6: =$F$2*E6 -> 0 | G6: =$G$2*E6 -> 0 | H6: =$H$2*E6 -> 0 | I6: =$I$2*E6 -> 0 | J6: =SUM(F6:I6) -> 0
B7: 5 | F7: =$F$2*E7 -> 0 | G7: =$G$2*E7 -> 0 | H7: =$H$2*E7 -> 0 | I7: =$I$2*E7 -> 0 | J7: =SUM(F7:I7) -> 0
B8: 6 | F8: =$F$2*E8 -> 0 | G8: =$G$2*E8 -> 0 | H8: =$H$2*E8 -> 0 | I8: =$I$2*E8 -> 0 | J8: =SUM(F8:I8) -> 0
B9: 7 | F9: =$F$2*E9 -> 0 | G9: =$G$2*E9 -> 0 | H9: =$H$2*E9 -> 0 | I9: =$I$2*E9 -> 0 | J9: =SUM(F9:I9) -> 0
B10: 8 | F10: =$F$2*E10 -> 0 | G10: =$G$2*E10 -> 0 | H10: =$H$2*E10 -> 0 | I10: =$I$2*E10 -> 0 | J10: =SUM(F10:I10) -> 0
B11: 9 | F11: =$F$2*E11 -> 0 | G11: =$G$2*E11 -> 0 | H11: =$H$2*E11 -> 0 | I11: =$I$2*E11 -> 0 | J11: =SUM(F11:I11) -> 0
B12: 10 | F12: =$F$2*E12 -> 0 | G12: =$G$2*E12 -> 0 | H12: =$H$2*E12 -> 0 | I12: =$I$2*E12 -> 0 | J12: =SUM(F12:I12) -> 0
B13: 11 | F13: =$F$2*E13 -> 0 | G13: =$G$2*E13 -> 0 | H13: =$H$2*E13 -> 0 | I13: =$I$2*E13 -> 0 | J13: =SUM(F13:I13) -> 0
B14: 12 | F14: =$F$2*E14 -> 0 | G14: =$G$2*E14 -> 0 | H14: =$H$2*E14 -> 0 | I14: =$I$2*E14 -> 0 | J14: =SUM(F14:I14) -> 0
... B37: 35 | F37: =$F$2*E37 -> 0 | G37: =$G$2*E37 -> 0 | H37: =$H$2*E37 -> 0 | I37: =$I$2*E37 -> 0 | J37: =SUM(F37:I37) -> 0
B38: TOTAIS | E38: =SUM(E3:E37) -> 0 | F38: =SUM(F3:F37) -> 0 | G38: =SUM(G3:G37) -> 0 | H38: =SUM(H3:H37) -> 0 | I38: =SUM(I3:I37) -> 0 | J38: =SUM(J3:J37) -> 0
B44: TOTAL ACUMULADO
B45: Ref. | C45: Nome do Funcionário | D45: Cargo | E45: Remuneração acumulada (Salário base + adicionais ) | F45: 13º salário | G45: Férias e terço constitucional | H45: Multa s/ FGTS e Cont.Social sobre aviso previo indenizado e trabalhado | I45: Submodulo 2.2 sobre férias , um terço constitucional e 13° | J45: Total a ser provisionado | K45: Total liberado por funcionário | L45: Total provisionado por funcionário
E46: 1 | F46: =F2 -> 0.0833 | G46: =G2 -> 0.121 | H46: =H2 -> 0.04 | I46: =I2 -> 0.0782 | J46: =SUM(F46:I46) -> 0.3225
B47: 1 | E47: ='PARCELA 1'!E3+'PARCELA 2'!E3+'PARCELA 3'!E3+'PARCELA 4'!E3+'PARCELA 5'!E3+'PARCELA 6'!E3+'PARCELA 7'!E3+'PARCELA 8'!E3+'PARCELA 9'!E3+'PARCELA 10'!E3+'PARCELA 11'!E3 -> 0 | F47: =$F$46*E47 -> 0 | G47: =$G$46*E47 -> 0 | H47: =$H$46*E47 -> 0 | I47: =$I$46*E47 -> 0 | J47: =SUM(F47:I47) -> 0 | L47: =J47-K47-'PARCELA 2'!K47-'PARCELA 3'!K47-'PARCELA 4'!K47-'PARCELA 5'!K47-'PARCELA 6'!K47-'PARCELA 7'!K47-'PARCELA 8'!K47-'PARCELA 9'!K47-'PARCELA 10'!K47 -> 0
B48: 2 | E48: ='PARCELA 1'!E4+'PARCELA 2'!E4+'PARCELA 3'!E4+'PARCELA 4'!E4+'PARCELA 5'!E4+'PARCELA 6'!E4+'PARCELA 7'!E4+'PARCELA 8'!E4+'PARCELA 9'!E4+'PARCELA 10'!E4+'PARCELA 11'!E4 -> 0 | F48: =$F$2*E48 -> 0 | G48: =$G$2*E48 -> 0 | H48: =$H$2*E48 -> 0 | I48: =$I$2*E48 -> 0 | J48: =SUM(F48:I48) -> 0 | L48: =J48-K48-'PARCELA 2'!K48-'PARCELA 3'!K48-'PARCELA 4'!K48-'PARCELA 5'!K48-'PARCELA 6'!K48-'PARCELA 7'!K48-'PARCELA 8'!K48-'PARCELA 9'!K48-'PARCELA 10'!K48 -> 0
B49: 3 | E49: ='PARCELA 1'!E5+'PARCELA 2'!E5+'PARCELA 3'!E5+'PARCELA 4'!E5+'PARCELA 5'!E5+'PARCELA 6'!E5+'PARCELA 7'!E5+'PARCELA 8'!E5+'PARCELA 9'!E5+'PARCELA 10'!E5+'PARCELA 11'!E5 -> 0 | F49: =$F$2*E49 -> 0 | G49: =$G$2*E49 -> 0 | H49: =$H$2*E49 -> 0 | I49: =$I$2*E49 -> 0 | J49: =SUM(F49:I49) -> 0 | L49: =J49-K49-'PARCELA 2'!K49-'PARCELA 3'!K49-'PARCELA 4'!K49-'PARCELA 5'!K49-'PARCELA 6'!K49-'PARCELA 7'!K49-'PARCELA 8'!K49-'PARCELA 9'!K49-'PARCELA 10'!K49 -> 0
B50: 4 | E50: ='PARCELA 1'!E6+'PARCELA 2'!E6+'PARCELA 3'!E6+'PARCELA 4'!E6+'PARCELA 5'!E6+'PARCELA 6'!E6+'PARCELA 7'!E6+'PARCELA 8'!E6+'PARCELA 9'!E6+'PARCELA 10'!E6+'PARCELA 11'!E6 -> 0 | F50: =$F$2*E50 -> 0 | G50: =$G$2*E50 -> 0 | H50: =$H$2*E50 -> 0 | I50: =$I$2*E50 -> 0 | J50: =SUM(F50:I50) -> 0 | L50: =J50-K50-'PARCELA 2'!K50-'PARCELA 3'!K50-'PARCELA 4'!K50-'PARCELA 5'!K50-'PARCELA 6'!K50-'PARCELA 7'!K50-'PARCELA 8'!K50-'PARCELA 9'!K50-'PARCELA 10'!K50 -> 0
B51: 5 | E51: ='PARCELA 1'!E7+'PARCELA 2'!E7+'PARCELA 3'!E7+'PARCELA 4'!E7+'PARCELA 5'!E7+'PARCELA 6'!E7+'PARCELA 7'!E7+'PARCELA 8'!E7+'PARCELA 9'!E7+'PARCELA 10'!E7+'PARCELA 11'!E7 -> 0 | F51: =$F$2*E51 -> 0 | G51: =$G$2*E51 -> 0 | H51: =$H$2*E51 -> 0 | I51: =$I$2*E51 -> 0 | J51: =SUM(F51:I51) -> 0 | L51: =J51-K51-'PARCELA 2'!K51-'PARCELA 3'!K51-'PARCELA 4'!K51-'PARCELA 5'!K51-'PARCELA 6'!K51-'PARCELA 7'!K51-'PARCELA 8'!K51-'PARCELA 9'!K51-'PARCELA 10'!K51 -> 0
B52: 6 | E52: ='PARCELA 1'!E8+'PARCELA 2'!E8+'PARCELA 3'!E8+'PARCELA 4'!E8+'PARCELA 5'!E8+'PARCELA 6'!E8+'PARCELA 7'!E8+'PARCELA 8'!E8+'PARCELA 9'!E8+'PARCELA 10'!E8+'PARCELA 11'!E8 -> 0 | F52: =$F$2*E52 -> 0 | G52: =$G$2*E52 -> 0 | H52: =$H$2*E52 -> 0 | I52: =$I$2*E52 -> 0 | J52: =SUM(F52:I52) -> 0 | L52: =J52-K52-'PARCELA 2'!K52-'PARCELA 3'!K52-'PARCELA 4'!K52-'PARCELA 5'!K52-'PARCELA 6'!K52-'PARCELA 7'!K52-'PARCELA 8'!K52-'PARCELA 9'!K52-'PARCELA 10'!K52 -> 0
B53: 7 | E53: ='PARCELA 1'!E9+'PARCELA 2'!E9+'PARCELA 3'!E9+'PARCELA 4'!E9+'PARCELA 5'!E9+'PARCELA 6'!E9+'PARCELA 7'!E9+'PARCELA 8'!E9+'PARCELA 9'!E9+'PARCELA 10'!E9+'PARCELA 11'!E9 -> 0 | F53: =$F$2*E53 -> 0 | G53: =$G$2*E53 -> 0 | H53: =$H$2*E53 -> 0 | I53: =$I$2*E53 -> 0 | J53: =SUM(F53:I53) -> 0 | L53: =J53-K53-'PARCELA 2'!K53-'PARCELA 3'!K53-'PARCELA 4'!K53-'PARCELA 5'!K53-'PARCELA 6'!K53-'PARCELA 7'!K53-'PARCELA 8'!K53-'PARCELA 9'!K53-'PARCELA 10'!K53 -> 0
B54: 8 | E54: ='PARCELA 1'!E10+'PARCELA 2'!E10+'PARCELA 3'!E10+'PARCELA 4'!E10+'PARCELA 5'!E10+'PARCELA 6'!E10+'PARCELA 7'!E10+'PARCELA 8'!E10+'PARCELA 9'!E10+'PARCELA 10'!E10+'PARCELA 11'!E10 -> 0 | F54: =$F$2*E54 -> 0 | G54: =$G$2*E54 -> 0 | H54: =$H$2*E54 -> 0 | I54: =$I$2*E54 -> 0 | J54: =SUM(F54:I54) -> 0 | L54: =J54-K54-'PARCELA 2'!K54-'PARCELA 3'!K54-'PARCELA 4'!K54-'PARCELA 5'!K54-'PARCELA 6'!K54-'PARCELA 7'!K54-'PARCELA 8'!K54-'PARCELA 9'!K54-'PARCELA 10'!K54 -> 0
B55: 9 | E55: ='PARCELA 1'!E11+'PARCELA 2'!E11+'PARCELA 3'!E11+'PARCELA 4'!E11+'PARCELA 5'!E11+'PARCELA 6'!E11+'PARCELA 7'!E11+'PARCELA 8'!E11+'PARCELA 9'!E11+'PARCELA 10'!E11+'PARCELA 11'!E11 -> 0 | F55: =$F$2*E55 -> 0 | G55: =$G$2*E55 -> 0 | H55: =$H$2*E55 -> 0 | I55: =$I$2*E55 -> 0 | J55: =SUM(F55:I55) -> 0 | L55: =J55-K55-'PARCELA 2'!K55-'PARCELA 3'!K55-'PARCELA 4'!K55-'PARCELA 5'!K55-'PARCELA 6'!K55-'PARCELA 7'!K55-'PARCELA 8'!K55-'PARCELA 9'!K55-'PARCELA 10'!K55 -> 0
B56: 10 | E56: ='PARCELA 1'!E12+'PARCELA 2'!E12+'PARCELA 3'!E12+'PARCELA 4'!E12+'PARCELA 5'!E12+'PARCELA 6'!E12+'PARCELA 7'!E12+'PARCELA 8'!E12+'PARCELA 9'!E12+'PARCELA 10'!E12+'PARCELA 11'!E12 -> 0 | F56: =$F$2*E56 -> 0 | G56: =$G$2*E56 -> 0 | H56: =$H$2*E56 -> 0 | I56: =$I$2*E56 -> 0 | J56: =SUM(F56:I56) -> 0 | L56: =J56-K56-'PARCELA 2'!K56-'PARCELA 3'!K56-'PARCELA 4'!K56-'PARCELA 5'!K56-'PARCELA 6'!K56-'PARCELA 7'!K56-'PARCELA 8'!K56-'PARCELA 9'!K56-'PARCELA 10'!K56 -> 0
B57: 11 | E57: ='PARCELA 1'!E13+'PARCELA 2'!E13+'PARCELA 3'!E13+'PARCELA 4'!E13+'PARCELA 5'!E13+'PARCELA 6'!E13+'PARCELA 7'!E13+'PARCELA 8'!E13+'PARCELA 9'!E13+'PARCELA 10'!E13+'PARCELA 11'!E13 -> 0 | F57: =$F$2*E57 -> 0 | G57: =$G$2*E57 -> 0 | H57: =$H$2*E57 -> 0 | I57: =$I$2*E57 -> 0 | J57: =SUM(F57:I57) -> 0 | L57: =J57-K57-'PARCELA 2'!K57-'PARCELA 3'!K57-'PARCELA 4'!K57-'PARCELA 5'!K57-'PARCELA 6'!K57-'PARCELA 7'!K57-'PARCELA 8'!K57-'PARCELA 9'!K57-'PARCELA 10'!K57 -> 0
B58: 12 | E58: ='PARCELA 1'!E14+'PARCELA 2'!E14+'PARCELA 3'!E14+'PARCELA 4'!E14+'PARCELA 5'!E14+'PARCELA 6'!E14+'PARCELA 7'!E14+'PARCELA 8'!E14+'PARCELA 9'!E14+'PARCELA 10'!E14+'PARCELA 11'!E14 -> 0 | F58: =$F$2*E58 -> 0 | G58: =$G$2*E58 -> 0 | H58: =$H$2*E58 -> 0 | I58: =$I$2*E58 -> 0 | J58: =SUM(F58:I58) -> 0 | L58: =J58-K58-'PARCELA 2'!K58-'PARCELA 3'!K58-'PARCELA 4'!K58-'PARCELA 5'!K58-'PARCELA 6'!K58-'PARCELA 7'!K58-'PARCELA 8'!K58-'PARCELA 9'!K58-'PARCELA 10'!K58 -> 0
B59: 13 | E59: ='PARCELA 1'!E15+'PARCELA 2'!E15+'PARCELA 3'!E15+'PARCELA 4'!E15+'PARCELA 5'!E15+'PARCELA 6'!E15+'PARCELA 7'!E15+'PARCELA 8'!E15+'PARCELA 9'!E15+'PARCELA 10'!E15+'PARCELA 11'!E15 -> 0 | F59: =$F$2*E59 -> 0 | G59: =$G$2*E59 -> 0 | H59: =$H$2*E59 -> 0 | I59: =$I$2*E59 -> 0 | J59: =SUM(F59:I59) -> 0 | L59: =J59-K59-'PARCELA 2'!K59-'PARCELA 3'!K59-'PARCELA 4'!K59-'PARCELA 5'!K59-'PARCELA 6'!K59-'PARCELA 7'!K59-'PARCELA 8'!K59-'PARCELA 9'!K59-'PARCELA 10'!K59 -> 0
... B81: 35 | E81: ='PARCELA 1'!E37+'PARCELA 2'!E37+'PARCELA 3'!E37+'PARCELA 4'!E37+'PARCELA 5'!E37+'PARCELA 6'!E37+'PARCELA 7'!E37+'PARCELA 8'!E37+'PARCELA 9'!E37+'PARCELA 10'!E37+'PARCELA 11'!E37 -> 0 | F81: =$F$2*E81 -> 0 | G81: =$G$2*E81 -> 0 | H81: =$H$2*E81 -> 0 | I81: =$I$2*E81 -> 0 | J81: =SUM(F81:I81) -> 0 | L81: =J81-K81-'PARCELA 2'!K81-'PARCELA 3'!K81-'PARCELA 4'!K81-'PARCELA 5'!K81-'PARCELA 6'!K81-'PARCELA 7'!K81-'PARCELA 8'!K81-'PARCELA 9'!K81-'PARCELA 10'!K81 -> 0
B82: Subtotais | E82: =SUM(E47:E81) -> 0 | F82: =SUM(F47:F81) -> 0 | G82: =SUM(G47:G81) -> 0 | H82: =SUM(H47:H81) -> 0 | I82: =SUM(I47:I81) -> 0 | J82: =SUM(J47:J81) -> 0 | K82: =SUM(K47:K81) -> 0 | L82: =SUM(L47:L81) -> 0
B83: Arredondamentos
B84: Total

Sheet PARCELA 12
B1: Ordem | C1: Nome do Empregado | D1: Cargo | E1: Remuneração (Salário base + adicionais ) | F1: 13º salário | G1: Férias e terço constitucional | H1: Multa s/ FGTS e Cont.Social sobre aviso previo indenizado e trabalhado | I1: Submodulo 2.2 sobre férias , um terço constitucional e 13 ° Considerando RAT = 1,00 %, 2,00 % ou 3,00 % | J1: Total a ser provisionado
B2: VOCÊ ESTÁ NA PARCELA DE NÚMERO | D2: =_xlfn.SHEET()-6 -> 12 | E2: 1 | F2: =DADOS!J14 -> 0.0833 | G2: =DADOS!J15 -> 0.121 | H2: =DADOS!J16 -> 0.04 | I2: =DADOS!L24 -> 0.0782 | J2: =SUM(F2:I2) -> 0.3225
B3: 1 | F3: =$F$2*E3 -> 0 | G3: =$G$2*E3 -> 0 | H3: =$H$2*E3 -> 0 | I3: =$I$2*E3 -> 0 | J3: =SUM(F3:I3) -> 0
B4: 2 | F4: =$F$2*E4 -> 0 | G4: =$G$2*E4 -> 0 | H4: =$H$2*E4 -> 0 | I4: =$I$2*E4 -> 0 | J4: =SUM(F4:I4) -> 0
B5: 3 | F5: =$F$2*E5 -> 0 | G5: =$G$2*E5 -> 0 | H5: =$H$2*E5 -> 0 | I5: =$I$2*E5 -> 0 | J5: =SUM(F5:I5) -> 0
B6: 4 | F6: =$F$2*E6 -> 0 | G6: =$G$2*E6 -> 0 | H6: =$H$2*E6 -> 0 | I6: =$I$2*E6 -> 0 | J6: =SUM(F6:I6) -> 0
B7: 5 | F7: =$F$2*E7 -> 0 | G7: =$G$2*E7 -> 0 | H7: =$H$2*E7 -> 0 | I7: =$I$2*E7 -> 0 | J7: =SUM(F7:I7) -> 0
B8: 6 | F8: =$F$2*E8 -> 0 | G8: =$G$2*E8 -> 0 | H8: =$H$2*E8 -> 0 | I8: =$I$2*E8 -> 0 | J8: =SUM(F8:I8) -> 0
B9: 7 | F9: =$F$2*E9 -> 0 | G9: =$G$2*E9 -> 0 | H9: =$H$2*E9 -> 0 | I9: =$I$2*E9 -> 0 | J9: =SUM(F9:I9) -> 0
B10: 8 | F10: =$F$2*E10 -> 0 | G10: =$G$2*E10 -> 0 | H10: =$H$2*E10 -> 0 | I10: =$I$2*E10 -> 0 | J10: =SUM(F10:I10) -> 0
B11: 9 | F11: =$F$2*E11 -> 0 | G11: =$G$2*E11 -> 0 | H11: =$H$2*E11 -> 0 | I11: =$I$2*E11 -> 0 | J11: =SUM(F11:I11) -> 0
B12: 10 | F12: =$F$2*E12 -> 0 | G12: =$G$2*E12 -> 0 | H12: =$H$2*E12 -> 0 | I12: =$I$2*E12 -> 0 | J12: =SUM(F12:I12) -> 0
B13: 11 | F13: =$F$2*E13 -> 0 | G13: =$G$2*E13 -> 0 | H13: =$H$2*E13 -> 0 | I13: =$I$2*E13 -> 0 | J13: =SUM(F13:I13) -> 0
B14: 12 | F14: =$F$2*E14 -> 0 | G14: =$G$2*E14 -> 0 | H14: =$H$2*E14 -> 0 | I14: =$I$2*E14 -> 0 | J14: =SUM(F14:I14) -> 0
... B37: 35 | F37: =$F$2*E37 -> 0 | G37: =$G$2*E37 -> 0 | H37: =$H$2*E37 -> 0 | I37: =$I$2*E37 -> 0 | J37: =SUM(F37:I37) -> 0
B38: TOTAIS | E38: =SUM(E3:E37) -> 0 | F38: =SUM(F3:F37) -> 0 | G38: =SUM(G3:G37) -> 0 | H38: =SUM(H3:H37) -> 0 | I38: =SUM(I3:I37) -> 0 | J38: =SUM(J3:J37) -> 0
B44: TOTAL ACUMULADO
B45: Ref. | C45: Nome do Funcionário | D45: Cargo | E45: Remuneração acumulada (Salário base + adicionais ) | F45: 13º salário | G45: Férias e terço constitucional | H45: Multa s/ FGTS e Cont.Social sobre aviso previo indenizado e trabalhado | I45: Submodulo 2.2 sobre férias , um terço constitucional e 13° | J45: Total a ser provisionado | K45: Total liberado por funcionário | L45: Total provisionado por funcionário
E46: 1 | F46: =F2 -> 0.0833 | G46: =G2 -> 0.121 | H46: =H2 -> 0.04 | I46: =I2 -> 0.0782 | J46: =SUM(F46:I46) -> 0.3225
B47: 1 | E47: ='PARCELA 1'!E3+'PARCELA 2'!E3+'PARCELA 3'!E3+'PARCELA 4'!E3+'PARCELA 5'!E3+'PARCELA 6'!E3+'PARCELA 7'!E3+'PARCELA 8'!E3+'PARCELA 9'!E3+'PARCELA 10'!E3+'PARCELA 11'!E3+'PARCELA 12'!E3 -> 0 | F47: =$F$46*E47 -> 0 | G47: =$G$46*E47 -> 0 | H47: =$H$46*E47 -> 0 | I47: =$I$46*E47 -> 0 | J47: =SUM(F47:I47) -> 0 | L47: =J47-K47-'PARCELA 2'!K47-'PARCELA 3'!K47-'PARCELA 4'!K47-'PARCELA 5'!K47-'PARCELA 6'!K47-'PARCELA 7'!K47-'PARCELA 8'!K47-'PARCELA 9'!K47-'PARCELA 10'!K47-'PARCELA 11'!K47 -> 0
B48: 2 | E48: ='PARCELA 1'!E4+'PARCELA 2'!E4+'PARCELA 3'!E4+'PARCELA 4'!E4+'PARCELA 5'!E4+'PARCELA 6'!E4+'PARCELA 7'!E4+'PARCELA 8'!E4+'PARCELA 9'!E4+'PARCELA 10'!E4+'PARCELA 11'!E4+'PARCELA 12'!E4 -> 0 | F48: =$F$2*E48 -> 0 | G48: =$G$2*E48 -> 0 | H48: =$H$2*E48 -> 0 | I48: =$I$2*E48 -> 0 | J48: =SUM(F48:I48) -> 0 | L48: =J48-K48-'PARCELA 2'!K48-'PARCELA 3'!K48-'PARCELA 4'!K48-'PARCELA 5'!K48-'PARCELA 6'!K48-'PARCELA 7'!K48-'PARCELA 8'!K48-'PARCELA 9'!K48-'PARCELA 10'!K48-'PARCELA 11'!K48 -> 0
B49: 3 | E49: ='PARCELA 1'!E5+'PARCELA 2'!E5+'PARCELA 3'!E5+'PARCELA 4'!E5+'PARCELA 5'!E5+'PARCELA 6'!E5+'PARCELA 7'!E5+'PARCELA 8'!E5+'PARCELA 9'!E5+'PARCELA 10'!E5+'PARCELA 11'!E5+'PARCELA 12'!E5 -> 0 | F49: =$F$2*E49 -> 0 | G49: =$G$2*E49 -> 0 | H49: =$H$2*E49 -> 0 | I49: =$I$2*E49 -> 0 | J49: =SUM(F49:I49) -> 0 | L49: =J49-K49-'PARCELA 2'!K49-'PARCELA 3'!K49-'PARCELA 4'!K49-'PARCELA 5'!K49-'PARCELA 6'!K49-'PARCELA 7'!K49-'PARCELA 8'!K49-'PARCELA 9'!K49-'PARCELA 10'!K49-'PARCELA 11'!K49 -> 0
B50: 4 | E50: ='PARCELA 1'!E6+'PARCELA 2'!E6+'PARCELA 3'!E6+'PARCELA 4'!E6+'PARCELA 5'!E6+'PARCELA 6'!E6+'PARCELA 7'!E6+'PARCELA 8'!E6+'PARCELA 9'!E6+'PARCELA 10'!E6+'PARCELA 11'!E6+'PARCELA 12'!E6 -> 0 | F50: =$F$2*E50 -> 0 | G50: =$G$2*E50 -> 0 | H50: =$H$2*E50 -> 0 | I50: =$I$2*E50 -> 0 | J50: =SUM(F50:I50) -> 0 | L50: =J50-K50-'PARCELA 2'!K50-'PARCELA 3'!K50-'PARCELA 4'!K50-'PARCELA 5'!K50-'PARCELA 6'!K50-'PARCELA 7'!K50-'PARCELA 8'!K50-'PARCELA 9'!K50-'PARCELA 10'!K50-'PARCELA 11'!K50 -> 0
B51: 5 | E51: ='PARCELA 1'!E7+'PARCELA 2'!E7+'PARCELA 3'!E7+'PARCELA 4'!E7+'PARCELA 5'!E7+'PARCELA 6'!E7+'PARCELA 7'!E7+'PARCELA 8'!E7+'PARCELA 9'!E7+'PARCELA 10'!E7+'PARCELA 11'!E7+'PARCELA 12'!E7 -> 0 | F51: =$F$2*E51 -> 0 | G51: =$G$2*E51 -> 0 | H51: =$H$2*E51 -> 0 | I51: =$I$2*E51 -> 0 | J51: =SUM(F51:I51) -> 0 | L51: =J51-K51-'PARCELA 2'!K51-'PARCELA 3'!K51-'PARCELA 4'!K51-'PARCELA 5'!K51-'PARCELA 6'!K51-'PARCELA 7'!K51-'PARCELA 8'!K51-'PARCELA 9'!K51-'PARCELA 10'!K51-'PARCELA 11'!K51 -> 0
B52: 6 | E52: ='PARCELA 1'!E8+'PARCELA 2'!E8+'PARCELA 3'!E8+'PARCELA 4'!E8+'PARCELA 5'!E8+'PARCELA 6'!E8+'PARCELA 7'!E8+'PARCELA 8'!E8+'PARCELA 9'!E8+'PARCELA 10'!E8+'PARCELA 11'!E8+'PARCELA 12'!E8 -> 0 | F52: =$F$2*E52 -> 0 | G52: =$G$2*E52 -> 0 | H52: =$H$2*E52 -> 0 | I52: =$I$2*E52 -> 0 | J52: =SUM(F52:I52) -> 0 | L52: =J52-K52-'PARCELA 2'!K52-'PARCELA 3'!K52-'PARCELA 4'!K52-'PARCELA 5'!K52-'PARCELA 6'!K52-'PARCELA 7'!K52-'PARCELA 8'!K52-'PARCELA 9'!K52-'PARCELA 10'!K52-'PARCELA 11'!K52 -> 0
B53: 7 | E53: ='PARCELA 1'!E9+'PARCELA 2'!E9+'PARCELA 3'!E9+'PARCELA 4'!E9+'PARCELA 5'!E9+'PARCELA 6'!E9+'PARCELA 7'!E9+'PARCELA 8'!E9+'PARCELA 9'!E9+'PARCELA 10'!E9+'PARCELA 11'!E9+'PARCELA 12'!E9 -> 0 | F53: =$F$2*E53 -> 0 | G53: =$G$2*E53 -> 0 | H53: =$H$2*E53 -> 0 | I53: =$I$2*E53 -> 0 | J53: =SUM(F53:I53) -> 0 | L53: =J53-K53-'PARCELA 2'!K53-'PARCELA 3'!K53-'PARCELA 4'!K53-'PARCELA 5'!K53-'PARCELA 6'!K53-'PARCELA 7'!K53-'PARCELA 8'!K53-'PARCELA 9'!K53-'PARCELA 10'!K53-'PARCELA 11'!K53 -> 0
B54: 8 | E54: ='PARCELA 1'!E10+'PARCELA 2'!E10+'PARCELA 3'!E10+'PARCELA 4'!E10+'PARCELA 5'!E10+'PARCELA 6'!E10+'PARCELA 7'!E10+'PARCELA 8'!E10+'PARCELA 9'!E10+'PARCELA 10'!E10+'PARCELA 11'!E10+'PARCELA 12'!E10 -> 0 | F54: =$F$2*E54 -> 0 | G54: =$G$2*E54 -> 0 | H54: =$H$2*E54 -> 0 | I54: =$I$2*E54 -> 0 | J54: =SUM(F54:I54) -> 0 | L54: =J54-K54-'PARCELA 2'!K54-'PARCELA 3'!K54-'PARCELA 4'!K54-'PARCELA 5'!K54-'PARCELA 6'!K54-'PARCELA 7'!K54-'PARCELA 8'!K54-'PARCELA 9'!K54-'PARCELA 10'!K54-'PARCELA 11'!K54 -> 0
B55: 9 | E55: ='PARCELA 1'!E11+'PARCELA 2'!E11+'PARCELA 3'!E11+'PARCELA 4'!E11+'PARCELA 5'!E11+'PARCELA 6'!E11+'PARCELA 7'!E11+'PARCELA 8'!E11+'PARCELA 9'!E11+'PARCELA 10'!E11+'PARCELA 11'!E11+'PARCELA 12'!E11 -> 0 | F55: =$F$2*E55 -> 0 | G55: =$G$2*E55 -> 0 | H55: =$H$2*E55 -> 0 | I55: =$I$2*E55 -> 0 | J55: =SUM(F55:I55) -> 0 | L55: =J55-K55-'PARCELA 2'!K55-'PARCELA 3'!K55-'PARCELA 4'!K55-'PARCELA 5'!K55-'PARCELA 6'!K55-'PARCELA 7'!K55-'PARCELA 8'!K55-'PARCELA 9'!K55-'PARCELA 10'!K55-'PARCELA 11'!K55 -> 0
B56: 10 | E56: ='PARCELA 1'!E12+'PARCELA 2'!E12+'PARCELA 3'!E12+'PARCELA 4'!E12+'PARCELA 5'!E12+'PARCELA 6'!E12+'PARCELA 7'!E12+'PARCELA 8'!E12+'PARCELA 9'!E12+'PARCELA 10'!E12+'PARCELA 11'!E12+'PARCELA 12'!E12 -> 0 | F56: =$F$2*E56 -> 0 | G56: =$G$2*E56 -> 0 | H56: =$H$2*E56 -> 0 | I56: =$I$2*E56 -> 0 | J56: =SUM(F56:I56) -> 0 | L56: =J56-K56-'PARCELA 2'!K56-'PARCELA 3'!K56-'PARCELA 4'!K56-'PARCELA 5'!K56-'PARCELA 6'!K56-'PARCELA 7'!K56-'PARCELA 8'!K56-'PARCELA 9'!K56-'PARCELA 10'!K56-'PARCELA 11'!K56 -> 0
B57: 11 | E57: ='PARCELA 1'!E13+'PARCELA 2'!E13+'PARCELA 3'!E13+'PARCELA 4'!E13+'PARCELA 5'!E13+'PARCELA 6'!E13+'PARCELA 7'!E13+'PARCELA 8'!E13+'PARCELA 9'!E13+'PARCELA 10'!E13+'PARCELA 11'!E13+'PARCELA 12'!E13 -> 0 | F57: =$F$2*E57 -> 0 | G57: =$G$2*E57 -> 0 | H57: =$H$2*E57 -> 0 | I57: =$I$2*E57 -> 0 | J57: =SUM(F57:I57) -> 0 | L57: =J57-K57-'PARCELA 2'!K57-'PARCELA 3'!K57-'PARCELA 4'!K57-'PARCELA 5'!K57-'PARCELA 6'!K57-'PARCELA 7'!K57-'PARCELA 8'!K57-'PARCELA 9'!K57-'PARCELA 10'!K57-'PARCELA 11'!K57 -> 0
B58: 12 | E58: ='PARCELA 1'!E14+'PARCELA 2'!E14+'PARCELA 3'!E14+'PARCELA 4'!E14+'PARCELA 5'!E14+'PARCELA 6'!E14+'PARCELA 7'!E14+'PARCELA 8'!E14+'PARCELA 9'!E14+'PARCELA 10'!E14+'PARCELA 11'!E14+'PARCELA 12'!E14 -> 0 | F58: =$F$2*E58 -> 0 | G58: =$G$2*E58 -> 0 | H58: =$H$2*E58 -> 0 | I58: =$I$2*E58 -> 0 | J58: =SUM(F58:I58) -> 0 | L58: =J58-K58-'PARCELA 2'!K58-'PARCELA 3'!K58-'PARCELA 4'!K58-'PARCELA 5'!K58-'PARCELA 6'!K58-'PARCELA 7'!K58-'PARCELA 8'!K58-'PARCELA 9'!K58-'PARCELA 10'!K58-'PARCELA 11'!K58 -> 0
B59: 13 | E59: ='PARCELA 1'!E15+'PARCELA 2'!E15+'PARCELA 3'!E15+'PARCELA 4'!E15+'PARCELA 5'!E15+'PARCELA 6'!E15+'PARCELA 7'!E15+'PARCELA 8'!E15+'PARCELA 9'!E15+'PARCELA 10'!E15+'PARCELA 11'!E15+'PARCELA 12'!E15 -> 0 | F59: =$F$2*E59 -> 0 | G59: =$G$2*E59 -> 0 | H59: =$H$2*E59 -> 0 | I59: =$I$2*E59 -> 0 | J59: =SUM(F59:I59) -> 0 | L59: =J59-K59-'PARCELA 2'!K59-'PARCELA 3'!K59-'PARCELA 4'!K59-'PARCELA 5'!K59-'PARCELA 6'!K59-'PARCELA 7'!K59-'PARCELA 8'!K59-'PARCELA 9'!K59-'PARCELA 10'!K59-'PARCELA 11'!K59 -> 0
... B81: 35 | E81: ='PARCELA 1'!E37+'PARCELA 2'!E37+'PARCELA 3'!E37+'PARCELA 4'!E37+'PARCELA 5'!E37+'PARCELA 6'!E37+'PARCELA 7'!E37+'PARCELA 8'!E37+'PARCELA 9'!E37+'PARCELA 10'!E37+'PARCELA 11'!E37+'PARCELA 12'!E37 -> 0 | F81: =$F$2*E81 -> 0 | G81: =$G$2*E81 -> 0 | H81: =$H$2*E81 -> 0 | I81: =$I$2*E81 -> 0 | J81: =SUM(F81:I81) -> 0 | L81: =J81-K81-'PARCELA 2'!K81-'PARCELA 3'!K81-'PARCELA 4'!K81-'PARCELA 5'!K81-'PARCELA 6'!K81-'PARCELA 7'!K81-'PARCELA 8'!K81-'PARCELA 9'!K81-'PARCELA 10'!K81-'PARCELA 11'!K81 -> 0
B82: Subtotais | E82: =SUM(E47:E81) -> 0 | F82: =SUM(F47:F81) -> 0 | G82: =SUM(G47:G81) -> 0 | H82: =SUM(H47:H81) -> 0 | I82: =SUM(I47:I81) -> 0 | J82: =SUM(J47:J81) -> 0 | K82: =SUM(K47:K81) -> 0 | L82: =SUM(L47:L81) -> 0
B83: Arredondamentos
B84: Total

Sheet PARCELA 13
B1: Ordem | C1: Nome do Empregado | D1: Cargo | E1: Remuneração (Salário base + adicionais ) | F1: 13º salário | G1: Férias e terço constitucional | H1: Multa s/ FGTS e Cont.Social sobre aviso previo indenizado e trabalhado | I1: Submodulo 2.2 sobre férias , um terço constitucional e 13 ° Considerando RAT = 1,00 %, 2,00 % ou 3,00 % | J1: Total a ser provisionado
B2: VOCÊ ESTÁ NA PARCELA DE NÚMERO | D2: =_xlfn.SHEET()-6 -> 13 | E2: 1 | F2: =DADOS!J14 -> 0.0833 | G2: =DADOS!J15 -> 0.121 | H2: =DADOS!J16 -> 0.04 | I2: =DADOS!L24 -> 0.0782 | J2: =SUM(F2:I2) -> 0.3225
B3: 1 | F3: =$F$2*E3 -> 0 | G3: =$G$2*E3 -> 0 | H3: =$H$2*E3 -> 0 | I3: =$I$2*E3 -> 0 | J3: =SUM(F3:I3) -> 0
B4: 2 | F4: =$F$2*E4 -> 0 | G4: =$G$2*E4 -> 0 | H4: =$H$2*E4 -> 0 | I4: =$I$2*E4 -> 0 | J4: =SUM(F4:I4) -> 0
B5: 3 | F5: =$F$2*E5 -> 0 | G5: =$G$2*E5 -> 0 | H5: =$H$2*E5 -> 0 | I5: =$I$2*E5 -> 0 | J5: =SUM(F5:I5) -> 0
B6: 4 | F6: =$F$2*E6 -> 0 | G6: =$G$2*E6 -> 0 | H6: =$H$2*E6 -> 0 | I6: =$I$2*E6 -> 0 | J6: =SUM(F6:I6) -> 0
B7: 5 | F7: =$F$2*E7 -> 0 | G7: =$G$2*E7 -> 0 | H7: =$H$2*E7 -> 0 | I7: =$I$2*E7 -> 0 | J7: =SUM(F7:I7) -> 0
B8: 6 | F8: =$F$2*E8 -> 0 | G8: =$G$2*E8 -> 0 | H8: =$H$2*E8 -> 0 | I8: =$I$2*E8 -> 0 | J8: =SUM(F8:I8) -> 0
B9: 7 | F9: =$F$2*E9 -> 0 | G9: =$G$2*E9 -> 0 | H9: =$H$2*E9 -> 0 | I9: =$I$2*E9 -> 0 | J9: =SUM(F9:I9) -> 0
B10: 8 | F10: =$F$2*E10 -> 0 | G10: =$G$2*E10 -> 0 | H10: =$H$2*E10 -> 0 | I10: =$I$2*E10 -> 0 | J10: =SUM(F10:I10) -> 0
B11: 9 | F11: =$F$2*E11 -> 0 | G11: =$G$2*E11 -> 0 | H11: =$H$2*E11 -> 0 | I11: =$I$2*E11 -> 0 | J11: =SUM(F11:I11) -> 0
B12: 10 | F12: =$F$2*E12 -> 0 | G12: =$G$2*E12 -> 0 | H12: =$H$2*E12 -> 0 | I12: =$I$2*E12 -> 0 | J12: =SUM(F12:I12) -> 0
B13: 11 | F13: =$F$2*E13 -> 0 | G13: =$G$2*E13 -> 0 | H13: =$H$2*E13 -> 0 | I13: =$I$2*E13 -> 0 | J13: =SUM(F13:I13) -> 0
B14: 12 | F14: =$F$2*E14 -> 0 | G14: =$G$2*E14 -> 0 | H14: =$H$2*E14 -> 0 | I14: =$I$2*E14 -> 0 | J14: =SUM(F14:I14) -> 0
... B37: 35 | F37: =$F$2*E37 -> 0 | G37: =$G$2*E37 -> 0 | H37: =$H$2*E37 -> 0 | I37: =$I$2*E37 -> 0 | J37: =SUM(F37:I37) -> 0
B38: TOTAIS | E38: =SUM(E3:E37) -> 0 | F38: =SUM(F3:F37) -> 0 | G38: =SUM(G3:G37) -> 0 | H38: =SUM(H3:H37) -> 0 | I38: =SUM(I3:I37) -> 0 | J38: =SUM(J3:J37) -> 0
B44: TOTAL ACUMULADO
B45: Ref. | C45: Nome do Funcionário | D45: Cargo | E45: Remuneração acumulada (Salário base + adicionais ) | F45: 13º salário | G45: Férias e terço constitucional | H45: Multa s/ FGTS e Cont.Social sobre aviso previo indenizado e trabalhado | I45: Submodulo 2.2 sobre férias , um terço constitucional e 13° | J45: Total a ser provisionado | K45: Total liberado por funcionário | L45: Total provisionado por funcionário
E46: 1 | F46: =F2 -> 0.0833 | G46: =G2 -> 0.121 | H46: =H2 -> 0.04 | I46: =I2 -> 0.0782 | J46: =SUM(F46:I46) -> 0.3225
B47: 1 | E47: ='PARCELA 1'!E3+'PARCELA 2'!E3+'PARCELA 3'!E3+'PARCELA 4'!E3+'PARCELA 5'!E3+'PARCELA 6'!E3+'PARCELA 7'!E3+'PARCELA 8'!E3+'PARCELA 9'!E3+'PARCELA 10'!E3+'PARCELA 11'!E3+'PARCELA 12'!E3+'PARCELA 13'!E3 -> 0 | F47: =$F$46*E47 -> 0 | G47: =$G$46*E47 -> 0 | H47: =$H$46*E47 -> 0 | I47: =$I$46*E47 -> 0 | J47: =SUM(F47:I47) -> 0 | L47: =J47-K47-'PARCELA 2'!K47-'PARCELA 3'!K47-'PARCELA 4'!K47-'PARCELA 5'!K47-'PARCELA 6'!K47-'PARCELA 7'!K47-'PARCELA 8'!K47-'PARCELA 9'!K47-'PARCELA 10'!K47-'PARCELA 11'!K47-'PARCELA 12'!K47 -> 0
B48: 2 | E48: ='PARCELA 1'!E4+'PARCELA 2'!E4+'PARCELA 3'!E4+'PARCELA 4'!E4+'PARCELA 5'!E4+'PARCELA 6'!E4+'PARCELA 7'!E4+'PARCELA 8'!E4+'PARCELA 9'!E4+'PARCELA 10'!E4+'PARCELA 11'!E4+'PARCELA 12'!E4+'PARCELA 13'!E4 -> 0 | F48: =$F$2*E48 -> 0 | G48: =$G$2*E48 -> 0 | H48: =$H$2*E48 -> 0 | I48: =$I$2*E48 -> 0 | J48: =SUM(F48:I48) -> 0 | L48: =J48-K48-'PARCELA 2'!K48-'PARCELA 3'!K48-'PARCELA 4'!K48-'PARCELA 5'!K48-'PARCELA 6'!K48-'PARCELA 7'!K48-'PARCELA 8'!K48-'PARCELA 9'!K48-'PARCELA 10'!K48-'PARCELA 11'!K48-'PARCELA 12'!K48 -> 0
B49: 3 | E49: ='PARCELA 1'!E5+'PARCELA 2'!E5+'PARCELA 3'!E5+'PARCELA 4'!E5+'PARCELA 5'!E5+'PARCELA 6'!E5+'PARCELA 7'!E5+'PARCELA 8'!E5+'PARCELA 9'!E5+'PARCELA 10'!E5+'PARCELA 11'!E5+'PARCELA 12'!E5+'PARCELA 13'!E5 -> 0 | F49: =$F$2*E49 -> 0 | G49: =$G$2*E49 -> 0 | H49: =$H$2*E49 -> 0 | I49: =$I$2*E49 -> 0 | J49: =SUM(F49:I49) -> 0 | L49: =J49-K49-'PARCELA 2'!K49-'PARCELA 3'!K49-'PARCELA 4'!K49-'PARCELA 5'!K49-'PARCELA 6'!K49-'PARCELA 7'!K49-'PARCELA 8'!K49-'PARCELA 9'!K49-'PARCELA 10'!K49-'PARCELA 11'!K49-'PARCELA 12'!K49 -> 0
B50: 4 | E50: ='PARCELA 1'!E6+'PARCELA 2'!E6+'PARCELA 3'!E6+'PARCELA 4'!E6+'PARCELA 5'!E6+'PARCELA 6'!E6+'PARCELA 7'!E6+'PARCELA 8'!E6+'PARCELA 9'!E6+'PARCELA 10'!E6+'PARCELA 11'!E6+'PARCELA 12'!E6+'PARCELA 13'!E6 -> 0 | F50: =$F$2*E50 -> 0 | G50: =$G$2*E50 -> 0 | H50: =$H$2*E50 -> 0 | I50: =$I$2*E50 -> 0 | J50: =SUM(F50:I50) -> 0 | L50: =J50-K50-'PARCELA 2'!K50-'PARCELA 3'!K50-'PARCELA 4'!K50-'PARCELA 5'!K50-'PARCELA 6'!K50-'PARCELA 7'!K50-'PARCELA 8'!K50-'PARCELA 9'!K50-'PARCELA 10'!K50-'PARCELA 11'!K50-'PARCELA 12'!K50 -> 0
B51: 5 | E51: ='PARCELA 1'!E7+'PARCELA 2'!E7+'PARCELA 3'!E7+'PARCELA 4'!E7+'PARCELA 5'!E7+'PARCELA 6'!E7+'PARCELA 7'!E7+'PARCELA 8'!E7+'PARCELA 9'!E7+'PARCELA 10'!E7+'PARCELA 11'!E7+'PARCELA 12'!E7+'PARCELA 13'!E7 -> 0 | F51: =$F$2*E51 -> 0 | G51: =$G$2*E51 -> 0 | H51: =$H$2*E51 -> 0 | I51: =$I$2*E51 -> 0 | J51: =SUM(F51:I51) -> 0 | L51: =J51-K51-'PARCELA 2'!K51-'PARCELA 3'!K51-'PARCELA 4'!K51-'PARCELA 5'!K51-'PARCELA 6'!K51-'PARCELA 7'!K51-'PARCELA 8'!K51-'PARCELA 9'!K51-'PARCELA 10'!K51-'PARCELA 11'!K51-'PARCELA 12'!K51 -> 0
B52: 6 | E52: ='PARCELA 1'!E8+'PARCELA 2'!E8+'PARCELA 3'!E8+'PARCELA 4'!E8+'PARCELA 5'!E8+'PARCELA 6'!E8+'PARCELA 7'!E8+'PARCELA 8'!E8+'PARCELA 9'!E8+'PARCELA 10'!E8+'PARCELA 11'!E8+'PARCELA 12'!E8+'PARCELA 13'!E8 -> 0 | F52: =$F$2*E52 -> 0 | G52: =$G$2*E52 -> 0 | H52: =$H$2*E52 -> 0 | I52: =$I$2*E52 -> 0 | J52: =SUM(F52:I52) -> 0 | L52: =J52-K52-'PARCELA 2'!K52-'PARCELA 3'!K52-'PARCELA 4'!K52-'PARCELA 5'!K52-'PARCELA 6'!K52-'PARCELA 7'!K52-'PARCELA 8'!K52-'PARCELA 9'!K52-'PARCELA 10'!K52-'PARCELA 11'!K52-'PARCELA 12'!K52 -> 0
B53: 7 | E53: ='PARCELA 1'!E9+'PARCELA 2'!E9+'PARCELA 3'!E9+'PARCELA 4'!E9+'PARCELA 5'!E9+'PARCELA 6'!E9+'PARCELA 7'!E9+'PARCELA 8'!E9+'PARCELA 9'!E9+'PARCELA 10'!E9+'PARCELA 11'!E9+'PARCELA 12'!E9+'PARCELA 13'!E9 -> 0 | F53: =$F$2*E53 -> 0 | G53: =$G$2*E53 -> 0 | H53: =$H$2*E53 -> 0 | I53: =$I$2*E53 -> 0 | J53: =SUM(F53:I53) -> 0 | L53: =J53-K53-'PARCELA 2'!K53-'PARCELA 3'!K53-'PARCELA 4'!K53-'PARCELA 5'!K53-'PARCELA 6'!K53-'PARCELA 7'!K53-'PARCELA 8'!K53-'PARCELA 9'!K53-'PARCELA 10'!K53-'PARCELA 11'!K53-'PARCELA 12'!K53 -> 0
B54: 8 | E54: ='PARCELA 1'!E10+'PARCELA 2'!E10+'PARCELA 3'!E10+'PARCELA 4'!E10+'PARCELA 5'!E10+'PARCELA 6'!E10+'PARCELA 7'!E10+'PARCELA 8'!E10+'PARCELA 9'!E10+'PARCELA 10'!E10+'PARCELA 11'!E10+'PARCELA 12'!E10+'PARCELA 13'!E10 -> 0 | F54: =$F$2*E54 -> 0 | G54: =$G$2*E54 -> 0 | H54: =$H$2*E54 -> 0 | I54: =$I$2*E54 -> 0 | J54: =SUM(F54:I54) -> 0 | L54: =J54-K54-'PARCELA 2'!K54-'PARCELA 3'!K54-'PARCELA 4'!K54-'PARCELA 5'!K54-'PARCELA 6'!K54-'PARCELA 7'!K54-'PARCELA 8'!K54-'PARCELA 9'!K54-'PARCELA 10'!K54-'PARCELA 11'!K54-'PARCELA 12'!K54 -> 0
B55: 9 | E55: ='PARCELA 1'!E11+'PARCELA 2'!E11+'PARCELA 3'!E11+'PARCELA 4'!E11+'PARCELA 5'!E11+'PARCELA 6'!E11+'PARCELA 7'!E11+'PARCELA 8'!E11+'PARCELA 9'!E11+'PARCELA 10'!E11+'PARCELA 11'!E11+'PARCELA 12'!E11+'PARCELA 13'!E11 -> 0 | F55: =$F$2*E55 -> 0 | G55: =$G$2*E55 -> 0 | H55: =$H$2*E55 -> 0 | I55: =$I$2*E55 -> 0 | J55: =SUM(F55:I55) -> 0 | L55: =J55-K55-'PARCELA 2'!K55-'PARCELA 3'!K55-'PARCELA 4'!K55-'PARCELA 5'!K55-'PARCELA 6'!K55-'PARCELA 7'!K55-'PARCELA 8'!K55-'PARCELA 9'!K55-'PARCELA 10'!K55-'PARCELA 11'!K55-'PARCELA 12'!K55 -> 0
B56: 10 | E56: ='PARCELA 1'!E12+'PARCELA 2'!E12+'PARCELA 3'!E12+'PARCELA 4'!E12+'PARCELA 5'!E12+'PARCELA 6'!E12+'PARCELA 7'!E12+'PARCELA 8'!E12+'PARCELA 9'!E12+'PARCELA 10'!E12+'PARCELA 11'!E12+'PARCELA 12'!E12+'PARCELA 13'!E12 -> 0 | F56: =$F$2*E56 -> 0 | G56: =$G$2*E56 -> 0 | H56: =$H$2*E56 -> 0 | I56: =$I$2*E56 -> 0 | J56: =SUM(F56:I56) -> 0 | L56: =J56-K56-'PARCELA 2'!K56-'PARCELA 3'!K56-'PARCELA 4'!K56-'PARCELA 5'!K56-'PARCELA 6'!K56-'PARCELA 7'!K56-'PARCELA 8'!K56-'PARCELA 9'!K56-'PARCELA 10'!K56-'PARCELA 11'!K56-'PARCELA 12'!K56 -> 0
B57: 11 | E57: ='PARCELA 1'!E13+'PARCELA 2'!E13+'PARCELA 3'!E13+'PARCELA 4'!E13+'PARCELA 5'!E13+'PARCELA 6'!E13+'PARCELA 7'!E13+'PARCELA 8'!E13+'PARCELA 9'!E13+'PARCELA 10'!E13+'PARCELA 11'!E13+'PARCELA 12'!E13+'PARCELA 13'!E13 -> 0 | F57: =$F$2*E57 -> 0 | G57: =$G$2*E57 -> 0 | H57: =$H$2*E57 -> 0 | I57: =$I$2*E57 -> 0 | J57: =SUM(F57:I57) -> 0 | L57: =J57-K57-'PARCELA 2'!K57-'PARCELA 3'!K57-'PARCELA 4'!K57-'PARCELA 5'!K57-'PARCELA 6'!K57-'PARCELA 7'!K57-'PARCELA 8'!K57-'PARCELA 9'!K57-'PARCELA 10'!K57-'PARCELA 11'!K57-'PARCELA 12'!K57 -> 0
B58: 12 | E58: ='PARCELA 1'!E14+'PARCELA 2'!E14+'PARCELA 3'!E14+'PARCELA 4'!E14+'PARCELA 5'!E14+'PARCELA 6'!E14+'PARCELA 7'!E14+'PARCELA 8'!E14+'PARCELA 9'!E14+'PARCELA 10'!E14+'PARCELA 11'!E14+'PARCELA 12'!E14+'PARCELA 13'!E14 -> 0 | F58: =$F$2*E58 -> 0 | G58: =$G$2*E58 -> 0 | H58: =$H$2*E58 -> 0 | I58: =$I$2*E58 -> 0 | J58: =SUM(F58:I58) -> 0 | L58: =J58-K58-'PARCELA 2'!K58-'PARCELA 3'!K58-'PARCELA 4'!K58-'PARCELA 5'!K58-'PARCELA 6'!K58-'PARCELA 7'!K58-'PARCELA 8'!K58-'PARCELA 9'!K58-'PARCELA 10'!K58-'PARCELA 11'!K58-'PARCELA 12'!K58 -> 0
B59: 13 | E59: ='PARCELA 1'!E15+'PARCELA 2'!E15+'PARCELA 3'!E15+'PARCELA 4'!E15+'PARCELA 5'!E15+'PARCELA 6'!E15+'PARCELA 7'!E15+'PARCELA 8'!E15+'PARCELA 9'!E15+'PARCELA 10'!E15+'PARCELA 11'!E15+'PARCELA 12'!E15+'PARCELA 13'!E15 -> 0 | F59: =$F$2*E59 -> 0 | G59: =$G$2*E59 -> 0 | H59: =$H$2*E59 -> 0 | I59: =$I$2*E59 -> 0 | J59: =SUM(F59:I59) -> 0 | L59: =J59-K59-'PARCELA 2'!K59-'PARCELA 3'!K59-'PARCELA 4'!K59-'PARCELA 5'!K59-'PARCELA 6'!K59-'PARCELA 7'!K59-'PARCELA 8'!K59-'PARCELA 9'!K59-'PARCELA 10'!K59-'PARCELA 11'!K59-'PARCELA 12'!K59 -> 0
... B81: 35 | E81: ='PARCELA 1'!E37+'PARCELA 2'!E37+'PARCELA 3'!E37+'PARCELA 4'!E37+'PARCELA 5'!E37+'PARCELA 6'!E37+'PARCELA 7'!E37+'PARCELA 8'!E37+'PARCELA 9'!E37+'PARCELA 10'!E37+'PARCELA 11'!E37+'PARCELA 12'!E37+'PARCELA 13'!E37 -> 0 | F81: =$F$2*E81 -> 0 | G81: =$G$2*E81 -> 0 | H81: =$H$2*E81 -> 0 | I81: =$I$2*E81 -> 0 | J81: =SUM(F81:I81) -> 0 | L81: =J81-K81-'PARCELA 2'!K81-'PARCELA 3'!K81-'PARCELA 4'!K81-'PARCELA 5'!K81-'PARCELA 6'!K81-'PARCELA 7'!K81-'PARCELA 8'!K81-'PARCELA 9'!K81-'PARCELA 10'!K81-'PARCELA 11'!K81-'PARCELA 12'!K81 -> 0
B82: Subtotais | E82: =SUM(E47:E81) -> 0 | F82: =SUM(F47:F81) -> 0 | G82: =SUM(G47:G81) -> 0 | H82: =SUM(H47:H81) -> 0 | I82: =SUM(I47:I81) -> 0 | J82: =SUM(J47:J81) -> 0 | K82: =SUM(K47:K81) -> 0 | L82: =SUM(L47:L81) -> 0
B83: Arredondamentos
B84: Total

Sheet PARCELA 14
B1: Ordem | C1: Nome do Empregado | D1: Cargo | E1: Remuneração (Salário base + adicionais ) | F1: 13º salário | G1: Férias e terço constitucional | H1: Multa s/ FGTS e Cont.Social sobre aviso previo indenizado e trabalhado | I1: Submodulo 2.2 sobre férias , um terço constitucional e 13 ° Considerando RAT = 1,00 %, 2,00 % ou 3,00 % | J1: Total a ser provisionado
B2: VOCÊ ESTÁ NA PARCELA DE NÚMERO | D2: =_xlfn.SHEET()-6 -> 14 | E2: 1 | F2: =DADOS!J14 -> 0.0833 | G2: =DADOS!J15 -> 0.121 | H2: =DADOS!J16 -> 0.04 | I2: =DADOS!L24 -> 0.0782 | J2: =SUM(F2:I2) -> 0.3225
B3: 1 | F3: =$F$2*E3 -> 0 | G3: =$G$2*E3 -> 0 | H3: =$H$2*E3 -> 0 | I3: =$I$2*E3 -> 0 | J3: =SUM(F3:I3) -> 0
B4: 2 | F4: =$F$2*E4 -> 0 | G4: =$G$2*E4 -> 0 | H4: =$H$2*E4 -> 0 | I4: =$I$2*E4 -> 0 | J4: =SUM(F4:I4) -> 0
B5: 3 | F5: =$F$2*E5 -> 0 | G5: =$G$2*E5 -> 0 | H5: =$H$2*E5 -> 0 | I5: =$I$2*E5 -> 0 | J5: =SUM(F5:I5) -> 0
B6: 4 | F6: =$F$2*E6 -> 0 | G6: =$G$2*E6 -> 0 | H6: =$H$2*E6 -> 0 | I6: =$I$2*E6 -> 0 | J6: =SUM(F6:I6) -> 0
B7: 5 | F7: =$F$2*E7 -> 0 | G7: =$G$2*E7 -> 0 | H7: =$H$2*E7 -> 0 | I7: =$I$2*E7 -> 0 | J7: =SUM(F7:I7) -> 0
B8: 6 | F8: =$F$2*E8 -> 0 | G8: =$G$2*E8 -> 0 | H8: =$H$2*E8 -> 0 | I8: =$I$2*E8 -> 0 | J8: =SUM(F8:I8) -> 0
B9: 7 | F9: =$F$2*E9 -> 0 | G9: =$G$2*E9 -> 0 | H9: =$H$2*E9 -> 0 | I9: =$I$2*E9 -> 0 | J9: =SUM(F9:I9) -> 0
B10: 8 | F10: =$F$2*E10 -> 0 | G10: =$G$2*E10 -> 0 | H10: =$H$2*E10 -> 0 | I10: =$I$2*E10 -> 0 | J10: =SUM(F10:I10) -> 0
B11: 9 | F11: =$F$2*E11 -> 0 | G11: =$G$2*E11 -> 0 | H11: =$H$2*E11 -> 0 | I11: =$I$2*E11 -> 0 | J11: =SUM(F11:I11) -> 0
B12: 10 | F12: =$F$2*E12 -> 0 | G12: =$G$2*E12 -> 0 | H12: =$H$2*E12 -> 0 | I12: =$I$2*E12 -> 0 | J12: =SUM(F12:I12) -> 0
B13: 11 | F13: =$F$2*E13 -> 0 | G13: =$G$2*E13 -> 0 | H13: =$H$2*E13 -> 0 | I13: =$I$2*E13 -> 0 | J13: =SUM(F13:I13) -> 0
B14: 12 | F14: =$F$2*E14 -> 0 | G14: =$G$2*E14 -> 0 | H14: =$H$2*E14 -> 0 | I14: =$I$2*E14 -> 0 | J14: =SUM(F14:I14) -> 0
... B37: 35 | F37: =$F$2*E37 -> 0 | G37: =$G$2*E37 -> 0 | H37: =$H$2*E37 -> 0 | I37: =$I$2*E37 -> 0 | J37: =SUM(F37:I37) -> 0
B38: TOTAIS | E38: =SUM(E3:E37) -> 0 | F38: =SUM(F3:F37) -> 0 | G38: =SUM(G3:G37) -> 0 | H38: =SUM(H3:H37) -> 0 | I38: =SUM(I3:I37) -> 0 | J38: =SUM(J3:J37) -> 0
B44: TOTAL ACUMULADO
B45: Ref. | C45: Nome do Funcionário | D45: Cargo | E45: Remuneração acumulada (Salário base + adicionais ) | F45: 13º salário | G45: Férias e terço constitucional | H45: Multa s/ FGTS e Cont.Social sobre aviso previo indenizado e trabalhado | I45: Submodulo 2.2 sobre férias , um terço constitucional e 13° | J45: Total a ser provisionado | K45: Total liberado por funcionário | L45: Total provisionado por funcionário
E46: 1 | F46: =F2 -> 0.0833 | G46: =G2 -> 0.121 | H46: =H2 -> 0.04 | I46: =I2 -> 0.0782 | J46: =SUM(F46:I46) -> 0.3225
B47: 1 | E47: ='PARCELA 1'!E3+'PARCELA 2'!E3+'PARCELA 3'!E3+'PARCELA 4'!E3+'PARCELA 5'!E3+'PARCELA 6'!E3+'PARCELA 7'!E3+'PARCELA 8'!E3+'PARCELA 9'!E3+'PARCELA 10'!E3+'PARCELA 11'!E3+'PARCELA 12'!E3+'PARCELA 13'!E3+'PARCELA 14'!E3 -> 0 | F47: =$F$46*E47 -> 0 | G47: =$G$46*E47 -> 0 | H47: =$H$46*E47 -> 0 | I47: =$I$46*E47 -> 0 | J47: =SUM(F47:I47) -> 0 | L47: =J47-K47-'PARCELA 2'!K47-'PARCELA 3'!K47-'PARCELA 4'!K47-'PARCELA 5'!K47-'PARCELA 6'!K47-'PARCELA 7'!K47-'PARCELA 8'!K47-'PARCELA 9'!K47-'PARCELA 10'!K47-'PARCELA 11'!K47-'PARCELA 12'!K47-'PARCELA 13'!K47 -> 0
B48: 2 | E48: ='PARCELA 1'!E4+'PARCELA 2'!E4+'PARCELA 3'!E4+'PARCELA 4'!E4+'PARCELA 5'!E4+'PARCELA 6'!E4+'PARCELA 7'!E4+'PARCELA 8'!E4+'PARCELA 9'!E4+'PARCELA 10'!E4+'PARCELA 11'!E4+'PARCELA 12'!E4+'PARCELA 13'!E4+'PARCELA 14'!E4 -> 0 | F48: =$F$2*E48 -> 0 | G48: =$G$2*E48 -> 0 | H48: =$H$2*E48 -> 0 | I48: =$I$2*E48 -> 0 | J48: =SUM(F48:I48) -> 0 | L48: =J48-K48-'PARCELA 2'!K48-'PARCELA 3'!K48-'PARCELA 4'!K48-'PARCELA 5'!K48-'PARCELA 6'!K48-'PARCELA 7'!K48-'PARCELA 8'!K48-'PARCELA 9'!K48-'PARCELA 10'!K48-'PARCELA 11'!K48-'PARCELA 12'!K48-'PARCELA 13'!K48 -> 0
B49: 3 | E49: ='PARCELA 1'!E5+'PARCELA 2'!E5+'PARCELA 3'!E5+'PARCELA 4'!E5+'PARCELA 5'!E5+'PARCELA 6'!E5+'PARCELA 7'!E5+'PARCELA 8'!E5+'PARCELA 9'!E5+'PARCELA 10'!E5+'PARCELA 11'!E5+'PARCELA 12'!E5+'PARCELA 13'!E5+'PARCELA 14'!E5 -> 0 | F49: =$F$2*E49 -> 0 | G49: =$G$2*E49 -> 0 | H49: =$H$2*E49 -> 0 | I49: =$I$2*E49 -> 0 | J49: =SUM(F49:I49) -> 0 | L49: =J49-K49-'PARCELA 2'!K49-'PARCELA 3'!K49-'PARCELA 4'!K49-'PARCELA 5'!K49-'PARCELA 6'!K49-'PARCELA 7'!K49-'PARCELA 8'!K49-'PARCELA 9'!K49-'PARCELA 10'!K49-'PARCELA 11'!K49-'PARCELA 12'!K49-'PARCELA 13'!K49 -> 0
B50: 4 | E50: ='PARCELA 1'!E6+'PARCELA 2'!E6+'PARCELA 3'!E6+'PARCELA 4'!E6+'PARCELA 5'!E6+'PARCELA 6'!E6+'PARCELA 7'!E6+'PARCELA 8'!E6+'PARCELA 9'!E6+'PARCELA 10'!E6+'PARCELA 11'!E6+'PARCELA 12'!E6+'PARCELA 13'!E6+'PARCELA 14'!E6 -> 0 | F50: =$F$2*E50 -> 0 | G50: =$G$2*E50 -> 0 | H50: =$H$2*E50 -> 0 | I50: =$I$2*E50 -> 0 | J50: =SUM(F50:I50) -> 0 | L50: =J50-K50-'PARCELA 2'!K50-'PARCELA 3'!K50-'PARCELA 4'!K50-'PARCELA 5'!K50-'PARCELA 6'!K50-'PARCELA 7'!K50-'PARCELA 8'!K50-'PARCELA 9'!K50-'PARCELA 10'!K50-'PARCELA 11'!K50-'PARCELA 12'!K50-'PARCELA 13'!K50 -> 0
B51: 5 | E51: ='PARCELA 1'!E7+'PARCELA 2'!E7+'PARCELA 3'!E7+'PARCELA 4'!E7+'PARCELA 5'!E7+'PARCELA 6'!E7+'PARCELA 7'!E7+'PARCELA 8'!E7+'PARCELA 9'!E7+'PARCELA 10'!E7+'PARCELA 11'!E7+'PARCELA 12'!E7+'PARCELA 13'!E7+'PARCELA 14'!E7 -> 0 | F51: =$F$2*E51 -> 0 | G51: =$G$2*E51 -> 0 | H51: =$H$2*E51 -> 0 | I51: =$I$2*E51 -> 0 | J51: =SUM(F51:I51) -> 0 | L51: =J51-K51-'PARCELA 2'!K51-'PARCELA 3'!K51-'PARCELA 4'!K51-'PARCELA 5'!K51-'PARCELA 6'!K51-'PARCELA 7'!K51-'PARCELA 8'!K51-'PARCELA 9'!K51-'PARCELA 10'!K51-'PARCELA 11'!K51-'PARCELA 12'!K51-'PARCELA 13'!K51 -> 0
B52: 6 | E52: ='PARCELA 1'!E8+'PARCELA 2'!E8+'PARCELA 3'!E8+'PARCELA 4'!E8+'PARCELA 5'!E8+'PARCELA 6'!E8+'PARCELA 7'!E8+'PARCELA 8'!E8+'PARCELA 9'!E8+'PARCELA 10'!E8+'PARCELA 11'!E8+'PARCELA 12'!E8+'PARCELA 13'!E8+'PARCELA 14'!E8 -> 0 | F52: =$F$2*E52 -> 0 | G52: =$G$2*E52 -> 0 | H52: =$H$2*E52 -> 0 | I52: =$I$2*E52 -> 0 | J52: =SUM(F52:I52) -> 0 | L52: =J52-K52-'PARCELA 2'!K52-'PARCELA 3'!K52-'PARCELA 4'!K52-'PARCELA 5'!K52-'PARCELA 6'!K52-'PARCELA 7'!K52-'PARCELA 8'!K52-'PARCELA 9'!K52-'PARCELA 10'!K52-'PARCELA 11'!K52-'PARCELA 12'!K52-'PARCELA 13'!K52 -> 0
B53: 7 | E53: ='PARCELA 1'!E9+'PARCELA 2'!E9+'PARCELA 3'!E9+'PARCELA 4'!E9+'PARCELA 5'!E9+'PARCELA 6'!E9+'PARCELA 7'!E9+'PARCELA 8'!E9+'PARCELA 9'!E9+'PARCELA 10'!E9+'PARCELA 11'!E9+'PARCELA 12'!E9+'PARCELA 13'!E9+'PARCELA 14'!E9 -> 0 | F53: =$F$2*E53 -> 0 | G53: =$G$2*E53 -> 0 | H53: =$H$2*E53 -> 0 | I53: =$I$2*E53 -> 0 | J53: =SUM(F53:I53) -> 0 | L53: =J53-K53-'PARCELA 2'!K53-'PARCELA 3'!K53-'PARCELA 4'!K53-'PARCELA 5'!K53-'PARCELA 6'!K53-'PARCELA 7'!K53-'PARCELA 8'!K53-'PARCELA 9'!K53-'PARCELA 10'!K53-'PARCELA 11'!K53-'PARCELA 12'!K53-'PARCELA 13'!K53 -> 0
B54: 8 | E54: ='PARCELA 1'!E10+'PARCELA 2'!E10+'PARCELA 3'!E10+'PARCELA 4'!E10+'PARCELA 5'!E10+'PARCELA 6'!E10+'PARCELA 7'!E10+'PARCELA 8'!E10+'PARCELA 9'!E10+'PARCELA 10'!E10+'PARCELA 11'!E10+'PARCELA 12'!E10+'PARCELA 13'!E10+'PARCELA 14'!E10 -> 0 | F54: =$F$2*E54 -> 0 | G54: =$G$2*E54 -> 0 | H54: =$H$2*E54 -> 0 | I54: =$I$2*E54 -> 0 | J54: =SUM(F54:I54) -> 0 | L54: =J54-K54-'PARCELA 2'!K54-'PARCELA 3'!K54-'PARCELA 4'!K54-'PARCELA 5'!K54-'PARCELA 6'!K54-'PARCELA 7'!K54-'PARCELA 8'!K54-'PARCELA 9'!K54-'PARCELA 10'!K54-'PARCELA 11'!K54-'PARCELA 12'!K54-'PARCELA 13'!K54 -> 0
B55: 9 | E55: ='PARCELA 1'!E11+'PARCELA 2'!E11+'PARCELA 3'!E11+'PARCELA 4'!E11+'PARCELA 5'!E11+'PARCELA 6'!E11+'PARCELA 7'!E11+'PARCELA 8'!E11+'PARCELA 9'!E11+'PARCELA 10'!E11+'PARCELA 11'!E11+'PARCELA 12'!E11+'PARCELA 13'!E11+'PARCELA 14'!E11 -> 0 | F55: =$F$2*E55 -> 0 | G55: =$G$2*E55 -> 0 | H55: =$H$2*E55 -> 0 | I55: =$I$2*E55 -> 0 | J55: =SUM(F55:I55) -> 0 | L55: =J55-K55-'PARCELA 2'!K55-'PARCELA 3'!K55-'PARCELA 4'!K55-'PARCELA 5'!K55-'PARCELA 6'!K55-'PARCELA 7'!K55-'PARCELA 8'!K55-'PARCELA 9'!K55-'PARCELA 10'!K55-'PARCELA 11'!K55-'PARCELA 12'!K55-'PARCELA 13'!K55 -> 0
B56: 10 | E56: ='PARCELA 1'!E12+'PARCELA 2'!E12+'PARCELA 3'!E12+'PARCELA 4'!E12+'PARCELA 5'!E12+'PARCELA 6'!E12+'PARCELA 7'!E12+'PARCELA 8'!E12+'PARCELA 9'!E12+'PARCELA 10'!E12+'PARCELA 11'!E12+'PARCELA 12'!E12+'PARCELA 13'!E12+'PARCELA 14'!E12 -> 0 | F56: =$F$2*E56 -> 0 | G56: =$G$2*E56 -> 0 | H56: =$H$2*E56 -> 0 | I56: =$I$2*E56 -> 0 | J56: =SUM(F56:I56) -> 0 | L56: =J56-K56-'PARCELA 2'!K56-'PARCELA 3'!K56-'PARCELA 4'!K56-'PARCELA 5'!K56-'PARCELA 6'!K56-'PARCELA 7'!K56-'PARCELA 8'!K56-'PARCELA 9'!K56-'PARCELA 10'!K56-'PARCELA 11'!K56-'PARCELA 12'!K56-'PARCELA 13'!K56 -> 0
B57: 11 | E57: ='PARCELA 1'!E13+'PARCELA 2'!E13+'PARCELA 3'!E13+'PARCELA 4'!E13+'PARCELA 5'!E13+'PARCELA 6'!E13+'PARCELA 7'!E13+'PARCELA 8'!E13+'PARCELA 9'!E13+'PARCELA 10'!E13+'PARCELA 11'!E13+'PARCELA 12'!E13+'PARCELA 13'!E13+'PARCELA 14'!E13 -> 0 | F57: =$F$2*E57 -> 0 | G57: =$G$2*E57 -> 0 | H57: =$H$2*E57 -> 0 | I57: =$I$2*E57 -> 0 | J57: =SUM(F57:I57) -> 0 | L57: =J57-K57-'PARCELA 2'!K57-'PARCELA 3'!K57-'PARCELA 4'!K57-'PARCELA 5'!K57-'PARCELA 6'!K57-'PARCELA 7'!K57-'PARCELA 8'!K57-'PARCELA 9'!K57-'PARCELA 10'!K57-'PARCELA 11'!K57-'PARCELA 12'!K57-'PARCELA 13'!K57 -> 0
B58: 12 | E58: ='PARCELA 1'!E14+'PARCELA 2'!E14+'PARCELA 3'!E14+'PARCELA 4'!E14+'PARCELA 5'!E14+'PARCELA 6'!E14+'PARCELA 7'!E14+'PARCELA 8'!E14+'PARCELA 9'!E14+'PARCELA 10'!E14+'PARCELA 11'!E14+'PARCELA 12'!E14+'PARCELA 13'!E14+'PARCELA 14'!E14 -> 0 | F58: =$F$2*E58 -> 0 | G58: =$G$2*E58 -> 0 | H58: =$H$2*E58 -> 0 | I58: =$I$2*E58 -> 0 | J58: =SUM(F58:I58) -> 0 | L58: =J58-K58-'PARCELA 2'!K58-'PARCELA 3'!K58-'PARCELA 4'!K58-'PARCELA 5'!K58-'PARCELA 6'!K58-'PARCELA 7'!K58-'PARCELA 8'!K58-'PARCELA 9'!K58-'PARCELA 10'!K58-'PARCELA 11'!K58-'PARCELA 12'!K58-'PARCELA 13'!K58 -> 0
B59: 13 | E59: ='PARCELA 1'!E15+'PARCELA 2'!E15+'PARCELA 3'!E15+'PARCELA 4'!E15+'PARCELA 5'!E15+'PARCELA 6'!E15+'PARCELA 7'!E15+'PARCELA 8'!E15+'PARCELA 9'!E15+'PARCELA 10'!E15+'PARCELA 11'!E15+'PARCELA 12'!E15+'PARCELA 13'!E15+'PARCELA 14'!E15 -> 0 | F59: =$F$2*E59 -> 0 | G59: =$G$2*E59 -> 0 | H59: =$H$2*E59 -> 0 | I59: =$I$2*E59 -> 0 | J59: =SUM(F59:I59) -> 0 | L59: =J59-K59-'PARCELA 2'!K59-'PARCELA 3'!K59-'PARCELA 4'!K59-'PARCELA 5'!K59-'PARCELA 6'!K59-'PARCELA 7'!K59-'PARCELA 8'!K59-'PARCELA 9'!K59-'PARCELA 10'!K59-'PARCELA 11'!K59-'PARCELA 12'!K59-'PARCELA 13'!K59 -> 0
... B81: 35 | E81: ='PARCELA 1'!E37+'PARCELA 2'!E37+'PARCELA 3'!E37+'PARCELA 4'!E37+'PARCELA 5'!E37+'PARCELA 6'!E37+'PARCELA 7'!E37+'PARCELA 8'!E37+'PARCELA 9'!E37+'PARCELA 10'!E37+'PARCELA 11'!E37+'PARCELA 12'!E37+'PARCELA 13'!E37+'PARCELA 14'!E37 -> 0 | F81: =$F$2*E81 -> 0 | G81: =$G$2*E81 -> 0 | H81: =$H$2*E81 -> 0 | I81: =$I$2*E81 -> 0 | J81: =SUM(F81:I81) -> 0 | L81: =J81-K81-'PARCELA 2'!K81-'PARCELA 3'!K81-'PARCELA 4'!K81-'PARCELA 5'!K81-'PARCELA 6'!K81-'PARCELA 7'!K81-'PARCELA 8'!K81-'PARCELA 9'!K81-'PARCELA 10'!K81-'PARCELA 11'!K81-'PARCELA 12'!K81-'PARCELA 13'!K81 -> 0
B82: Subtotais | E82: =SUM(E47:E81) -> 0 | F82: =SUM(F47:F81) -> 0 | G82: =SUM(G47:G81) -> 0 | H82: =SUM(H47:H81) -> 0 | I82: =SUM(I47:I81) -> 0 | J82: =SUM(J47:J81) -> 0 | K82: =SUM(K47:K81) -> 0 | L82: =SUM(L47:L81) -> 0
B83: Arredondamentos
B84: Total

Sheet PARCELA 15
B1: Ordem | C1: Nome do Empregado | D1: Cargo | E1: Remuneração (Salário base + adicionais ) | F1: 13º salário | G1: Férias e terço constitucional | H1: Multa s/ FGTS e Cont.Social sobre aviso previo indenizado e trabalhado | I1: Submodulo 2.2 sobre férias , um terço constitucional e 13 ° Considerando RAT = 1,00 %, 2,00 % ou 3,00 % | J1: Total a ser provisionado
B2: VOCÊ ESTÁ NA PARCELA DE NÚMERO | D2: =_xlfn.SHEET()-6 -> 15 | E2: 1 | F2: =DADOS!J14 -> 0.0833 | G2: =DADOS!J15 -> 0.121 | H2: =DADOS!J16 -> 0.04 | I2: =DADOS!L24 -> 0.0782 | J2: =SUM(F2:I2) -> 0.3225
B3: 1 | F3: =$F$2*E3 -> 0 | G3: =$G$2*E3 -> 0 | H3: =$H$2*E3 -> 0 | I3: =$I$2*E3 -> 0 | J3: =SUM(F3:I3) -> 0
B4: 2 | F4: =$F$2*E4 -> 0 | G4: =$G$2*E4 -> 0 | H4: =$H$2*E4 -> 0 | I4: =$I$2*E4 -> 0 | J4: =SUM(F4:I4) -> 0
B5: 3 | F5: =$F$2*E5 -> 0 | G5: =$G$2*E5 -> 0 | H5: =$H$2*E5 -> 0 | I5: =$I$2*E5 -> 0 | J5: =SUM(F5:I5) -> 0
B6: 4 | F6: =$F$2*E6 -> 0 | G6: =$G$2*E6 -> 0 | H6: =$H$2*E6 -> 0 | I6: =$I$2*E6 -> 0 | J6: =SUM(F6:I6) -> 0
B7: 5 | F7: =$F$2*E7 -> 0 | G7: =$G$2*E7 -> 0 | H7: =$H$2*E7 -> 0 | I7: =$I$2*E7 -> 0 | J7: =SUM(F7:I7) -> 0
B8: 6 | F8: =$F$2*E8 -> 0 | G8: =$G$2*E8 -> 0 | H8: =$H$2*E8 -> 0 | I8: =$I$2*E8 -> 0 | J8: =SUM(F8:I8) -> 0
B9: 7 | F9: =$F$2*E9 -> 0 | G9: =$G$2*E9 -> 0 | H9: =$H$2*E9 -> 0 | I9: =$I$2*E9 -> 0 | J9: =SUM(F9:I9) -> 0
B10: 8 | F10: =$F$2*E10 -> 0 | G10: =$G$2*E10 -> 0 | H10: =$H$2*E10 -> 0 | I10: =$I$2*E10 -> 0 | J10: =SUM(F10:I10) -> 0
B11: 9 | F11: =$F$2*E11 -> 0 | G11: =$G$2*E11 -> 0 | H11: =$H$2*E11 -> 0 | I11: =$I$2*E11 -> 0 | J11: =SUM(F11:I11) -> 0
B12: 10 | F12: =$F$2*E12 -> 0 | G12: =$G$2*E12 -> 0 | H12: =$H$2*E12 -> 0 | I12: =$I$2*E12 -> 0 | J12: =SUM(F12:I12) -> 0
B13: 11 | F13: =$F$2*E13 -> 0 | G13: =$G$2*E13 -> 0 | H13: =$H$2*E13 -> 0 | I13: =$I$2*E13 -> 0 | J13: =SUM(F13:I13) -> 0
B14: 12 | F14: =$F$2*E14 -> 0 | G14: =$G$2*E14 -> 0 | H14: =$H$2*E14 -> 0 | I14: =$I$2*E14 -> 0 | J14: =SUM(F14:I14) -> 0
... B37: 35 | F37: =$F$2*E37 -> 0 | G37: =$G$2*E37 -> 0 | H37: =$H$2*E37 -> 0 | I37: =$I$2*E37 -> 0 | J37: =SUM(F37:I37) -> 0
B38: TOTAIS | E38: =SUM(E3:E37) -> 0 | F38: =SUM(F3:F37) -> 0 | G38: =SUM(G3:G37) -> 0 | H38: =SUM(H3:H37) -> 0 | I38: =SUM(I3:I37) -> 0 | J38: =SUM(J3:J37) -> 0
B44: TOTAL ACUMULADO
B45: Ref. | C45: Nome do Funcionário | D45: Cargo | E45: Remuneração acumulada (Salário base + adicionais ) | F45: 13º salário | G45: Férias e terço constitucional | H45: Multa s/ FGTS e Cont.Social sobre aviso previo indenizado e trabalhado | I45: Submodulo 2.2 sobre férias , um terço constitucional e 13° | J45: Total a ser provisionado | K45: Total liberado por funcionário | L45: Total provisionado por funcionário
E46: 1 | F46: =F2 -> 0.0833 | G46: =G2 -> 0.121 | H46: =H2 -> 0.04 | I46: =I2 -> 0.0782 | J46: =SUM(F46:I46) -> 0.3225
B47: 1 | E47: ='PARCELA 1'!E3+'PARCELA 2'!E3+'PARCELA 3'!E3+'PARCELA 4'!E3+'PARCELA 5'!E3+'PARCELA 6'!E3+'PARCELA 7'!E3+'PARCELA 8'!E3+'PARCELA 9'!E3+'PARCELA 10'!E3+'PARCELA 11'!E3+'PARCELA 12'!E3+'PARCELA 13'!E3+'PARCELA 14'!E3+'PARCELA 15'!E3 -> 0 | F47: =$F$46*E47 -> 0 | G47: =$G$46*E47 -> 0 | H47: =$H$46*E47 -> 0 | I47: =$I$46*E47 -> 0 | J47: =SUM(F47:I47) -> 0 | L47: =J47-K47-'PARCELA 2'!K47-'PARCELA 3'!K47-'PARCELA 4'!K47-'PARCELA 5'!K47-'PARCELA 6'!K47-'PARCELA 7'!K47-'PARCELA 8'!K47-'PARCELA 9'!K47-'PARCELA 10'!K47-'PARCELA 11'!K47-'PARCELA 12'!K47-'PARCELA 13'!K47-'PARCELA 14'!K47 -> 0
B48: 2 | E48: ='PARCELA 1'!E4+'PARCELA 2'!E4+'PARCELA 3'!E4+'PARCELA 4'!E4+'PARCELA 5'!E4+'PARCELA 6'!E4+'PARCELA 7'!E4+'PARCELA 8'!E4+'PARCELA 9'!E4+'PARCELA 10'!E4+'PARCELA 11'!E4+'PARCELA 12'!E4+'PARCELA 13'!E4+'PARCELA 14'!E4+'PARCELA 15'!E4 -> 0 | F48: =$F$2*E48 -> 0 | G48: =$G$2*E48 -> 0 | H48: =$H$2*E48 -> 0 | I48: =$I$2*E48 -> 0 | J48: =SUM(F48:I48) -> 0 | L48: =J48-K48-'PARCELA 2'!K48-'PARCELA 3'!K48-'PARCELA 4'!K48-'PARCELA 5'!K48-'PARCELA 6'!K48-'PARCELA 7'!K48-'PARCELA 8'!K48-'PARCELA 9'!K48-'PARCELA 10'!K48-'PARCELA 11'!K48-'PARCELA 12'!K48-'PARCELA 13'!K48-'PARCELA 14'!K48 -> 0
B49: 3 | E49: ='PARCELA 1'!E5+'PARCELA 2'!E5+'PARCELA 3'!E5+'PARCELA 4'!E5+'PARCELA 5'!E5+'PARCELA 6'!E5+'PARCELA 7'!E5+'PARCELA 8'!E5+'PARCELA 9'!E5+'PARCELA 10'!E5+'PARCELA 11'!E5+'PARCELA 12'!E5+'PARCELA 13'!E5+'PARCELA 14'!E5+'PARCELA 15'!E5 -> 0 | F49: =$F$2*E49 -> 0 | G49: =$G$2*E49 -> 0 | H49: =$H$2*E49 -> 0 | I49: =$I$2*E49 -> 0 | J49: =SUM(F49:I49) -> 0 | L49: =J49-K49-'PARCELA 2'!K49-'PARCELA 3'!K49-'PARCELA 4'!K49-'PARCELA 5'!K49-'PARCELA 6'!K49-'PARCELA 7'!K49-'PARCELA 8'!K49-'PARCELA 9'!K49-'PARCELA 10'!K49-'PARCELA 11'!K49-'PARCELA 12'!K49-'PARCELA 13'!K49-'PARCELA 14'!K49 -> 0
B50: 4 | E50: ='PARCELA 1'!E6+'PARCELA 2'!E6+'PARCELA 3'!E6+'PARCELA 4'!E6+'PARCELA 5'!E6+'PARCELA 6'!E6+'PARCELA 7'!E6+'PARCELA 8'!E6+'PARCELA 9'!E6+'PARCELA 10'!E6+'PARCELA 11'!E6+'PARCELA 12'!E6+'PARCELA 13'!E6+'PARCELA 14'!E6+'PARCELA 15'!E6 -> 0 | F50: =$F$2*E50 -> 0 | G50: =$G$2*E50 -> 0 | H50: =$H$2*E50 -> 0 | I50: =$I$2*E50 -> 0 | J50: =SUM(F50:I50) -> 0 | L50: =J50-K50-'PARCELA 2'!K50-'PARCELA 3'!K50-'PARCELA 4'!K50-'PARCELA 5'!K50-'PARCELA 6'!K50-'PARCELA 7'!K50-'PARCELA 8'!K50-'PARCELA 9'!K50-'PARCELA 10'!K50-'PARCELA 11'!K50-'PARCELA 12'!K50-'PARCELA 13'!K50-'PARCELA 14'!K50 -> 0
B51: 5 | E51: ='PARCELA 1'!E7+'PARCELA 2'!E7+'PARCELA 3'!E7+'PARCELA 4'!E7+'PARCELA 5'!E7+'PARCELA 6'!E7+'PARCELA 7'!E7+'PARCELA 8'!E7+'PARCELA 9'!E7+'PARCELA 10'!E7+'PARCELA 11'!E7+'PARCELA 12'!E7+'PARCELA 13'!E7+'PARCELA 14'!E7+'PARCELA 15'!E7 -> 0 | F51: =$F$2*E51 -> 0 | G51: =$G$2*E51 -> 0 | H51: =$H$2*E51 -> 0 | I51: =$I$2*E51 -> 0 | J51: =SUM(F51:I51) -> 0 | L51: =J51-K51-'PARCELA 2'!K51-'PARCELA 3'!K51-'PARCELA 4'!K51-'PARCELA 5'!K51-'PARCELA 6'!K51-'PARCELA 7'!K51-'PARCELA 8'!K51-'PARCELA 9'!K51-'PARCELA 10'!K51-'PARCELA 11'!K51-'PARCELA 12'!K51-'PARCELA 13'!K51-'PARCELA 14'!K51 -> 0
B52: 6 | E52: ='PARCELA 1'!E8+'PARCELA 2'!E8+'PARCELA 3'!E8+'PARCELA 4'!E8+'PARCELA 5'!E8+'PARCELA 6'!E8+'PARCELA 7'!E8+'PARCELA 8'!E8+'PARCELA 9'!E8+'PARCELA 10'!E8+'PARCELA 11'!E8+'PARCELA 12'!E8+'PARCELA 13'!E8+'PARCELA 14'!E8+'PARCELA 15'!E8 -> 0 | F52: =$F$2*E52 -> 0 | G52: =$G$2*E52 -> 0 | H52: =$H$2*E52 -> 0 | I52: =$I$2*E52 -> 0 | J52: =SUM(F52:I52) -> 0 | L52: =J52-K52-'PARCELA 2'!K52-'PARCELA 3'!K52-'PARCELA 4'!K52-'PARCELA 5'!K52-'PARCELA 6'!K52-'PARCELA 7'!K52-'PARCELA 8'!K52-'PARCELA 9'!K52-'PARCELA 10'!K52-'PARCELA 11'!K52-'PARCELA 12'!K52-'PARCELA 13'!K52-'PARCELA 14'!K52 -> 0
B53: 7 | E53: ='PARCELA 1'!E9+'PARCELA 2'!E9+'PARCELA 3'!E9+'PARCELA 4'!E9+'PARCELA 5'!E9+'PARCELA 6'!E9+'PARCELA 7'!E9+'PARCELA 8'!E9+'PARCELA 9'!E9+'PARCELA 10'!E9+'PARCELA 11'!E9+'PARCELA 12'!E9+'PARCELA 13'!E9+'PARCELA 14'!E9+'PARCELA 15'!E9 -> 0 | F53: =$F$2*E53 -> 0 | G53: =$G$2*E53 -> 0 | H53: =$H$2*E53 -> 0 | I53: =$I$2*E53 -> 0 | J53: =SUM(F53:I53) -> 0 | L53: =J53-K53-'PARCELA 2'!K53-'PARCELA 3'!K53-'PARCELA 4'!K53-'PARCELA 5'!K53-'PARCELA 6'!K53-'PARCELA 7'!K53-'PARCELA 8'!K53-'PARCELA 9'!K53-'PARCELA 10'!K53-'PARCELA 11'!K53-'PARCELA 12'!K53-'PARCELA 13'!K53-'PARCELA 14'!K53 -> 0
B54: 8 | E54: ='PARCELA 1'!E10+'PARCELA 2'!E10+'PARCELA 3'!E10+'PARCELA 4'!E10+'PARCELA 5'!E10+'PARCELA 6'!E10+'PARCELA 7'!E10+'PARCELA 8'!E10+'PARCELA 9'!E10+'PARCELA 10'!E10+'PARCELA 11'!E10+'PARCELA 12'!E10+'PARCELA 13'!E10+'PARCELA 14'!E10+'PARCELA 15'!E10 -> 0 | F54: =$F$2*E54 -> 0 | G54: =$G$2*E54 -> 0 | H54: =$H$2*E54 -> 0 | I54: =$I$2*E54 -> 0 | J54: =SUM(F54:I54) -> 0 | L54: =J54-K54-'PARCELA 2'!K54-'PARCELA 3'!K54-'PARCELA 4'!K54-'PARCELA 5'!K54-'PARCELA 6'!K54-'PARCELA 7'!K54-'PARCELA 8'!K54-'PARCELA 9'!K54-'PARCELA 10'!K54-'PARCELA 11'!K54-'PARCELA 12'!K54-'PARCELA 13'!K54-'PARCELA 14'!K54 -> 0
B55: 9 | E55: ='PARCELA 1'!E11+'PARCELA 2'!E11+'PARCELA 3'!E11+'PARCELA 4'!E11+'PARCELA 5'!E11+'PARCELA 6'!E11+'PARCELA 7'!E11+'PARCELA 8'!E11+'PARCELA 9'!E11+'PARCELA 10'!E11+'PARCELA 11'!E11+'PARCELA 12'!E11+'PARCELA 13'!E11+'PARCELA 14'!E11+'PARCELA 15'!E11 -> 0 | F55: =$F$2*E55 -> 0 | G55: =$G$2*E55 -> 0 | H55: =$H$2*E55 -> 0 | I55: =$I$2*E55 -> 0 | J55: =SUM(F55:I55) -> 0 | L55: =J55-K55-'PARCELA 2'!K55-'PARCELA 3'!K55-'PARCELA 4'!K55-'PARCELA 5'!K55-'PARCELA 6'!K55-'PARCELA 7'!K55-'PARCELA 8'!K55-'PARCELA 9'!K55-'PARCELA 10'!K55-'PARCELA 11'!K55-'PARCELA 12'!K55-'PARCELA 13'!K55-'PARCELA 14'!K55 -> 0
B56: 10 | E56: ='PARCELA 1'!E12+'PARCELA 2'!E12+'PARCELA 3'!E12+'PARCELA 4'!E12+'PARCELA 5'!E12+'PARCELA 6'!E12+'PARCELA 7'!E12+'PARCELA 8'!E12+'PARCELA 9'!E12+'PARCELA 10'!E12+'PARCELA 11'!E12+'PARCELA 12'!E12+'PARCELA 13'!E12+'PARCELA 14'!E12+'PARCELA 15'!E12 -> 0 | F56: =$F$2*E56 -> 0 | G56: =$G$2*E56 -> 0 | H56: =$H$2*E56 -> 0 | I56: =$I$2*E56 -> 0 | J56: =SUM(F56:I56) -> 0 | L56: =J56-K56-'PARCELA 2'!K56-'PARCELA 3'!K56-'PARCELA 4'!K56-'PARCELA 5'!K56-'PARCELA 6'!K56-'PARCELA 7'!K56-'PARCELA 8'!K56-'PARCELA 9'!K56-'PARCELA 10'!K56-'PARCELA 11'!K56-'PARCELA 12'!K56-'PARCELA 13'!K56-'PARCELA 14'!K56 -> 0
B57: 11 | E57: ='PARCELA 1'!E13+'PARCELA 2'!E13+'PARCELA 3'!E13+'PARCELA 4'!E13+'PARCELA 5'!E13+'PARCELA 6'!E13+'PARCELA 7'!E13+'PARCELA 8'!E13+'PARCELA 9'!E13+'PARCELA 10'!E13+'PARCELA 11'!E13+'PARCELA 12'!E13+'PARCELA 13'!E13+'PARCELA 14'!E13+'PARCELA 15'!E13 -> 0 | F57: =$F$2*E57 -> 0 | G57: =$G$2*E57 -> 0 | H57: =$H$2*E57 -> 0 | I57: =$I$2*E57 -> 0 | J57: =SUM(F57:I57) -> 0 | L57: =J57-K57-'PARCELA 2'!K57-'PARCELA 3'!K57-'PARCELA 4'!K57-'PARCELA 5'!K57-'PARCELA 6'!K57-'PARCELA 7'!K57-'PARCELA 8'!K57-'PARCELA 9'!K57-'PARCELA 10'!K57-'PARCELA 11'!K57-'PARCELA 12'!K57-'PARCELA 13'!K57-'PARCELA 14'!K57 -> 0
B58: 12 | E58: ='PARCELA 1'!E14+'PARCELA 2'!E14+'PARCELA 3'!E14+'PARCELA 4'!E14+'PARCELA 5'!E14+'PARCELA 6'!E14+'PARCELA 7'!E14+'PARCELA 8'!E14+'PARCELA 9'!E14+'PARCELA 10'!E14+'PARCELA 11'!E14+'PARCELA 12'!E14+'PARCELA 13'!E14+'PARCELA 14'!E14+'PARCELA 15'!E14 -> 0 | F58: =$F$2*E58 -> 0 | G58: =$G$2*E58 -> 0 | H58: =$H$2*E58 -> 0 | I58: =$I$2*E58 -> 0 | J58: =SUM(F58:I58) -> 0 | L58: =J58-K58-'PARCELA 2'!K58-'PARCELA 3'!K58-'PARCELA 4'!K58-'PARCELA 5'!K58-'PARCELA 6'!K58-'PARCELA 7'!K58-'PARCELA 8'!K58-'PARCELA 9'!K58-'PARCELA 10'!K58-'PARCELA 11'!K58-'PARCELA 12'!K58-'PARCELA 13'!K58-'PARCELA 14'!K58 -> 0
B59: 13 | E59: ='PARCELA 1'!E15+'PARCELA 2'!E15+'PARCELA 3'!E15+'PARCELA 4'!E15+'PARCELA 5'!E15+'PARCELA 6'!E15+'PARCELA 7'!E15+'PARCELA 8'!E15+'PARCELA 9'!E15+'PARCELA 10'!E15+'PARCELA 11'!E15+'PARCELA 12'!E15+'PARCELA 13'!E15+'PARCELA 14'!E15+'PARCELA 15'!E15 -> 0 | F59: =$F$2*E59 -> 0 | G59: =$G$2*E59 -> 0 | H59: =$H$2*E59 -> 0 | I59: =$I$2*E59 -> 0 | J59: =SUM(F59:I59) -> 0 | L59: =J59-K59-'PARCELA 2'!K59-'PARCELA 3'!K59-'PARCELA 4'!K59-'PARCELA 5'!K59-'PARCELA 6'!K59-'PARCELA 7'!K59-'PARCELA 8'!K59-'PARCELA 9'!K59-'PARCELA 10'!K59-'PARCELA 11'!K59-'PARCELA 12'!K59-'PARCELA 13'!K59-'PARCELA 14'!K59 -> 0
... B81: 35 | E81: ='PARCELA 1'!E37+'PARCELA 2'!E37+'PARCELA 3'!E37+'PARCELA 4'!E37+'PARCELA 5'!E37+'PARCELA 6'!E37+'PARCELA 7'!E37+'PARCELA 8'!E37+'PARCELA 9'!E37+'PARCELA 10'!E37+'PARCELA 11'!E37+'PARCELA 12'!E37+'PARCELA 13'!E37+'PARCELA 14'!E37+'PARCELA 15'!E37 -> 0 | F81: =$F$2*E81 -> 0 | G81: =$G$2*E81 -> 0 | H81: =$H$2*E81 -> 0 | I81: =$I$2*E81 -> 0 | J81: =SUM(F81:I81) -> 0 | L81: =J81-K81-'PARCELA 2'!K81-'PARCELA 3'!K81-'PARCELA 4'!K81-'PARCELA 5'!K81-'PARCELA 6'!K81-'PARCELA 7'!K81-'PARCELA 8'!K81-'PARCELA 9'!K81-'PARCELA 10'!K81-'PARCELA 11'!K81-'PARCELA 12'!K81-'PARCELA 13'!K81-'PARCELA 14'!K81 -> 0
B82: Subtotais | E82: =SUM(E47:E81) -> 0 | F82: =SUM(F47:F81) -> 0 | G82: =SUM(G47:G81) -> 0 | H82: =SUM(H47:H81) -> 0 | I82: =SUM(I47:I81) -> 0 | J82: =SUM(J47:J81) -> 0 | K82: =SUM(K47:K81) -> 0 | L82: =SUM(L47:L81) -> 0
B83: Arredondamentos
B84: Total

Sheet PARCELA 16
B1: Ordem | C1: Nome do Empregado | D1: Cargo | E1: Remuneração (Salário base + adicionais ) | F1: 13º salário | G1: Férias e terço constitucional | H1: Multa s/ FGTS e Cont.Social sobre aviso previo indenizado e trabalhado | I1: Submodulo 2.2 sobre férias , um terço constitucional e 13 ° Considerando RAT = 1,00 %, 2,00 % ou 3,00 % | J1: Total a ser provisionado
B2: VOCÊ ESTÁ NA PARCELA DE NÚMERO | D2: =_xlfn.SHEET()-6 -> 16 | E2: 1 | F2: =DADOS!J14 -> 0.0833 | G2: =DADOS!J15 -> 0.121 | H2: =DADOS!J16 -> 0.04 | I2: =DADOS!L24 -> 0.0782 | J2: =SUM(F2:I2) -> 0.3225
B3: 1 | F3: =$F$2*E3 -> 0 | G3: =$G$2*E3 -> 0 | H3: =$H$2*E3 -> 0 | I3: =$I$2*E3 -> 0 | J3: =SUM(F3:I3) -> 0
B4: 2 | F4: =$F$2*E4 -> 0 | G4: =$G$2*E4 -> 0 | H4: =$H$2*E4 -> 0 | I4: =$I$2*E4 -> 0 | J4: =SUM(F4:I4) -> 0
B5: 3 | F5: =$F$2*E5 -> 0 | G5: =$G$2*E5 -> 0 | H5: =$H$2*E5 -> 0 | I5: =$I$2*E5 -> 0 | J5: =SUM(F5:I5) -> 0
B6: 4 | F6: =$F$2*E6 -> 0 | G6: =$G$2*E6 -> 0 | H6: =$H$2*E6 -> 0 | I6: =$I$2*E6 -> 0 | J6: =SUM(F6:I6) -> 0
B7: 5 | F7: =$F$2*E7 -> 0 | G7: =$G$2*E7 -> 0 | H7: =$H$2*E7 -> 0 | I7: =$I$2*E7 -> 0 | J7: =SUM(F7:I7) -> 0
B8: 6 | F8: =$F$2*E8 -> 0 | G8: =$G$2*E8 -> 0 | H8: =$H$2*E8 -> 0 | I8: =$I$2*E8 -> 0 | J8: =SUM(F8:I8) -> 0
B9: 7 | F9: =$F$2*E9 -> 0 | G9: =$G$2*E9 -> 0 | H9: =$H$2*E9 -> 0 | I9: =$I$2*E9 -> 0 | J9: =SUM(F9:I9) -> 0
B10: 8 | F10: =$F$2*E10 -> 0 | G10: =$G$2*E10 -> 0 | H10: =$H$2*E10 -> 0 | I10: =$I$2*E10 -> 0 | J10: =SUM(F10:I10) -> 0
B11: 9 | F11: =$F$2*E11 -> 0 | G11: =$G$2*E11 -> 0 | H11: =$H$2*E11 -> 0 | I11: =$I$2*E11 -> 0 | J11: =SUM(F11:I11) -> 0
B12: 10 | F12: =$F$2*E12 -> 0 | G12: =$G$2*E12 -> 0 | H12: =$H$2*E12 -> 0 | I12: =$I$2*E12 -> 0 | J12: =SUM(F12:I12) -> 0
B13: 11 | F13: =$F$2*E13 -> 0 | G13: =$G$2*E13 -> 0 | H13: =$H$2*E13 -> 0 | I13: =$I$2*E13 -> 0 | J13: =SUM(F13:I13) -> 0
B14: 12 | F14: =$F$2*E14 -> 0 | G14: =$G$2*E14 -> 0 | H14: =$H$2*E14 -> 0 | I14: =$I$2*E14 -> 0 | J14: =SUM(F14:I14) -> 0
... B37: 35 | F37: =$F$2*E37 -> 0 | G37: =$G$2*E37 -> 0 | H37: =$H$2*E37 -> 0 | I37: =$I$2*E37 -> 0 | J37: =SUM(F37:I37) -> 0
B38: TOTAIS | E38: =SUM(E3:E37) -> 0 | F38: =SUM(F3:F37) -> 0 | G38: =SUM(G3:G37) -> 0 | H38: =SUM(H3:H37) -> 0 | I38: =SUM(I3:I37) -> 0 | J38: =SUM(J3:J37) -> 0
B44: TOTAL ACUMULADO
B45: Ref. | C45: Nome do Funcionário | D45: Cargo | E45: Remuneração acumulada (Salário base + adicionais ) | F45: 13º salário | G45: Férias e terço constitucional | H45: Multa s/ FGTS e Cont.Social sobre aviso previo indenizado e trabalhado | I45: Submodulo 2.2 sobre férias , um terço constitucional e 13° | J45: Total a ser provisionado | K45: Total liberado por funcionário | L45: Total provisionado por funcionário
E46: 1 | F46: =F2 -> 0.0833 | G46: =G2 -> 0.121 | H46: =H2 -> 0.04 | I46: =I2 -> 0.0782 | J46: =SUM(F46:I46) -> 0.3225
B47: 1 | E47: ='PARCELA 1'!E3+'PARCELA 2'!E3+'PARCELA 3'!E3+'PARCELA 4'!E3+'PARCELA 5'!E3+'PARCELA 6'!E3+'PARCELA 7'!E3+'PARCELA 8'!E3+'PARCELA 9'!E3+'PARCELA 10'!E3+'PARCELA 11'!E3+'PARCELA 12'!E3+'PARCELA 13'!E3+'PARCELA 14'!E3+'PARCELA 15'!E3+'PARCELA 16'!E3 -> 0 | F47: =$F$46*E47 -> 0 | G47: =$G$46*E47 -> 0 | H47: =$H$46*E47 -> 0 | I47: =$I$46*E47 -> 0 | J47: =SUM(F47:I47) -> 0 | L47: =J47-K47-'PARCELA 2'!K47-'PARCELA 3'!K47-'PARCELA 4'!K47-'PARCELA 5'!K47-'PARCELA 6'!K47-'PARCELA 7'!K47-'PARCELA 8'!K47-'PARCELA 9'!K47-'PARCELA 10'!K47-'PARCELA 11'!K47-'PARCELA 12'!K47-'PARCELA 13'!K47-'PARCELA 14'!K47-'PARCELA 15'!K47 -> 0
B48: 2 | E48: ='PARCELA 1'!E4+'PARCELA 2'!E4+'PARCELA 3'!E4+'PARCELA 4'!E4+'PARCELA 5'!E4+'PARCELA 6'!E4+'PARCELA 7'!E4+'PARCELA 8'!E4+'PARCELA 9'!E4+'PARCELA 10'!E4+'PARCELA 11'!E4+'PARCELA 12'!E4+'PARCELA 13'!E4+'PARCELA 14'!E4+'PARCELA 15'!E4+'PARCELA 16'!E4 -> 0 | F48: =$F$2*E48 -> 0 | G48: =$G$2*E48 -> 0 | H48: =$H$2*E48 -> 0 | I48: =$I$2*E48 -> 0 | J48: =SUM(F48:I48) -> 0 | L48: =J48-K48-'PARCELA 2'!K48-'PARCELA 3'!K48-'PARCELA 4'!K48-'PARCELA 5'!K48-'PARCELA 6'!K48-'PARCELA 7'!K48-'PARCELA 8'!K48-'PARCELA 9'!K48-'PARCELA 10'!K48-'PARCELA 11'!K48-'PARCELA 12'!K48-'PARCELA 13'!K48-'PARCELA 14'!K48-'PARCELA 15'!K48 -> 0
B49: 3 | E49: ='PARCELA 1'!E5+'PARCELA 2'!E5+'PARCELA 3'!E5+'PARCELA 4'!E5+'PARCELA 5'!E5+'PARCELA 6'!E5+'PARCELA 7'!E5+'PARCELA 8'!E5+'PARCELA 9'!E5+'PARCELA 10'!E5+'PARCELA 11'!E5+'PARCELA 12'!E5+'PARCELA 13'!E5+'PARCELA 14'!E5+'PARCELA 15'!E5+'PARCELA 16'!E5 -> 0 | F49: =$F$2*E49 -> 0 | G49: =$G$2*E49 -> 0 | H49: =$H$2*E49 -> 0 | I49: =$I$2*E49 -> 0 | J49: =SUM(F49:I49) -> 0 | L49: =J49-K49-'PARCELA 2'!K49-'PARCELA 3'!K49-'PARCELA 4'!K49-'PARCELA 5'!K49-'PARCELA 6'!K49-'PARCELA 7'!K49-'PARCELA 8'!K49-'PARCELA 9'!K49-'PARCELA 10'!K49-'PARCELA 11'!K49-'PARCELA 12'!K49-'PARCELA 13'!K49-'PARCELA 14'!K49-'PARCELA 15'!K49 -> 0
B50: 4 | E50: ='PARCELA 1'!E6+'PARCELA 2'!E6+'PARCELA 3'!E6+'PARCELA 4'!E6+'PARCELA 5'!E6+'PARCELA 6'!E6+'PARCELA 7'!E6+'PARCELA 8'!E6+'PARCELA 9'!E6+'PARCELA 10'!E6+'PARCELA 11'!E6+'PARCELA 12'!E6+'PARCELA 13'!E6+'PARCELA 14'!E6+'PARCELA 15'!E6+'PARCELA 16'!E6 -> 0 | F50: =$F$2*E50 -> 0 | G50: =$G$2*E50 -> 0 | H50: =$H$2*E50 -> 0 | I50: =$I$2*E50 -> 0 | J50: =SUM(F50:I50) -> 0 | L50: =J50-K50-'PARCELA 2'!K50-'PARCELA 3'!K50-'PARCELA 4'!K50-'PARCELA 5'!K50-'PARCELA 6'!K50-'PARCELA 7'!K50-'PARCELA 8'!K50-'PARCELA 9'!K50-'PARCELA 10'!K50-'PARCELA 11'!K50-'PARCELA 12'!K50-'PARCELA 13'!K50-'PARCELA 14'!K50-'PARCELA 15'!K50 -> 0
B51: 5 | E51: ='PARCELA 1'!E7+'PARCELA 2'!E7+'PARCELA 3'!E7+'PARCELA 4'!E7+'PARCELA 5'!E7+'PARCELA 6'!E7+'PARCELA 7'!E7+'PARCELA 8'!E7+'PARCELA 9'!E7+'PARCELA 10'!E7+'PARCELA 11'!E7+'PARCELA 12'!E7+'PARCELA 13'!E7+'PARCELA 14'!E7+'PARCELA 15'!E7+'PARCELA 16'!E7 -> 0 | F51: =$F$2*E51 -> 0 | G51: =$G$2*E51 -> 0 | H51: =$H$2*E51 -> 0 | I51: =$I$2*E51 -> 0 | J51: =SUM(F51:I51) -> 0 | L51: =J51-K51-'PARCELA 2'!K51-'PARCELA 3'!K51-'PARCELA 4'!K51-'PARCELA 5'!K51-'PARCELA 6'!K51-'PARCELA 7'!K51-'PARCELA 8'!K51-'PARCELA 9'!K51-'PARCELA 10'!K51-'PARCELA 11'!K51-'PARCELA 12'!K51-'PARCELA 13'!K51-'PARCELA 14'!K51-'PARCELA 15'!K51 -> 0
B52: 6 | E52: ='PARCELA 1'!E8+'PARCELA 2'!E8+'PARCELA 3'!E8+'PARCELA 4'!E8+'PARCELA 5'!E8+'PARCELA 6'!E8+'PARCELA 7'!E8+'PARCELA 8'!E8+'PARCELA 9'!E8+'PARCELA 10'!E8+'PARCELA 11'!E8+'PARCELA 12'!E8+'PARCELA 13'!E8+'PARCELA 14'!E8+'PARCELA 15'!E8+'PARCELA 16'!E8 -> 0 | F52: =$F$2*E52 -> 0 | G52: =$G$2*E52 -> 0 | H52: =$H$2*E52 -> 0 | I52: =$I$2*E52 -> 0 | J52: =SUM(F52:I52) -> 0 | L52: =J52-K52-'PARCELA 2'!K52-'PARCELA 3'!K52-'PARCELA 4'!K52-'PARCELA 5'!K52-'PARCELA 6'!K52-'PARCELA 7'!K52-'PARCELA 8'!K52-'PARCELA 9'!K52-'PARCELA 10'!K52-'PARCELA 11'!K52-'PARCELA 12'!K52-'PARCELA 13'!K52-'PARCELA 14'!K52-'PARCELA 15'!K52 -> 0
B53: 7 | E53: ='PARCELA 1'!E9+'PARCELA 2'!E9+'PARCELA 3'!E9+'PARCELA 4'!E9+'PARCELA 5'!E9+'PARCELA 6'!E9+'PARCELA 7'!E9+'PARCELA 8'!E9+'PARCELA 9'!E9+'PARCELA 10'!E9+'PARCELA 11'!E9+'PARCELA 12'!E9+'PARCELA 13'!E9+'PARCELA 14'!E9+'PARCELA 15'!E9+'PARCELA 16'!E9 -> 0 | F53: =$F$2*E53 -> 0 | G53: =$G$2*E53 -> 0 | H53: =$H$2*E53 -> 0 | I53: =$I$2*E53 -> 0 | J53: =SUM(F53:I53) -> 0 | L53: =J53-K53-'PARCELA 2'!K53-'PARCELA 3'!K53-'PARCELA 4'!K53-'PARCELA 5'!K53-'PARCELA 6'!K53-'PARCELA 7'!K53-'PARCELA 8'!K53-'PARCELA 9'!K53-'PARCELA 10'!K53-'PARCELA 11'!K53-'PARCELA 12'!K53-'PARCELA 13'!K53-'PARCELA 14'!K53-'PARCELA 15'!K53 -> 0
B54: 8 | E54: ='PARCELA 1'!E10+'PARCELA 2'!E10+'PARCELA 3'!E10+'PARCELA 4'!E10+'PARCELA 5'!E10+'PARCELA 6'!E10+'PARCELA 7'!E10+'PARCELA 8'!E10+'PARCELA 9'!E10+'PARCELA 10'!E10+'PARCELA 11'!E10+'PARCELA 12'!E10+'PARCELA 13'!E10+'PARCELA 14'!E10+'PARCELA 15'!E10+'PARCELA 16'!E10 -> 0 | F54: =$F$2*E54 -> 0 | G54: =$G$2*E54 -> 0 | H54: =$H$2*E54 -> 0 | I54: =$I$2*E54 -> 0 | J54: =SUM(F54:I54) -> 0 | L54: =J54-K54-'PARCELA 2'!K54-'PARCELA 3'!K54-'PARCELA 4'!K54-'PARCELA 5'!K54-'PARCELA 6'!K54-'PARCELA 7'!K54-'PARCELA 8'!K54-'PARCELA 9'!K54-'PARCELA 10'!K54-'PARCELA 11'!K54-'PARCELA 12'!K54-'PARCELA 13'!K54-'PARCELA 14'!K54-'PARCELA 15'!K54 -> 0
B55: 9 | E55: ='PARCELA 1'!E11+'PARCELA 2'!E11+'PARCELA 3'!E11+'PARCELA 4'!E11+'PARCELA 5'!E11+'PARCELA 6'!E11+'PARCELA 7'!E11+'PARCELA 8'!E11+'PARCELA 9'!E11+'PARCELA 10'!E11+'PARCELA 11'!E11+'PARCELA 12'!E11+'PARCELA 13'!E11+'PARCELA 14'!E11+'PARCELA 15'!E11+'PARCELA 16'!E11 -> 0 | F55: =$F$2*E55 -> 0 | G55: =$G$2*E55 -> 0 | H55: =$H$2*E55 -> 0 | I55: =$I$2*E55 -> 0 | J55: =SUM(F55:I55) -> 0 | L55: =J55-K55-'PARCELA 2'!K55-'PARCELA 3'!K55-'PARCELA 4'!K55-'PARCELA 5'!K55-'PARCELA 6'!K55-'PARCELA 7'!K55-'PARCELA 8'!K55-'PARCELA 9'!K55-'PARCELA 10'!K55-'PARCELA 11'!K55-'PARCELA 12'!K55-'PARCELA 13'!K55-'PARCELA 14'!K55-'PARCELA 15'!K55 -> 0
B56: 10 | E56: ='PARCELA 1'!E12+'PARCELA 2'!E12+'PARCELA 3'!E12+'PARCELA 4'!E12+'PARCELA 5'!E12+'PARCELA 6'!E12+'PARCELA 7'!E12+'PARCELA 8'!E12+'PARCELA 9'!E12+'PARCELA 10'!E12+'PARCELA 11'!E12+'PARCELA 12'!E12+'PARCELA 13'!E12+'PARCELA 14'!E12+'PARCELA 15'!E12+'PARCELA 16'!E12 -> 0 | F56: =$F$2*E56 -> 0 | G56: =$G$2*E56 -> 0 | H56: =$H$2*E56 -> 0 | I56: =$I$2*E56 -> 0 | J56: =SUM(F56:I56) -> 0 | L56: =J56-K56-'PARCELA 2'!K56-'PARCELA 3'!K56-'PARCELA 4'!K56-'PARCELA 5'!K56-'PARCELA 6'!K56-'PARCELA 7'!K56-'PARCELA 8'!K56-'PARCELA 9'!K56-'PARCELA 10'!K56-'PARCELA 11'!K56-'PARCELA 12'!K56-'PARCELA 13'!K56-'PARCELA 14'!K56-'PARCELA 15'!K56 -> 0
B57: 11 | E57: ='PARCELA 1'!E13+'PARCELA 2'!E13+'PARCELA 3'!E13+'PARCELA 4'!E13+'PARCELA 5'!E13+'PARCELA 6'!E13+'PARCELA 7'!E13+'PARCELA 8'!E13+'PARCELA 9'!E13+'PARCELA 10'!E13+'PARCELA 11'!E13+'PARCELA 12'!E13+'PARCELA 13'!E13+'PARCELA 14'!E13+'PARCELA 15'!E13+'PARCELA 16'!E13 -> 0 | F57: =$F$2*E57 -> 0 | G57: =$G$2*E57 -> 0 | H57: =$H$2*E57 -> 0 | I57: =$I$2*E57 -> 0 | J57: =SUM(F57:I57) -> 0 | L57: =J57-K57-'PARCELA 2'!K57-'PARCELA 3'!K57-'PARCELA 4'!K57-'PARCELA 5'!K57-'PARCELA 6'!K57-'PARCELA 7'!K57-'PARCELA 8'!K57-'PARCELA 9'!K57-'PARCELA 10'!K57-'PARCELA 11'!K57-'PARCELA 12'!K57-'PARCELA 13'!K57-'PARCELA 14'!K57-'PARCELA 15'!K57 -> 0
B58: 12 | E58: ='PARCELA 1'!E14+'PARCELA 2'!E14+'PARCELA 3'!E14+'PARCELA 4'!E14+'PARCELA 5'!E14+'PARCELA 6'!E14+'PARCELA 7'!E14+'PARCELA 8'!E14+'PARCELA 9'!E14+'PARCELA 10'!E14+'PARCELA 11'!E14+'PARCELA 12'!E14+'PARCELA 13'!E14+'PARCELA 14'!E14+'PARCELA 15'!E14+'PARCELA 16'!E14 -> 0 | F58: =$F$2*E58 -> 0 | G58: =$G$2*E58 -> 0 | H58: =$H$2*E58 -> 0 | I58: =$I$2*E58 -> 0 | J58: =SUM(F58:I58) -> 0 | L58: =J58-K58-'PARCELA 2'!K58-'PARCELA 3'!K58-'PARCELA 4'!K58-'PARCELA 5'!K58-'PARCELA 6'!K58-'PARCELA 7'!K58-'PARCELA 8'!K58-'PARCELA 9'!K58-'PARCELA 10'!K58-'PARCELA 11'!K58-'PARCELA 12'!K58-'PARCELA 13'!K58-'PARCELA 14'!K58-'PARCELA 15'!K58 -> 0
B59: 13 | E59: ='PARCELA 1'!E15+'PARCELA 2'!E15+'PARCELA 3'!E15+'PARCELA 4'!E15+'PARCELA 5'!E15+'PARCELA 6'!E15+'PARCELA 7'!E15+'PARCELA 8'!E15+'PARCELA 9'!E15+'PARCELA 10'!E15+'PARCELA 11'!E15+'PARCELA 12'!E15+'PARCELA 13'!E15+'PARCELA 14'!E15+'PARCELA 15'!E15+'PARCELA 16'!E15 -> 0 | F59: =$F$2*E59 -> 0 | G59: =$G$2*E59 -> 0 | H59: =$H$2*E59 -> 0 | I59: =$I$2*E59 -> 0 | J59: =SUM(F59:I59) -> 0 | L59: =J59-K59-'PARCELA 2'!K59-'PARCELA 3'!K59-'PARCELA 4'!K59-'PARCELA 5'!K59-'PARCELA 6'!K59-'PARCELA 7'!K59-'PARCELA 8'!K59-'PARCELA 9'!K59-'PARCELA 10'!K59-'PARCELA 11'!K59-'PARCELA 12'!K59-'PARCELA 13'!K59-'PARCELA 14'!K59-'PARCELA 15'!K59 -> 0
... B81: 35 | E81: ='PARCELA 1'!E37+'PARCELA 2'!E37+'PARCELA 3'!E37+'PARCELA 4'!E37+'PARCELA 5'!E37+'PARCELA 6'!E37+'PARCELA 7'!E37+'PARCELA 8'!E37+'PARCELA 9'!E37+'PARCELA 10'!E37+'PARCELA 11'!E37+'PARCELA 12'!E37+'PARCELA 13'!E37+'PARCELA 14'!E37+'PARCELA 15'!E37+'PARCELA 16'!E37 -> 0 | F81: =$F$2*E81 -> 0 | G81: =$G$2*E81 -> 0 | H81: =$H$2*E81 -> 0 | I81: =$I$2*E81 -> 0 | J81: =SUM(F81:I81) -> 0 | L81: =J81-K81-'PARCELA 2'!K81-'PARCELA 3'!K81-'PARCELA 4'!K81-'PARCELA 5'!K81-'PARCELA 6'!K81-'PARCELA 7'!K81-'PARCELA 8'!K81-'PARCELA 9'!K81-'PARCELA 10'!K81-'PARCELA 11'!K81-'PARCELA 12'!K81-'PARCELA 13'!K81-'PARCELA 14'!K81-'PARCELA 15'!K81 -> 0
B82: Subtotais | E82: =SUM(E47:E81) -> 0 | F82: =SUM(F47:F81) -> 0 | G82: =SUM(G47:G81) -> 0 | H82: =SUM(H47:H81) -> 0 | I82: =SUM(I47:I81) -> 0 | J82: =SUM(J47:J81) -> 0 | K82: =SUM(K47:K81) -> 0 | L82: =SUM(L47:L81) -> 0
B83: Arredondamentos
B84: Total

Sheet PARCELA 17
B1: Ordem | C1: Nome do Empregado | D1: Cargo | E1: Remuneração (Salário base + adicionais ) | F1: 13º salário | G1: Férias e terço constitucional | H1: Multa s/ FGTS e Cont.Social sobre aviso previo indenizado e trabalhado | I1: Submodulo 2.2 sobre férias , um terço constitucional e 13 ° Considerando RAT = 1,00 %, 2,00 % ou 3,00 % | J1: Total a ser provisionado
B2: VOCÊ ESTÁ NA PARCELA DE NÚMERO | D2: =_xlfn.SHEET()-6 -> 17 | E2: 1 | F2: =DADOS!J14 -> 0.0833 | G2: =DADOS!J15 -> 0.121 | H2: =DADOS!J16 -> 0.04 | I2: =DADOS!L24 -> 0.0782 | J2: =SUM(F2:I2) -> 0.3225
B3: 1 | F3: =$F$2*E3 -> 0 | G3: =$G$2*E3 -> 0 | H3: =$H$2*E3 -> 0 | I3: =$I$2*E3 -> 0 | J3: =SUM(F3:I3) -> 0
B4: 2 | F4: =$F$2*E4 -> 0 | G4: =$G$2*E4 -> 0 | H4: =$H$2*E4 -> 0 | I4: =$I$2*E4 -> 0 | J4: =SUM(F4:I4) -> 0
B5: 3 | F5: =$F$2*E5 -> 0 | G5: =$G$2*E5 -> 0 | H5: =$H$2*E5 -> 0 | I5: =$I$2*E5 -> 0 | J5: =SUM(F5:I5) -> 0
B6: 4 | F6: =$F$2*E6 -> 0 | G6: =$G$2*E6 -> 0 | H6: =$H$2*E6 -> 0 | I6: =$I$2*E6 -> 0 | J6: =SUM(F6:I6) -> 0
B7: 5 | F7: =$F$2*E7 -> 0 | G7: =$G$2*E7 -> 0 | H7: =$H$2*E7 -> 0 | I7: =$I$2*E7 -> 0 | J7: =SUM(F7:I7) -> 0
B8: 6 | F8: =$F$2*E8 -> 0 | G8: =$G$2*E8 -> 0 | H8: =$H$2*E8 -> 0 | I8: =$I$2*E8 -> 0 | J8: =SUM(F8:I8) -> 0
B9: 7 | F9: =$F$2*E9 -> 0 | G9: =$G$2*E9 -> 0 | H9: =$H$2*E9 -> 0 | I9: =$I$2*E9 -> 0 | J9: =SUM(F9:I9) -> 0
B10: 8 | F10: =$F$2*E10 -> 0 | G10: =$G$2*E10 -> 0 | H10: =$H$2*E10 -> 0 | I10: =$I$2*E10 -> 0 | J10: =SUM(F10:I10) -> 0
B11: 9 | F11: =$F$2*E11 -> 0 | G11: =$G$2*E11 -> 0 | H11: =$H$2*E11 -> 0 | I11: =$I$2*E11 -> 0 | J11: =SUM(F11:I11) -> 0
B12: 10 | F12: =$F$2*E12 -> 0 | G12: =$G$2*E12 -> 0 | H12: =$H$2*E12 -> 0 | I12: =$I$2*E12 -> 0 | J12: =SUM(F12:I12) -> 0
B13: 11 | F13: =$F$2*E13 -> 0 | G13: =$G$2*E13 -> 0 | H13: =$H$2*E13 -> 0 | I13: =$I$2*E13 -> 0 | J13: =SUM(F13:I13) -> 0
B14: 12 | F14: =$F$2*E14 -> 0 | G14: =$G$2*E14 -> 0 | H14: =$H$2*E14 -> 0 | I14: =$I$2*E14 -> 0 | J14: =SUM(F14:I14) -> 0
... B37: 35 | F37: =$F$2*E37 -> 0 | G37: =$G$2*E37 -> 0 | H37: =$H$2*E37 -> 0 | I37: =$I$2*E37 -> 0 | J37: =SUM(F37:I37) -> 0
B38: TOTAIS | E38: =SUM(E3:E37) -> 0 | F38: =SUM(F3:F37) -> 0 | G38: =SUM(G3:G37) -> 0 | H38: =SUM(H3:H37) -> 0 | I38: =SUM(I3:I37) -> 0 | J38: =SUM(J3:J37) -> 0
B44: TOTAL ACUMULADO
B45: Ref. | C45: Nome do Funcionário | D45: Cargo | E45: Remuneração acumulada (Salário base + adicionais ) | F45: 13º salário | G45: Férias e terço constitucional | H45: Multa s/ FGTS e Cont.Social sobre aviso previo indenizado e trabalhado | I45: Submodulo 2.2 sobre férias , um terço constitucional e 13° | J45: Total a ser provisionado | K45: Total liberado por funcionário | L45: Total provisionado por funcionário
E46: 1 | F46: =F2 -> 0.0833 | G46: =G2 -> 0.121 | H46: =H2 -> 0.04 | I46: =I2 -> 0.0782 | J46: =SUM(F46:I46) -> 0.3225
B47: 1 | E47: ='PARCELA 1'!E3+'PARCELA 2'!E3+'PARCELA 3'!E3+'PARCELA 4'!E3+'PARCELA 5'!E3+'PARCELA 6'!E3+'PARCELA 7'!E3+'PARCELA 8'!E3+'PARCELA 9'!E3+'PARCELA 10'!E3+'PARCELA 11'!E3+'PARCELA 12'!E3+'PARCELA 13'!E3+'PARCELA 14'!E3+'PARCELA 15'!E3+'PARCELA 16'!E3+'PARCELA 17'!E3 -> 0 | F47: =$F$46*E47 -> 0 | G47: =$G$46*E47 -> 0 | H47: =$H$46*E47 -> 0 | I47: =$I$46*E47 -> 0 | J47: =SUM(F47:I47) -> 0 | L47: =J47-K47-'PARCELA 2'!K47-'PARCELA 3'!K47-'PARCELA 4'!K47-'PARCELA 5'!K47-'PARCELA 6'!K47-'PARCELA 7'!K47-'PARCELA 8'!K47-'PARCELA 9'!K47-'PARCELA 10'!K47-'PARCELA 11'!K47-'PARCELA 12'!K47-'PARCELA 13'!K47-'PARCELA 14'!K47-'PARCELA 15'!K47-'PARCELA 16'!K47 -> 0
B48: 2 | E48: ='PARCELA 1'!E4+'PARCELA 2'!E4+'PARCELA 3'!E4+'PARCELA 4'!E4+'PARCELA 5'!E4+'PARCELA 6'!E4+'PARCELA 7'!E4+'PARCELA 8'!E4+'PARCELA 9'!E4+'PARCELA 10'!E4+'PARCELA 11'!E4+'PARCELA 12'!E4+'PARCELA 13'!E4+'PARCELA 14'!E4+'PARCELA 15'!E4+'PARCELA 16'!E4+'PARCELA 17'!E4 -> 0 | F48: =$F$2*E48 -> 0 | G48: =$G$2*E48 -> 0 | H48: =$H$2*E48 -> 0 | I48: =$I$2*E48 -> 0 | J48: =SUM(F48:I48) -> 0 | L48: =J48-K48-'PARCELA 2'!K48-'PARCELA 3'!K48-'PARCELA 4'!K48-'PARCELA 5'!K48-'PARCELA 6'!K48-'PARCELA 7'!K48-'PARCELA 8'!K48-'PARCELA 9'!K48-'PARCELA 10'!K48-'PARCELA 11'!K48-'PARCELA 12'!K48-'PARCELA 13'!K48-'PARCELA 14'!K48-'PARCELA 15'!K48-'PARCELA 16'!K48 -> 0
B49: 3 | E49: ='PARCELA 1'!E5+'PARCELA 2'!E5+'PARCELA 3'!E5+'PARCELA 4'!E5+'PARCELA 5'!E5+'PARCELA 6'!E5+'PARCELA 7'!E5+'PARCELA 8'!E5+'PARCELA 9'!E5+'PARCELA 10'!E5+'PARCELA 11'!E5+'PARCELA 12'!E5+'PARCELA 13'!E5+'PARCELA 14'!E5+'PARCELA 15'!E5+'PARCELA 16'!E5+'PARCELA 17'!E5 -> 0 | F49: =$F$2*E49 -> 0 | G49: =$G$2*E49 -> 0 | H49: =$H$2*E49 -> 0 | I49: =$I$2*E49 -> 0 | J49: =SUM(F49:I49) -> 0 | L49: =J49-K49-'PARCELA 2'!K49-'PARCELA 3'!K49-'PARCELA 4'!K49-'PARCELA 5'!K49-'PARCELA 6'!K49-'PARCELA 7'!K49-'PARCELA 8'!K49-'PARCELA 9'!K49-'PARCELA 10'!K49-'PARCELA 11'!K49-'PARCELA 12'!K49-'PARCELA 13'!K49-'PARCELA 14'!K49-'PARCELA 15'!K49-'PARCELA 16'!K49 -> 0
B50: 4 | E50: ='PARCELA 1'!E6+'PARCELA 2'!E6+'PARCELA 3'!E6+'PARCELA 4'!E6+'PARCELA 5'!E6+'PARCELA 6'!E6+'PARCELA 7'!E6+'PARCELA 8'!E6+'PARCELA 9'!E6+'PARCELA 10'!E6+'PARCELA 11'!E6+'PARCELA 12'!E6+'PARCELA 13'!E6+'PARCELA 14'!E6+'PARCELA 15'!E6+'PARCELA 16'!E6+'PARCELA 17'!E6 -> 0 | F50: =$F$2*E50 -> 0 | G50: =$G$2*E50 -> 0 | H50: =$H$2*E50 -> 0 | I50: =$I$2*E50 -> 0 | J50: =SUM(F50:I50) -> 0 | L50: =J50-K50-'PARCELA 2'!K50-'PARCELA 3'!K50-'PARCELA 4'!K50-'PARCELA 5'!K50-'PARCELA 6'!K50-'PARCELA 7'!K50-'PARCELA 8'!K50-'PARCELA 9'!K50-'PARCELA 10'!K50-'PARCELA 11'!K50-'PARCELA 12'!K50-'PARCELA 13'!K50-'PARCELA 14'!K50-'PARCELA 15'!K50-'PARCELA 16'!K50 -> 0
B51: 5 | E51: ='PARCELA 1'!E7+'PARCELA 2'!E7+'PARCELA 3'!E7+'PARCELA 4'!E7+'PARCELA 5'!E7+'PARCELA 6'!E7+'PARCELA 7'!E7+'PARCELA 8'!E7+'PARCELA 9'!E7+'PARCELA 10'!E7+'PARCELA 11'!E7+'PARCELA 12'!E7+'PARCELA 13'!E7+'PARCELA 14'!E7+'PARCELA 15'!E7+'PARCELA 16'!E7+'PARCELA 17'!E7 -> 0 | F51: =$F$2*E51 -> 0 | G51: =$G$2*E51 -> 0 | H51: =$H$2*E51 -> 0 | I51: =$I$2*E51 -> 0 | J51: =SUM(F51:I51) -> 0 | L51: =J51-K51-'PARCELA 2'!K51-'PARCELA 3'!K51-'PARCELA 4'!K51-'PARCELA 5'!K51-'PARCELA 6'!K51-'PARCELA 7'!K51-'PARCELA 8'!K51-'PARCELA 9'!K51-'PARCELA 10'!K51-'PARCELA 11'!K51-'PARCELA 12'!K51-'PARCELA 13'!K51-'PARCELA 14'!K51-'PARCELA 15'!K51-'PARCELA 16'!K51 -> 0
B52: 6 | E52: ='PARCELA 1'!E8+'PARCELA 2'!E8+'PARCELA 3'!E8+'PARCELA 4'!E8+'PARCELA 5'!E8+'PARCELA 6'!E8+'PARCELA 7'!E8+'PARCELA 8'!E8+'PARCELA 9'!E8+'PARCELA 10'!E8+'PARCELA 11'!E8+'PARCELA 12'!E8+'PARCELA 13'!E8+'PARCELA 14'!E8+'PARCELA 15'!E8+'PARCELA 16'!E8+'PARCELA 17'!E8 -> 0 | F52: =$F$2*E52 -> 0 | G52: =$G$2*E52 -> 0 | H52: =$H$2*E52 -> 0 | I52: =$I$2*E52 -> 0 | J52: =SUM(F52:I52) -> 0 | L52: =J52-K52-'PARCELA 2'!K52-'PARCELA 3'!K52-'PARCELA 4'!K52-'PARCELA 5'!K52-'PARCELA 6'!K52-'PARCELA 7'!K52-'PARCELA 8'!K52-'PARCELA 9'!K52-'PARCELA 10'!K52-'PARCELA 11'!K52-'PARCELA 12'!K52-'PARCELA 13'!K52-'PARCELA 14'!K52-'PARCELA 15'!K52-'PARCELA 16'!K52 -> 0
B53: 7 | E53: ='PARCELA 1'!E9+'PARCELA 2'!E9+'PARCELA 3'!E9+'PARCELA 4'!E9+'PARCELA 5'!E9+'PARCELA 6'!E9+'PARCELA 7'!E9+'PARCELA 8'!E9+'PARCELA 9'!E9+'PARCELA 10'!E9+'PARCELA 11'!E9+'PARCELA 12'!E9+'PARCELA 13'!E9+'PARCELA 14'!E9+'PARCELA 15'!E9+'PARCELA 16'!E9+'PARCELA 17'!E9 -> 0 | F53: =$F$2*E53 -> 0 | G53: =$G$2*E53 -> 0 | H53: =$H$2*E53 -> 0 | I53: =$I$2*E53 -> 0 | J53: =SUM(F53:I53) -> 0 | L53: =J53-K53-'PARCELA 2'!K53-'PARCELA 3'!K53-'PARCELA 4'!K53-'PARCELA 5'!K53-'PARCELA 6'!K53-'PARCELA 7'!K53-'PARCELA 8'!K53-'PARCELA 9'!K53-'PARCELA 10'!K53-'PARCELA 11'!K53-'PARCELA 12'!K53-'PARCELA 13'!K53-'PARCELA 14'!K53-'PARCELA 15'!K53-'PARCELA 16'!K53 -> 0
B54: 8 | E54: ='PARCELA 1'!E10+'PARCELA 2'!E10+'PARCELA 3'!E10+'PARCELA 4'!E10+'PARCELA 5'!E10+'PARCELA 6'!E10+'PARCELA 7'!E10+'PARCELA 8'!E10+'PARCELA 9'!E10+'PARCELA 10'!E10+'PARCELA 11'!E10+'PARCELA 12'!E10+'PARCELA 13'!E10+'PARCELA 14'!E10+'PARCELA 15'!E10+'PARCELA 16'!E10+'PARCELA 17'!E10 -> 0 | F54: =$F$2*E54 -> 0 | G54: =$G$2*E54 -> 0 | H54: =$H$2*E54 -> 0 | I54: =$I$2*E54 -> 0 | J54: =SUM(F54:I54) -> 0 | L54: =J54-K54-'PARCELA 2'!K54-'PARCELA 3'!K54-'PARCELA 4'!K54-'PARCELA 5'!K54-'PARCELA 6'!K54-'PARCELA 7'!K54-'PARCELA 8'!K54-'PARCELA 9'!K54-'PARCELA 10'!K54-'PARCELA 11'!K54-'PARCELA 12'!K54-'PARCELA 13'!K54-'PARCELA 14'!K54-'PARCELA 15'!K54-'PARCELA 16'!K54 -> 0
B55: 9 | E55: ='PARCELA 1'!E11+'PARCELA 2'!E11+'PARCELA 3'!E11+'PARCELA 4'!E11+'PARCELA 5'!E11+'PARCELA 6'!E11+'PARCELA 7'!E11+'PARCELA 8'!E11+'PARCELA 9'!E11+'PARCELA 10'!E11+'PARCELA 11'!E11+'PARCELA 12'!E11+'PARCELA 13'!E11+'PARCELA 14'!E11+'PARCELA 15'!E11+'PARCELA 16'!E11+'PARCELA 17'!E11 -> 0 | F55: =$F$2*E55 -> 0 | G55: =$G$2*E55 -> 0 | H55: =$H$2*E55 -> 0 | I55: =$I$2*E55 -> 0 | J55: =SUM(F55:I55) -> 0 | L55: =J55-K55-'PARCELA 2'!K55-'PARCELA 3'!K55-'PARCELA 4'!K55-'PARCELA 5'!K55-'PARCELA 6'!K55-'PARCELA 7'!K55-'PARCELA 8'!K55-'PARCELA 9'!K55-'PARCELA 10'!K55-'PARCELA 11'!K55-'PARCELA 12'!K55-'PARCELA 13'!K55-'PARCELA 14'!K55-'PARCELA 15'!K55-'PARCELA 16'!K55 -> 0
B56: 10 | E56: ='PARCELA 1'!E12+'PARCELA 2'!E12+'PARCELA 3'!E12+'PARCELA 4'!E12+'PARCELA 5'!E12+'PARCELA 6'!E12+'PARCELA 7'!E12+'PARCELA 8'!E12+'PARCELA 9'!E12+'PARCELA 10'!E12+'PARCELA 11'!E12+'PARCELA 12'!E12+'PARCELA 13'!E12+'PARCELA 14'!E12+'PARCELA 15'!E12+'PARCELA 16'!E12+'PARCELA 17'!E12 -> 0 | F56: =$F$2*E56 -> 0 | G56: =$G$2*E56 -> 0 | H56: =$H$2*E56 -> 0 | I56: =$I$2*E56 -> 0 | J56: =SUM(F56:I56) -> 0 | L56: =J56-K56-'PARCELA 2'!K56-'PARCELA 3'!K56-'PARCELA 4'!K56-'PARCELA 5'!K56-'PARCELA 6'!K56-'PARCELA 7'!K56-'PARCELA 8'!K56-'PARCELA 9'!K56-'PARCELA 10'!K56-'PARCELA 11'!K56-'PARCELA 12'!K56-'PARCELA 13'!K56-'PARCELA 14'!K56-'PARCELA 15'!K56-'PARCELA 16'!K56 -> 0
B57: 11 | E57: ='PARCELA 1'!E13+'PARCELA 2'!E13+'PARCELA 3'!E13+'PARCELA 4'!E13+'PARCELA 5'!E13+'PARCELA 6'!E13+'PARCELA 7'!E13+'PARCELA 8'!E13+'PARCELA 9'!E13+'PARCELA 10'!E13+'PARCELA 11'!E13+'PARCELA 12'!E13+'PARCELA 13'!E13+'PARCELA 14'!E13+'PARCELA 15'!E13+'PARCELA 16'!E13+'PARCELA 17'!E13 -> 0 | F57: =$F$2*E57 -> 0 | G57: =$G$2*E57 -> 0 | H57: =$H$2*E57 -> 0 | I57: =$I$2*E57 -> 0 | J57: =SUM(F57:I57) -> 0 | L57: =J57-K57-'PARCELA 2'!K57-'PARCELA 3'!K57-'PARCELA 4'!K57-'PARCELA 5'!K57-'PARCELA 6'!K57-'PARCELA 7'!K57-'PARCELA 8'!K57-'PARCELA 9'!K57-'PARCELA 10'!K57-'PARCELA 11'!K57-'PARCELA 12'!K57-'PARCELA 13'!K57-'PARCELA 14'!K57-'PARCELA 15'!K57-'PARCELA 16'!K57 -> 0
B58: 12 | E58: ='PARCELA 1'!E14+'PARCELA 2'!E14+'PARCELA 3'!E14+'PARCELA 4'!E14+'PARCELA 5'!E14+'PARCELA 6'!E14+'PARCELA 7'!E14+'PARCELA 8'!E14+'PARCELA 9'!E14+'PARCELA 10'!E14+'PARCELA 11'!E14+'PARCELA 12'!E14+'PARCELA 13'!E14+'PARCELA 14'!E14+'PARCELA 15'!E14+'PARCELA 16'!E14+'PARCELA 17'!E14 -> 0 | F58: =$F$2*E58 -> 0 | G58: =$G$2*E58 -> 0 | H58: =$H$2*E58 -> 0 | I58: =$I$2*E58 -> 0 | J58: =SUM(F58:I58) -> 0 | L58: =J58-K58-'PARCELA 2'!K58-'PARCELA 3'!K58-'PARCELA 4'!K58-'PARCELA 5'!K58-'PARCELA 6'!K58-'PARCELA 7'!K58-'PARCELA 8'!K58-'PARCELA 9'!K58-'PARCELA 10'!K58-'PARCELA 11'!K58-'PARCELA 12'!K58-'PARCELA 13'!K58-'PARCELA 14'!K58-'PARCELA 15'!K58-'PARCELA 16'!K58 -> 0
B59: 13 | E59: ='PARCELA 1'!E15+'PARCELA 2'!E15+'PARCELA 3'!E15+'PARCELA 4'!E15+'PARCELA 5'!E15+'PARCELA 6'!E15+'PARCELA 7'!E15+'PARCELA 8'!E15+'PARCELA 9'!E15+'PARCELA 10'!E15+'PARCELA 11'!E15+'PARCELA 12'!E15+'PARCELA 13'!E15+'PARCELA 14'!E15+'PARCELA 15'!E15+'PARCELA 16'!E15+'PARCELA 17'!E15 -> 0 | F59: =$F$2*E59 -> 0 | G59: =$G$2*E59 -> 0 | H59: =$H$2*E59 -> 0 | I59: =$I$2*E59 -> 0 | J59: =SUM(F59:I59) -> 0 | L59: =J59-K59-'PARCELA 2'!K59-'PARCELA 3'!K59-'PARCELA 4'!K59-'PARCELA 5'!K59-'PARCELA 6'!K59-'PARCELA 7'!K59-'PARCELA 8'!K59-'PARCELA 9'!K59-'PARCELA 10'!K59-'PARCELA 11'!K59-'PARCELA 12'!K59-'PARCELA 13'!K59-'PARCELA 14'!K59-'PARCELA 15'!K59-'PARCELA 16'!K59 -> 0
... B81: 35 | E81: ='PARCELA 1'!E37+'PARCELA 2'!E37+'PARCELA 3'!E37+'PARCELA 4'!E37+'PARCELA 5'!E37+'PARCELA 6'!E37+'PARCELA 7'!E37+'PARCELA 8'!E37+'PARCELA 9'!E37+'PARCELA 10'!E37+'PARCELA 11'!E37+'PARCELA 12'!E37+'PARCELA 13'!E37+'PARCELA 14'!E37+'PARCELA 15'!E37+'PARCELA 16'!E37+'PARCELA 17'!E37 -> 0 | F81: =$F$2*E81 -> 0 | G81: =$G$2*E81 -> 0 | H81: =$H$2*E81 -> 0 | I81: =$I$2*E81 -> 0 | J81: =SUM(F81:I81) -> 0 | L81: =J81-K81-'PARCELA 2'!K81-'PARCELA 3'!K81-'PARCELA 4'!K81-'PARCELA 5'!K81-'PARCELA 6'!K81-'PARCELA 7'!K81-'PARCELA 8'!K81-'PARCELA 9'!K81-'PARCELA 10'!K81-'PARCELA 11'!K81-'PARCELA 12'!K81-'PARCELA 13'!K81-'PARCELA 14'!K81-'PARCELA 15'!K81-'PARCELA 16'!K81 -> 0
B82: Subtotais | E82: =SUM(E47:E81) -> 0 | F82: =SUM(F47:F81) -> 0 | G82: =SUM(G47:G81) -> 0 | H82: =SUM(H47:H81) -> 0 | I82: =SUM(I47:I81) -> 0 | J82: =SUM(J47:J81) -> 0 | K82: =SUM(K47:K81) -> 0 | L82: =SUM(L47:L81) -> 0
B83: Arredondamentos
B84: Total

Sheet PARCELA 18
B1: Ordem | C1: Nome do Empregado | D1: Cargo | E1: Remuneração (Salário base + adicionais ) | F1: 13º salário | G1: Férias e terço constitucional | H1: Multa s/ FGTS e Cont.Social sobre aviso previo indenizado e trabalhado | I1: Submodulo 2.2 sobre férias , um terço constitucional e 13 ° Considerando RAT = 1,00 %, 2,00 % ou 3,00 % | J1: Total a ser provisionado
B2: VOCÊ ESTÁ NA PARCELA DE NÚMERO | D2: =_xlfn.SHEET()-6 -> 18 | E2: 1 | F2: =DADOS!J14 -> 0.0833 | G2: =DADOS!J15 -> 0.121 | H2: =DADOS!J16 -> 0.04 | I2: =DADOS!L24 -> 0.0782 | J2: =SUM(F2:I2) -> 0.3225
B3: 1 | F3: =$F$2*E3 -> 0 | G3: =$G$2*E3 -> 0 | H3: =$H$2*E3 -> 0 | I3: =$I$2*E3 -> 0 | J3: =SUM(F3:I3) -> 0
B4: 2 | F4: =$F$2*E4 -> 0 | G4: =$G$2*E4 -> 0 | H4: =$H$2*E4 -> 0 | I4: =$I$2*E4 -> 0 | J4: =SUM(F4:I4) -> 0
B5: 3 | F5: =$F$2*E5 -> 0 | G5: =$G$2*E5 -> 0 | H5: =$H$2*E5 -> 0 | I5: =$I$2*E5 -> 0 | J5: =SUM(F5:I5) -> 0
B6: 4 | F6: =$F$2*E6 -> 0 | G6: =$G$2*E6 -> 0 | H6: =$H$2*E6 -> 0 | I6: =$I$2*E6 -> 0 | J6: =SUM(F6:I6) -> 0
B7: 5 | F7: =$F$2*E7 -> 0 | G7: =$G$2*E7 -> 0 | H7: =$H$2*E7 -> 0 | I7: =$I$2*E7 -> 0 | J7: =SUM(F7:I7) -> 0
B8: 6 | F8: =$F$2*E8 -> 0 | G8: =$G$2*E8 -> 0 | H8: =$H$2*E8 -> 0 | I8: =$I$2*E8 -> 0 | J8: =SUM(F8:I8) -> 0
B9: 7 | F9: =$F$2*E9 -> 0 | G9: =$G$2*E9 -> 0 | H9: =$H$2*E9 -> 0 | I9: =$I$2*E9 -> 0 | J9: =SUM(F9:I9) -> 0
B10: 8 | F10: =$F$2*E10 -> 0 | G10: =$G$2*E10 -> 0 | H10: =$H$2*E10 -> 0 | I10: =$I$2*E10 -> 0 | J10: =SUM(F10:I10) -> 0
B11: 9 | F11: =$F$2*E11 -> 0 | G11: =$G$2*E11 -> 0 | H11: =$H$2*E11 -> 0 | I11: =$I$2*E11 -> 0 | J11: =SUM(F11:I11) -> 0
B12: 10 | F12: =$F$2*E12 -> 0 | G12: =$G$2*E12 -> 0 | H12: =$H$2*E12 -> 0 | I12: =$I$2*E12 -> 0 | J12: =SUM(F12:I12) -> 0
B13: 11 | F13: =$F$2*E13 -> 0 | G13: =$G$2*E13 -> 0 | H13: =$H$2*E13 -> 0 | I13: =$I$2*E13 -> 0 | J13: =SUM(F13:I13) -> 0
B14: 12 | F14: =$F$2*E14 -> 0 | G14: =$G$2*E14 -> 0 | H14: =$H$2*E14 -> 0 | I14: =$I$2*E14 -> 0 | J14: =SUM(F14:I14) -> 0
... B37: 35 | F37: =$F$2*E37 -> 0 | G37: =$G$2*E37 -> 0 | H37: =$H$2*E37 -> 0 | I37: =$I$2*E37 -> 0 | J37: =SUM(F37:I37) -> 0
B38: TOTAIS | E38: =SUM(E3:E37) -> 0 | F38: =SUM(F3:F37) -> 0 | G38: =SUM(G3:G37) -> 0 | H38: =SUM(H3:H37) -> 0 | I38: =SUM(I3:I37) -> 0 | J38: =SUM(J3:J37) -> 0
B44: TOTAL ACUMULADO
B45: Ref. | C45: Nome do Funcionário | D45: Cargo | E45: Remuneração acumulada (Salário base + adicionais ) | F45: 13º salário | G45: Férias e terço constitucional | H45: Multa s/ FGTS e Cont.Social sobre aviso previo indenizado e trabalhado | I45: Submodulo 2.2 sobre férias , um terço constitucional e 13° | J45: Total a ser provisionado | K45: Total liberado por funcionário | L45: Total provisionado por funcionário
E46: 1 | F46: =F2 -> 0.0833 | G46: =G2 -> 0.121 | H46: =H2 -> 0.04 | I46: =I2 -> 0.0782 | J46: =SUM(F46:I46) -> 0.3225
B47: 1 | E47: ='PARCELA 1'!E3+'PARCELA 2'!E3+'PARCELA 3'!E3+'PARCELA 4'!E3+'PARCELA 5'!E3+'PARCELA 6'!E3+'PARCELA 7'!E3+'PARCELA 8'!E3+'PARCELA 9'!E3+'PARCELA 10'!E3+'PARCELA 11'!E3+'PARCELA 12'!E3+'PARCELA 13'!E3+'PARCELA 14'!E3+'PARCELA 15'!E3+'PARCELA 16'!E3+'PARCELA 17'!E3+'PARCELA 18'!E3 -> 0 | F47: =$F$46*E47 -> 0 | G47: =$G$46*E47 -> 0 | H47: =$H$46*E47 -> 0 | I47: =$I$46*E47 -> 0 | J47: =SUM(F47:I47) -> 0 | L47: =J47-K47-'PARCELA 2'!K47-'PARCELA 3'!K47-'PARCELA 4'!K47-'PARCELA 5'!K47-'PARCELA 6'!K47-'PARCELA 7'!K47-'PARCELA 8'!K47-'PARCELA 9'!K47-'PARCELA 10'!K47-'PARCELA 11'!K47-'PARCELA 12'!K47-'PARCELA 13'!K47-'PARCELA 14'!K47-'PARCELA 15'!K47-'PARCELA 16'!K47-'PARCELA 17'!K47 -> 0
B48: 2 | E48: ='PARCELA 1'!E4+'PARCELA 2'!E4+'PARCELA 3'!E4+'PARCELA 4'!E4+'PARCELA 5'!E4+'PARCELA 6'!E4+'PARCELA 7'!E4+'PARCELA 8'!E4+'PARCELA 9'!E4+'PARCELA 10'!E4+'PARCELA 11'!E4+'PARCELA 12'!E4+'PARCELA 13'!E4+'PARCELA 14'!E4+'PARCELA 15'!E4+'PARCELA 16'!E4+'PARCELA 17'!E4+'PARCELA 18'!E4 -> 0 | F48: =$F$2*E48 -> 0 | G48: =$G$2*E48 -> 0 | H48: =$H$2*E48 -> 0 | I48: =$I$2*E48 -> 0 | J48: =SUM(F48:I48) -> 0 | L48: =J48-K48-'PARCELA 2'!K48-'PARCELA 3'!K48-'PARCELA 4'!K48-'PARCELA 5'!K48-'PARCELA 6'!K48-'PARCELA 7'!K48-'PARCELA 8'!K48-'PARCELA 9'!K48-'PARCELA 10'!K48-'PARCELA 11'!K48-'PARCELA 12'!K48-'PARCELA 13'!K48-'PARCELA 14'!K48-'PARCELA 15'!K48-'PARCELA 16'!K48-'PARCELA 17'!K48 -> 0
B49: 3 | E49: ='PARCELA 1'!E5+'PARCELA 2'!E5+'PARCELA 3'!E5+'PARCELA 4'!E5+'PARCELA 5'!E5+'PARCELA 6'!E5+'PARCELA 7'!E5+'PARCELA 8'!E5+'PARCELA 9'!E5+'PARCELA 10'!E5+'PARCELA 11'!E5+'PARCELA 12'!E5+'PARCELA 13'!E5+'PARCELA 14'!E5+'PARCELA 15'!E5+'PARCELA 16'!E5+'PARCELA 17'!E5+'PARCELA 18'!E5 -> 0 | F49: =$F$2*E49 -> 0 | G49: =$G$2*E49 -> 0 | H49: =$H$2*E49 -> 0 | I49: =$I$2*E49 -> 0 | J49: =SUM(F49:I49) -> 0 | L49: =J49-K49-'PARCELA 2'!K49-'PARCELA 3'!K49-'PARCELA 4'!K49-'PARCELA 5'!K49-'PARCELA 6'!K49-'PARCELA 7'!K49-'PARCELA 8'!K49-'PARCELA 9'!K49-'PARCELA 10'!K49-'PARCELA 11'!K49-'PARCELA 12'!K49-'PARCELA 13'!K49-'PARCELA 14'!K49-'PARCELA 15'!K49-'PARCELA 16'!K49-'PARCELA 17'!K49 -> 0
B50: 4 | E50: ='PARCELA 1'!E6+'PARCELA 2'!E6+'PARCELA 3'!E6+'PARCELA 4'!E6+'PARCELA 5'!E6+'PARCELA 6'!E6+'PARCELA 7'!E6+'PARCELA 8'!E6+'PARCELA 9'!E6+'PARCELA 10'!E6+'PARCELA 11'!E6+'PARCELA 12'!E6+'PARCELA 13'!E6+'PARCELA 14'!E6+'PARCELA 15'!E6+'PARCELA 16'!E6+'PARCELA 17'!E6+'PARCELA 18'!E6 -> 0 | F50: =$F$2*E50 -> 0 | G50: =$G$2*E50 -> 0 | H50: =$H$2*E50 -> 0 | I50: =$I$2*E50 -> 0 | J50: =SUM(F50:I50) -> 0 | L50: =J50-K50-'PARCELA 2'!K50-'PARCELA 3'!K50-'PARCELA 4'!K50-'PARCELA 5'!K50-'PARCELA 6'!K50-'PARCELA 7'!K50-'PARCELA 8'!K50-'PARCELA 9'!K50-'PARCELA 10'!K50-'PARCELA 11'!K50-'PARCELA 12'!K50-'PARCELA 13'!K50-'PARCELA 14'!K50-'PARCELA 15'!K50-'PARCELA 16'!K50-'PARCELA 17'!K50 -> 0
B51: 5 | E51: ='PARCELA 1'!E7+'PARCELA 2'!E7+'PARCELA 3'!E7+'PARCELA 4'!E7+'PARCELA 5'!E7+'PARCELA 6'!E7+'PARCELA 7'!E7+'PARCELA 8'!E7+'PARCELA 9'!E7+'PARCELA 10'!E7+'PARCELA 11'!E7+'PARCELA 12'!E7+'PARCELA 13'!E7+'PARCELA 14'!E7+'PARCELA 15'!E7+'PARCELA 16'!E7+'PARCELA 17'!E7+'PARCELA 18'!E7 -> 0 | F51: =$F$2*E51 -> 0 | G51: =$G$2*E51 -> 0 | H51: =$H$2*E51 -> 0 | I51: =$I$2*E51 -> 0 | J51: =SUM(F51:I51) -> 0 | L51: =J51-K51-'PARCELA 2'!K51-'PARCELA 3'!K51-'PARCELA 4'!K51-'PARCELA 5'!K51-'PARCELA 6'!K51-'PARCELA 7'!K51-'PARCELA 8'!K51-'PARCELA 9'!K51-'PARCELA 10'!K51-'PARCELA 11'!K51-'PARCELA 12'!K51-'PARCELA 13'!K51-'PARCELA 14'!K51-'PARCELA 15'!K51-'PARCELA 16'!K51-'PARCELA 17'!K51 -> 0
B52: 6 | E52: ='PARCELA 1'!E8+'PARCELA 2'!E8+'PARCELA 3'!E8+'PARCELA 4'!E8+'PARCELA 5'!E8+'PARCELA 6'!E8+'PARCELA 7'!E8+'PARCELA 8'!E8+'PARCELA 9'!E8+'PARCELA 10'!E8+'PARCELA 11'!E8+'PARCELA 12'!E8+'PARCELA 13'!E8+'PARCELA 14'!E8+'PARCELA 15'!E8+'PARCELA 16'!E8+'PARCELA 17'!E8+'PARCELA 18'!E8 -> 0 | F52: =$F$2*E52 -> 0 | G52: =$G$2*E52 -> 0 | H52: =$H$2*E52 -> 0 | I52: =$I$2*E52 -> 0 | J52: =SUM(F52:I52) -> 0 | L52: =J52-K52-'PARCELA 2'!K52-'PARCELA 3'!K52-'PARCELA 4'!K52-'PARCELA 5'!K52-'PARCELA 6'!K52-'PARCELA 7'!K52-'PARCELA 8'!K52-'PARCELA 9'!K52-'PARCELA 10'!K52-'PARCELA 11'!K52-'PARCELA 12'!K52-'PARCELA 13'!K52-'PARCELA 14'!K52-'PARCELA 15'!K52-'PARCELA 16'!K52-'PARCELA 17'!K52 -> 0
B53: 7 | E53: ='PARCELA 1'!E9+'PARCELA 2'!E9+'PARCELA 3'!E9+'PARCELA 4'!E9+'PARCELA 5'!E9+'PARCELA 6'!E9+'PARCELA 7'!E9+'PARCELA 8'!E9+'PARCELA 9'!E9+'PARCELA 10'!E9+'PARCELA 11'!E9+'PARCELA 12'!E9+'PARCELA 13'!E9+'PARCELA 14'!E9+'PARCELA 15'!E9+'PARCELA 16'!E9+'PARCELA 17'!E9+'PARCELA 18'!E9 -> 0 | F53: =$F$2*E53 -> 0 | G53: =$G$2*E53 -> 0 | H53: =$H$2*E53 -> 0 | I53: =$I$2*E53 -> 0 | J53: =SUM(F53:I53) -> 0 | L53: =J53-K53-'PARCELA 2'!K53-'PARCELA 3'!K53-'PARCELA 4'!K53-'PARCELA 5'!K53-'PARCELA 6'!K53-'PARCELA 7'!K53-'PARCELA 8'!K53-'PARCELA 9'!K53-'PARCELA 10'!K53-'PARCELA 11'!K53-'PARCELA 12'!K53-'PARCELA 13'!K53-'PARCELA 14'!K53-'PARCELA 15'!K53-'PARCELA 16'!K53-'PARCELA 17'!K53 -> 0
B54: 8 | E54: ='PARCELA 1'!E10+'PARCELA 2'!E10+'PARCELA 3'!E10+'PARCELA 4'!E10+'PARCELA 5'!E10+'PARCELA 6'!E10+'PARCELA 7'!E10+'PARCELA 8'!E10+'PARCELA 9'!E10+'PARCELA 10'!E10+'PARCELA 11'!E10+'PARCELA 12'!E10+'PARCELA 13'!E10+'PARCELA 14'!E10+'PARCELA 15'!E10+'PARCELA 16'!E10+'PARCELA 17'!E10+'PARCELA 18'!E10 -> 0 | F54: =$F$2*E54 -> 0 | G54: =$G$2*E54 -> 0 | H54: =$H$2*E54 -> 0 | I54: =$I$2*E54 -> 0 | J54: =SUM(F54:I54) -> 0 | L54: =J54-K54-'PARCELA 2'!K54-'PARCELA 3'!K54-'PARCELA 4'!K54-'PARCELA 5'!K54-'PARCELA 6'!K54-'PARCELA 7'!K54-'PARCELA 8'!K54-'PARCELA 9'!K54-'PARCELA 10'!K54-'PARCELA 11'!K54-'PARCELA 12'!K54-'PARCELA 13'!K54-'PARCELA 14'!K54-'PARCELA 15'!K54-'PARCELA 16'!K54-'PARCELA 17'!K54 -> 0
B55: 9 | E55: ='PARCELA 1'!E11+'PARCELA 2'!E11+'PARCELA 3'!E11+'PARCELA 4'!E11+'PARCELA 5'!E11+'PARCELA 6'!E11+'PARCELA 7'!E11+'PARCELA 8'!E11+'PARCELA 9'!E11+'PARCELA 10'!E11+'PARCELA 11'!E11+'PARCELA 12'!E11+'PARCELA 13'!E11+'PARCELA 14'!E11+'PARCELA 15'!E11+'PARCELA 16'!E11+'PARCELA 17'!E11+'PARCELA 18'!E11 -> 0 | F55: =$F$2*E55 -> 0 | G55: =$G$2*E55 -> 0 | H55: =$H$2*E55 -> 0 | I55: =$I$2*E55 -> 0 | J55: =SUM(F55:I55) -> 0 | L55: =J55-K55-'PARCELA 2'!K55-'PARCELA 3'!K55-'PARCELA 4'!K55-'PARCELA 5'!K55-'PARCELA 6'!K55-'PARCELA 7'!K55-'PARCELA 8'!K55-'PARCELA 9'!K55-'PARCELA 10'!K55-'PARCELA 11'!K55-'PARCELA 12'!K55-'PARCELA 13'!K55-'PARCELA 14'!K55-'PARCELA 15'!K55-'PARCELA 16'!K55-'PARCELA 17'!K55 -> 0
B56: 10 | E56: ='PARCELA 1'!E12+'PARCELA 2'!E12+'PARCELA 3'!E12+'PARCELA 4'!E12+'PARCELA 5'!E12+'PARCELA 6'!E12+'PARCELA 7'!E12+'PARCELA 8'!E12+'PARCELA 9'!E12+'PARCELA 10'!E12+'PARCELA 11'!E12+'PARCELA 12'!E12+'PARCELA 13'!E12+'PARCELA 14'!E12+'PARCELA 15'!E12+'PARCELA 16'!E12+'PARCELA 17'!E12+'PARCELA 18'!E12 -> 0 | F56: =$F$2*E56 -> 0 | G56: =$G$2*E56 -> 0 | H56: =$H$2*E56 -> 0 | I56: =$I$2*E56 -> 0 | J56: =SUM(F56:I56) -> 0 | L56: =J56-K56-'PARCELA 2'!K56-'PARCELA 3'!K56-'PARCELA 4'!K56-'PARCELA 5'!K56-'PARCELA 6'!K56-'PARCELA 7'!K56-'PARCELA 8'!K56-'PARCELA 9'!K56-'PARCELA 10'!K56-'PARCELA 11'!K56-'PARCELA 12'!K56-'PARCELA 13'!K56-'PARCELA 14'!K56-'PARCELA 15'!K56-'PARCELA 16'!K56-'PARCELA 17'!K56 -> 0
B57: 11 | E57: ='PARCELA 1'!E13+'PARCELA 2'!E13+'PARCELA 3'!E13+'PARCELA 4'!E13+'PARCELA 5'!E13+'PARCELA 6'!E13+'PARCELA 7'!E13+'PARCELA 8'!E13+'PARCELA 9'!E13+'PARCELA 10'!E13+'PARCELA 11'!E13+'PARCELA 12'!E13+'PARCELA 13'!E13+'PARCELA 14'!E13+'PARCELA 15'!E13+'PARCELA 16'!E13+'PARCELA 17'!E13+'PARCELA 18'!E13 -> 0 | F57: =$F$2*E57 -> 0 | G57: =$G$2*E57 -> 0 | H57: =$H$2*E57 -> 0 | I57: =$I$2*E57 -> 0 | J57: =SUM(F57:I57) -> 0 | L57: =J57-K57-'PARCELA 2'!K57-'PARCELA 3'!K57-'PARCELA 4'!K57-'PARCELA 5'!K57-'PARCELA 6'!K57-'PARCELA 7'!K57-'PARCELA 8'!K57-'PARCELA 9'!K57-'PARCELA 10'!K57-'PARCELA 11'!K57-'PARCELA 12'!K57-'PARCELA 13'!K57-'PARCELA 14'!K57-'PARCELA 15'!K57-'PARCELA 16'!K57-'PARCELA 17'!K57 -> 0
B58: 12 | E58: ='PARCELA 1'!E14+'PARCELA 2'!E14+'PARCELA 3'!E14+'PARCELA 4'!E14+'PARCELA 5'!E14+'PARCELA 6'!E14+'PARCELA 7'!E14+'PARCELA 8'!E14+'PARCELA 9'!E14+'PARCELA 10'!E14+'PARCELA 11'!E14+'PARCELA 12'!E14+'PARCELA 13'!E14+'PARCELA 14'!E14+'PARCELA 15'!E14+'PARCELA 16'!E14+'PARCELA 17'!E14+'PARCELA 18'!E14 -> 0 | F58: =$F$2*E58 -> 0 | G58: =$G$2*E58 -> 0 | H58: =$H$2*E58 -> 0 | I58: =$I$2*E58 -> 0 | J58: =SUM(F58:I58) -> 0 | L58: =J58-K58-'PARCELA 2'!K58-'PARCELA 3'!K58-'PARCELA 4'!K58-'PARCELA 5'!K58-'PARCELA 6'!K58-'PARCELA 7'!K58-'PARCELA 8'!K58-'PARCELA 9'!K58-'PARCELA 10'!K58-'PARCELA 11'!K58-'PARCELA 12'!K58-'PARCELA 13'!K58-'PARCELA 14'!K58-'PARCELA 15'!K58-'PARCELA 16'!K58-'PARCELA 17'!K58 -> 0
B59: 13 | E59: ='PARCELA 1'!E15+'PARCELA 2'!E15+'PARCELA 3'!E15+'PARCELA 4'!E15+'PARCELA 5'!E15+'PARCELA 6'!E15+'PARCELA 7'!E15+'PARCELA 8'!E15+'PARCELA 9'!E15+'PARCELA 10'!E15+'PARCELA 11'!E15+'PARCELA 12'!E15+'PARCELA 13'!E15+'PARCELA 14'!E15+'PARCELA 15'!E15+'PARCELA 16'!E15+'PARCELA 17'!E15+'PARCELA 18'!E15 -> 0 | F59: =$F$2*E59 -> 0 | G59: =$G$2*E59 -> 0 | H59: =$H$2*E59 -> 0 | I59: =$I$2*E59 -> 0 | J59: =SUM(F59:I59) -> 0 | L59: =J59-K59-'PARCELA 2'!K59-'PARCELA 3'!K59-'PARCELA 4'!K59-'PARCELA 5'!K59-'PARCELA 6'!K59-'PARCELA 7'!K59-'PARCELA 8'!K59-'PARCELA 9'!K59-'PARCELA 10'!K59-'PARCELA 11'!K59-'PARCELA 12'!K59-'PARCELA 13'!K59-'PARCELA 14'!K59-'PARCELA 15'!K59-'PARCELA 16'!K59-'PARCELA 17'!K59 -> 0
... B81: 35 | E81: ='PARCELA 1'!E37+'PARCELA 2'!E37+'PARCELA 3'!E37+'PARCELA 4'!E37+'PARCELA 5'!E37+'PARCELA 6'!E37+'PARCELA 7'!E37+'PARCELA 8'!E37+'PARCELA 9'!E37+'PARCELA 10'!E37+'PARCELA 11'!E37+'PARCELA 12'!E37+'PARCELA 13'!E37+'PARCELA 14'!E37+'PARCELA 15'!E37+'PARCELA 16'!E37+'PARCELA 17'!E37+'PARCELA 18'!E37 -> 0 | F81: =$F$2*E81 -> 0 | G81: =$G$2*E81 -> 0 | H81: =$H$2*E81 -> 0 | I81: =$I$2*E81 -> 0 | J81: =SUM(F81:I81) -> 0 | L81: =J81-K81-'PARCELA 2'!K81-'PARCELA 3'!K81-'PARCELA 4'!K81-'PARCELA 5'!K81-'PARCELA 6'!K81-'PARCELA 7'!K81-'PARCELA 8'!K81-'PARCELA 9'!K81-'PARCELA 10'!K81-'PARCELA 11'!K81-'PARCELA 12'!K81-'PARCELA 13'!K81-'PARCELA 14'!K81-'PARCELA 15'!K81-'PARCELA 16'!K81-'PARCELA 17'!K81 -> 0
B82: Subtotais | E82: =SUM(E47:E81) -> 0 | F82: =SUM(F47:F81) -> 0 | G82: =SUM(G47:G81) -> 0 | H82: =SUM(H47:H81) -> 0 | I82: =SUM(I47:I81) -> 0 | J82: =SUM(J47:J81) -> 0 | K82: =SUM(K47:K81) -> 0 | L82: =SUM(L47:L81) -> 0
B83: Arredondamentos
B84: Total

Sheet PARCELA 19
B1: Ordem | C1: Nome do Empregado | D1: Cargo | E1: Remuneração (Salário base + adicionais ) | F1: 13º salário | G1: Férias e terço constitucional | H1: Multa s/ FGTS e Cont.Social sobre aviso previo indenizado e trabalhado | I1: Submodulo 2.2 sobre férias , um terço constitucional e 13 ° Considerando RAT = 1,00 %, 2,00 % ou 3,00 % | J1: Total a ser provisionado
B2: VOCÊ ESTÁ NA PARCELA DE NÚMERO | D2: =_xlfn.SHEET()-6 -> 19 | E2: 1 | F2: =DADOS!J14 -> 0.0833 | G2: =DADOS!J15 -> 0.121 | H2: =DADOS!J16 -> 0.04 | I2: =DADOS!L24 -> 0.0782 | J2: =SUM(F2:I2) -> 0.3225
B3: 1 | F3: =$F$2*E3 -> 0 | G3: =$G$2*E3 -> 0 | H3: =$H$2*E3 -> 0 | I3: =$I$2*E3 -> 0 | J3: =SUM(F3:I3) -> 0
B4: 2 | F4: =$F$2*E4 -> 0 | G4: =$G$2*E4 -> 0 | H4: =$H$2*E4 -> 0 | I4: =$I$2*E4 -> 0 | J4: =SUM(F4:I4) -> 0
B5: 3 | F5: =$F$2*E5 -> 0 | G5: =$G$2*E5 -> 0 | H5: =$H$2*E5 -> 0 | I5: =$I$2*E5 -> 0 | J5: =SUM(F5:I5) -> 0
B6: 4 | F6: =$F$2*E6 -> 0 | G6: =$G$2*E6 -> 0 | H6: =$H$2*E6 -> 0 | I6: =$I$2*E6 -> 0 | J6: =SUM(F6:I6) -> 0
B7: 5 | F7: =$F$2*E7 -> 0 | G7: =$G$2*E7 -> 0 | H7: =$H$2*E7 -> 0 | I7: =$I$2*E7 -> 0 | J7: =SUM(F7:I7) -> 0
B8: 6 | F8: =$F$2*E8 -> 0 | G8: =$G$2*E8 -> 0 | H8: =$H$2*E8 -> 0 | I8: =$I$2*E8 -> 0 | J8: =SUM(F8:I8) -> 0
B9: 7 | F9: =$F$2*E9 -> 0 | G9: =$G$2*E9 -> 0 | H9: =$H$2*E9 -> 0 | I9: =$I$2*E9 -> 0 | J9: =SUM(F9:I9) -> 0
B10: 8 | F10: =$F$2*E10 -> 0 | G10: =$G$2*E10 -> 0 | H10: =$H$2*E10 -> 0 | I10: =$I$2*E10 -> 0 | J10: =SUM(F10:I10) -> 0
B11: 9 | F11: =$F$2*E11 -> 0 | G11: =$G$2*E11 -> 0 | H11: =$H$2*E11 -> 0 | I11: =$I$2*E11 -> 0 | J11: =SUM(F11:I11) -> 0
B12: 10 | F12: =$F$2*E12 -> 0 | G12: =$G$2*E12 -> 0 | H12: =$H$2*E12 -> 0 | I12: =$I$2*E12 -> 0 | J12: =SUM(F12:I12) -> 0
B13: 11 | F13: =$F$2*E13 -> 0 | G13: =$G$2*E13 -> 0 | H13: =$H$2*E13 -> 0 | I13: =$I$2*E13 -> 0 | J13: =SUM(F13:I13) -> 0
B14: 12 | F14: =$F$2*E14 -> 0 | G14: =$G$2*E14 -> 0 | H14: =$H$2*E14 -> 0 | I14: =$I$2*E14 -> 0 | J14: =SUM(F14:I14) -> 0
... B37: 35 | F37: =$F$2*E37 -> 0 | G37: =$G$2*E37 -> 0 | H37: =$H$2*E37 -> 0 | I37: =$I$2*E37 -> 0 | J37: =SUM(F37:I37) -> 0
B38: TOTAIS | E38: =SUM(E3:E37) -> 0 | F38: =SUM(F3:F37) -> 0 | G38: =SUM(G3:G37) -> 0 | H38: =SUM(H3:H37) -> 0 | I38: =SUM(I3:I37) -> 0 | J38: =SUM(J3:J37) -> 0
B44: TOTAL ACUMULADO
B45: Ref. | C45: Nome do Funcionário | D45: Cargo | E45: Remuneração acumulada (Salário base + adicionais ) | F45: 13º salário | G45: Férias e terço constitucional | H45: Multa s/ FGTS e Cont.Social sobre aviso previo indenizado e trabalhado | I45: Submodulo 2.2 sobre férias , um terço constitucional e 13° | J45: Total a ser provisionado | K45: Total liberado por funcionário | L45: Total provisionado por funcionário
E46: 1 | F46: =F2 -> 0.0833 | G46: =G2 -> 0.121 | H46: =H2 -> 0.04 | I46: =I2 -> 0.0782 | J46: =SUM(F46:I46) -> 0.3225
B47: 1 | E47: ='PARCELA 1'!E3+'PARCELA 2'!E3+'PARCELA 3'!E3+'PARCELA 4'!E3+'PARCELA 5'!E3+'PARCELA 6'!E3+'PARCELA 7'!E3+'PARCELA 8'!E3+'PARCELA 9'!E3+'PARCELA 10'!E3+'PARCELA 11'!E3+'PARCELA 12'!E3+'PARCELA 13'!E3+'PARCELA 14'!E3+'PARCELA 15'!E3+'PARCELA 16'!E3+'PARCELA 17'!E3+'PARCELA 18'!E3+'PARCELA 19'!E3 -> 0 | F47: =$F$46*E47 -> 0 | G47: =$G$46*E47 -> 0 | H47: =$H$46*E47 -> 0 | I47: =$I$46*E47 -> 0 | J47: =SUM(F47:I47) -> 0 | L47: =J47-K47-'PARCELA 2'!K47-'PARCELA 3'!K47-'PARCELA 4'!K47-'PARCELA 5'!K47-'PARCELA 6'!K47-'PARCELA 7'!K47-'PARCELA 8'!K47-'PARCELA 9'!K47-'PARCELA 10'!K47-'PARCELA 11'!K47-'PARCELA 12'!K47-'PARCELA 13'!K47-'PARCELA 14'!K47-'PARCELA 15'!K47-'PARCELA 16'!K47-'PARCELA 17'!K47-'PARCELA 18'!K47 -> 0
B48: 2 | E48: ='PARCELA 1'!E4+'PARCELA 2'!E4+'PARCELA 3'!E4+'PARCELA 4'!E4+'PARCELA 5'!E4+'PARCELA 6'!E4+'PARCELA 7'!E4+'PARCELA 8'!E4+'PARCELA 9'!E4+'PARCELA 10'!E4+'PARCELA 11'!E4+'PARCELA 12'!E4+'PARCELA 13'!E4+'PARCELA 14'!E4+'PARCELA 15'!E4+'PARCELA 16'!E4+'PARCELA 17'!E4+'PARCELA 18'!E4+'PARCELA 19'!E4 -> 0 | F48: =$F$2*E48 -> 0 | G48: =$G$2*E48 -> 0 | H48: =$H$2*E48 -> 0 | I48: =$I$2*E48 -> 0 | J48: =SUM(F48:I48) -> 0 | L48: =J48-K48-'PARCELA 2'!K48-'PARCELA 3'!K48-'PARCELA 4'!K48-'PARCELA 5'!K48-'PARCELA 6'!K48-'PARCELA 7'!K48-'PARCELA 8'!K48-'PARCELA 9'!K48-'PARCELA 10'!K48-'PARCELA 11'!K48-'PARCELA 12'!K48-'PARCELA 13'!K48-'PARCELA 14'!K48-'PARCELA 15'!K48-'PARCELA 16'!K48-'PARCELA 17'!K48-'PARCELA 18'!K48 -> 0
B49: 3 | E49: ='PARCELA 1'!E5+'PARCELA 2'!E5+'PARCELA 3'!E5+'PARCELA 4'!E5+'PARCELA 5'!E5+'PARCELA 6'!E5+'PARCELA 7'!E5+'PARCELA 8'!E5+'PARCELA 9'!E5+'PARCELA 10'!E5+'PARCELA 11'!E5+'PARCELA 12'!E5+'PARCELA 13'!E5+'PARCELA 14'!E5+'PARCELA 15'!E5+'PARCELA 16'!E5+'PARCELA 17'!E5+'PARCELA 18'!E5+'PARCELA 19'!E5 -> 0 | F49: =$F$2*E49 -> 0 | G49: =$G$2*E49 -> 0 | H49: =$H$2*E49 -> 0 | I49: =$I$2*E49 -> 0 | J49: =SUM(F49:I49) -> 0 | L49: =J49-K49-'PARCELA 2'!K49-'PARCELA 3'!K49-'PARCELA 4'!K49-'PARCELA 5'!K49-'PARCELA 6'!K49-'PARCELA 7'!K49-'PARCELA 8'!K49-'PARCELA 9'!K49-'PARCELA 10'!K49-'PARCELA 11'!K49-'PARCELA 12'!K49-'PARCELA 13'!K49-'PARCELA 14'!K49-'PARCELA 15'!K49-'PARCELA 16'!K49-'PARCELA 17'!K49-'PARCELA 18'!K49 -> 0
B50: 4 | E50: ='PARCELA 1'!E6+'PARCELA 2'!E6+'PARCELA 3'!E6+'PARCELA 4'!E6+'PARCELA 5'!E6+'PARCELA 6'!E6+'PARCELA 7'!E6+'PARCELA 8'!E6+'PARCELA 9'!E6+'PARCELA 10'!E6+'PARCELA 11'!E6+'PARCELA 12'!E6+'PARCELA 13'!E6+'PARCELA 14'!E6+'PARCELA 15'!E6+'PARCELA 16'!E6+'PARCELA 17'!E6+'PARCELA 18'!E6+'PARCELA 19'!E6 -> 0 | F50: =$F$2*E50 -> 0 | G50: =$G$2*E50 -> 0 | H50: =$H$2*E50 -> 0 | I50: =$I$2*E50 -> 0 | J50: =SUM(F50:I50) -> 0 | L50: =J50-K50-'PARCELA 2'!K50-'PARCELA 3'!K50-'PARCELA 4'!K50-'PARCELA 5'!K50-'PARCELA 6'!K50-'PARCELA 7'!K50-'PARCELA 8'!K50-'PARCELA 9'!K50-'PARCELA 10'!K50-'PARCELA 11'!K50-'PARCELA 12'!K50-'PARCELA 13'!K50-'PARCELA 14'!K50-'PARCELA 15'!K50-'PARCELA 16'!K50-'PARCELA 17'!K50-'PARCELA 18'!K50 -> 0
B51: 5 | E51: ='PARCELA 1'!E7+'PARCELA 2'!E7+'PARCELA 3'!E7+'PARCELA 4'!E7+'PARCELA 5'!E7+'PARCELA 6'!E7+'PARCELA 7'!E7+'PARCELA 8'!E7+'PARCELA 9'!E7+'PARCELA 10'!E7+'PARCELA 11'!E7+'PARCELA 12'!E7+'PARCELA 13'!E7+'PARCELA 14'!E7+'PARCELA 15'!E7+'PARCELA 16'!E7+'PARCELA 17'!E7+'PARCELA 18'!E7+'PARCELA 19'!E7 -> 0 | F51: =$F$2*E51 -> 0 | G51: =$G$2*E51 -> 0 | H51: =$H$2*E51 -> 0 | I51: =$I$2*E51 -> 0 | J51: =SUM(F51:I51) -> 0 | L51: =J51-K51-'PARCELA 2'!K51-'PARCELA 3'!K51-'PARCELA 4'!K51-'PARCELA 5'!K51-'PARCELA 6'!K51-'PARCELA 7'!K51-'PARCELA 8'!K51-'PARCELA 9'!K51-'PARCELA 10'!K51-'PARCELA 11'!K51-'PARCELA 12'!K51-'PARCELA 13'!K51-'PARCELA 14'!K51-'PARCELA 15'!K51-'PARCELA 16'!K51-'PARCELA 17'!K51-'PARCELA 18'!K51 -> 0
B52: 6 | E52: ='PARCELA 1'!E8+'PARCELA 2'!E8+'PARCELA 3'!E8+'PARCELA 4'!E8+'PARCELA 5'!E8+'PARCELA 6'!E8+'PARCELA 7'!E8+'PARCELA 8'!E8+'PARCELA 9'!E8+'PARCELA 10'!E8+'PARCELA 11'!E8+'PARCELA 12'!E8+'PARCELA 13'!E8+'PARCELA 14'!E8+'PARCELA 15'!E8+'PARCELA 16'!E8+'PARCELA 17'!E8+'PARCELA 18'!E8+'PARCELA 19'!E8 -> 0 | F52: =$F$2*E52 -> 0 | G52: =$G$2*E52 -> 0 | H52: =$H$2*E52 -> 0 | I52: =$I$2*E52 -> 0 | J52: =SUM(F52:I52) -> 0 | L52: =J52-K52-'PARCELA 2'!K52-'PARCELA 3'!K52-'PARCELA 4'!K52-'PARCELA 5'!K52-'PARCELA 6'!K52-'PARCELA 7'!K52-'PARCELA 8'!K52-'PARCELA 9'!K52-'PARCELA 10'!K52-'PARCELA 11'!K52-'PARCELA 12'!K52-'PARCELA 13'!K52-'PARCELA 14'!K52-'PARCELA 15'!K52-'PARCELA 16'!K52-'PARCELA 17'!K52-'PARCELA 18'!K52 -> 0
B53: 7 | E53: ='PARCELA 1'!E9+'PARCELA 2'!E9+'PARCELA 3'!E9+'PARCELA 4'!E9+'PARCELA 5'!E9+'PARCELA 6'!E9+'PARCELA 7'!E9+'PARCELA 8'!E9+'PARCELA 9'!E9+'PARCELA 10'!E9+'PARCELA 11'!E9+'PARCELA 12'!E9+'PARCELA 13'!E9+'PARCELA 14'!E9+'PARCELA 15'!E9+'PARCELA 16'!E9+'PARCELA 17'!E9+'PARCELA 18'!E9+'PARCELA 19'!E9 -> 0 | F53: =$F$2*E53 -> 0 | G53: =$G$2*E53 -> 0 | H53: =$H$2*E53 -> 0 | I53: =$I$2*E53 -> 0 | J53: =SUM(F53:I53) -> 0 | L53: =J53-K53-'PARCELA 2'!K53-'PARCELA 3'!K53-'PARCELA 4'!K53-'PARCELA 5'!K53-'PARCELA 6'!K53-'PARCELA 7'!K53-'PARCELA 8'!K53-'PARCELA 9'!K53-'PARCELA 10'!K53-'PARCELA 11'!K53-'PARCELA 12'!K53-'PARCELA 13'!K53-'PARCELA 14'!K53-'PARCELA 15'!K53-'PARCELA 16'!K53-'PARCELA 17'!K53-'PARCELA 18'!K53 -> 0
B54: 8 | E54: ='PARCELA 1'!E10+'PARCELA 2'!E10+'PARCELA 3'!E10+'PARCELA 4'!E10+'PARCELA 5'!E10+'PARCELA 6'!E10+'PARCELA 7'!E10+'PARCELA 8'!E10+'PARCELA 9'!E10+'PARCELA 10'!E10+'PARCELA 11'!E10+'PARCELA 12'!E10+'PARCELA 13'!E10+'PARCELA 14'!E10+'PARCELA 15'!E10+'PARCELA 16'!E10+'PARCELA 17'!E10+'PARCELA 18'!E10+'PARCELA 19'!E10 -> 0 | F54: =$F$2*E54 -> 0 | G54: =$G$2*E54 -> 0 | H54: =$H$2*E54 -> 0 | I54: =$I$2*E54 -> 0 | J54: =SUM(F54:I54) -> 0 | L54: =J54-K54-'PARCELA 2'!K54-'PARCELA 3'!K54-'PARCELA 4'!K54-'PARCELA 5'!K54-'PARCELA 6'!K54-'PARCELA 7'!K54-'PARCELA 8'!K54-'PARCELA 9'!K54-'PARCELA 10'!K54-'PARCELA 11'!K54-'PARCELA 12'!K54-'PARCELA 13'!K54-'PARCELA 14'!K54-'PARCELA 15'!K54-'PARCELA 16'!K54-'PARCELA 17'!K54-'PARCELA 18'!K54 -> 0
B55: 9 | E55: ='PARCELA 1'!E11+'PARCELA 2'!E11+'PARCELA 3'!E11+'PARCELA 4'!E11+'PARCELA 5'!E11+'PARCELA 6'!E11+'PARCELA 7'!E11+'PARCELA 8'!E11+'PARCELA 9'!E11+'PARCELA 10'!E11+'PARCELA 11'!E11+'PARCELA 12'!E11+'PARCELA 13'!E11+'PARCELA 14'!E11+'PARCELA 15'!E11+'PARCELA 16'!E11+'PARCELA 17'!E11+'PARCELA 18'!E11+'PARCELA 19'!E11 -> 0 | F55: =$F$2*E55 -> 0 | G55: =$G$2*E55 -> 0 | H55: =$H$2*E55 -> 0 | I55: =$I$2*E55 -> 0 | J55: =SUM(F55:I55) -> 0 | L55: =J55-K55-'PARCELA 2'!K55-'PARCELA 3'!K55-'PARCELA 4'!K55-'PARCELA 5'!K55-'PARCELA 6'!K55-'PARCELA 7'!K55-'PARCELA 8'!K55-'PARCELA 9'!K55-'PARCELA 10'!K55-'PARCELA 11'!K55-'PARCELA 12'!K55-'PARCELA 13'!K55-'PARCELA 14'!K55-'PARCELA 15'!K55-'PARCELA 16'!K55-'PARCELA 17'!K55-'PARCELA 18'!K55 -> 0
B56: 10 | E56: ='PARCELA 1'!E12+'PARCELA 2'!E12+'PARCELA 3'!E12+'PARCELA 4'!E12+'PARCELA 5'!E12+'PARCELA 6'!E12+'PARCELA 7'!E12+'PARCELA 8'!E12+'PARCELA 9'!E12+'PARCELA 10'!E12+'PARCELA 11'!E12+'PARCELA 12'!E12+'PARCELA 13'!E12+'PARCELA 14'!E12+'PARCELA 15'!E12+'PARCELA 16'!E12+'PARCELA 17'!E12+'PARCELA 18'!E12+'PARCELA 19'!E12 -> 0 | F56: =$F$2*E56 -> 0 | G56: =$G$2*E56 -> 0 | H56: =$H$2*E56 -> 0 | I56: =$I$2*E56 -> 0 | J56: =SUM(F56:I56) -> 0 | L56: =J56-K56-'PARCELA 2'!K56-'PARCELA 3'!K56-'PARCELA 4'!K56-'PARCELA 5'!K56-'PARCELA 6'!K56-'PARCELA 7'!K56-'PARCELA 8'!K56-'PARCELA 9'!K56-'PARCELA 10'!K56-'PARCELA 11'!K56-'PARCELA 12'!K56-'PARCELA 13'!K56-'PARCELA 14'!K56-'PARCELA 15'!K56-'PARCELA 16'!K56-'PARCELA 17'!K56-'PARCELA 18'!K56 -> 0
B57: 11 | E57: ='PARCELA 1'!E13+'PARCELA 2'!E13+'PARCELA 3'!E13+'PARCELA 4'!E13+'PARCELA 5'!E13+'PARCELA 6'!E13+'PARCELA 7'!E13+'PARCELA 8'!E13+'PARCELA 9'!E13+'PARCELA 10'!E13+'PARCELA 11'!E13+'PARCELA 12'!E13+'PARCELA 13'!E13+'PARCELA 14'!E13+'PARCELA 15'!E13+'PARCELA 16'!E13+'PARCELA 17'!E13+'PARCELA 18'!E13+'PARCELA 19'!E13 -> 0 | F57: =$F$2*E57 -> 0 | G57: =$G$2*E57 -> 0 | H57: =$H$2*E57 -> 0 | I57: =$I$2*E57 -> 0 | J57: =SUM(F57:I57) -> 0 | L57: =J57-K57-'PARCELA 2'!K57-'PARCELA 3'!K57-'PARCELA 4'!K57-'PARCELA 5'!K57-'PARCELA 6'!K57-'PARCELA 7'!K57-'PARCELA 8'!K57-'PARCELA 9'!K57-'PARCELA 10'!K57-'PARCELA 11'!K57-'PARCELA 12'!K57-'PARCELA 13'!K57-'PARCELA 14'!K57-'PARCELA 15'!K57-'PARCELA 16'!K57-'PARCELA 17'!K57-'PARCELA 18'!K57 -> 0
B58: 12 | E58: ='PARCELA 1'!E14+'PARCELA 2'!E14+'PARCELA 3'!E14+'PARCELA 4'!E14+'PARCELA 5'!E14+'PARCELA 6'!E14+'PARCELA 7'!E14+'PARCELA 8'!E14+'PARCELA 9'!E14+'PARCELA 10'!E14+'PARCELA 11'!E14+'PARCELA 12'!E14+'PARCELA 13'!E14+'PARCELA 14'!E14+'PARCELA 15'!E14+'PARCELA 16'!E14+'PARCELA 17'!E14+'PARCELA 18'!E14+'PARCELA 19'!E14 -> 0 | F58: =$F$2*E58 -> 0 | G58: =$G$2*E58 -> 0 | H58: =$H$2*E58 -> 0 | I58: =$I$2*E58 -> 0 | J58: =SUM(F58:I58) -> 0 | L58: =J58-K58-'PARCELA 2'!K58-'PARCELA 3'!K58-'PARCELA 4'!K58-'PARCELA 5'!K58-'PARCELA 6'!K58-'PARCELA 7'!K58-'PARCELA 8'!K58-'PARCELA 9'!K58-'PARCELA 10'!K58-'PARCELA 11'!K58-'PARCELA 12'!K58-'PARCELA 13'!K58-'PARCELA 14'!K58-'PARCELA 15'!K58-'PARCELA 16'!K58-'PARCELA 17'!K58-'PARCELA 18'!K58 -> 0
B59: 13 | E59: ='PARCELA 1'!E15+'PARCELA 2'!E15+'PARCELA 3'!E15+'PARCELA 4'!E15+'PARCELA 5'!E15+'PARCELA 6'!E15+'PARCELA 7'!E15+'PARCELA 8'!E15+'PARCELA 9'!E15+'PARCELA 10'!E15+'PARCELA 11'!E15+'PARCELA 12'!E15+'PARCELA 13'!E15+'PARCELA 14'!E15+'PARCELA 15'!E15+'PARCELA 16'!E15+'PARCELA 17'!E15+'PARCELA 18'!E15+'PARCELA 19'!E15 -> 0 | F59: =$F$2*E59 -> 0 | G59: =$G$2*E59 -> 0 | H59: =$H$2*E59 -> 0 | I59: =$I$2*E59 -> 0 | J59: =SUM(F59:I59) -> 0 | L59: =J59-K59-'PARCELA 2'!K59-'PARCELA 3'!K59-'PARCELA 4'!K59-'PARCELA 5'!K59-'PARCELA 6'!K59-'PARCELA 7'!K59-'PARCELA 8'!K59-'PARCELA 9'!K59-'PARCELA 10'!K59-'PARCELA 11'!K59-'PARCELA 12'!K59-'PARCELA 13'!K59-'PARCELA 14'!K59-'PARCELA 15'!K59-'PARCELA 16'!K59-'PARCELA 17'!K59-'PARCELA 18'!K59 -> 0
... B81: 35 | E81: ='PARCELA 1'!E37+'PARCELA 2'!E37+'PARCELA 3'!E37+'PARCELA 4'!E37+'PARCELA 5'!E37+'PARCELA 6'!E37+'PARCELA 7'!E37+'PARCELA 8'!E37+'PARCELA 9'!E37+'PARCELA 10'!E37+'PARCELA 11'!E37+'PARCELA 12'!E37+'PARCELA 13'!E37+'PARCELA 14'!E37+'PARCELA 15'!E37+'PARCELA 16'!E37+'PARCELA 17'!E37+'PARCELA 18'!E37+'PARCELA 19'!E37 -> 0 | F81: =$F$2*E81 -> 0 | G81: =$G$2*E81 -> 0 | H81: =$H$2*E81 -> 0 | I81: =$I$2*E81 -> 0 | J81: =SUM(F81:I81) -> 0 | L81: =J81-K81-'PARCELA 2'!K81-'PARCELA 3'!K81-'PARCELA 4'!K81-'PARCELA 5'!K81-'PARCELA 6'!K81-'PARCELA 7'!K81-'PARCELA 8'!K81-'PARCELA 9'!K81-'PARCELA 10'!K81-'PARCELA 11'!K81-'PARCELA 12'!K81-'PARCELA 13'!K81-'PARCELA 14'!K81-'PARCELA 15'!K81-'PARCELA 16'!K81-'PARCELA 17'!K81-'PARCELA 18'!K81 -> 0
B82: Subtotais | E82: =SUM(E47:E81) -> 0 | F82: =SUM(F47:F81) -> 0 | G82: =SUM(G47:G81) -> 0 | H82: =SUM(H47:H81) -> 0 | I82: =SUM(I47:I81) -> 0 | J82: =SUM(J47:J81) -> 0 | K82: =SUM(K47:K81) -> 0 | L82: =SUM(L47:L81) -> 0
B83: Arredondamentos
B84: Total

Sheet PARCELA 20
B1: Ordem | C1: Nome do Empregado | D1: Cargo | E1: Remuneração (Salário base + adicionais ) | F1: 13º salário | G1: Férias e terço constitucional | H1: Multa s/ FGTS e Cont.Social sobre aviso previo indenizado e trabalhado | I1: Submodulo 2.2 sobre férias , um terço constitucional e 13 ° Considerando RAT = 1,00 %, 2,00 % ou 3,00 % | J1: Total a ser provisionado
B2: VOCÊ ESTÁ NA PARCELA DE NÚMERO | D2: =_xlfn.SHEET()-6 -> 20 | E2: 1 | F2: =DADOS!J14 -> 0.0833 | G2: =DADOS!J15 -> 0.121 | H2: =DADOS!J16 -> 0.04 | I2: =DADOS!L24 -> 0.0782 | J2: =SUM(F2:I2) -> 0.3225
B3: 1 | F3: =$F$2*E3 -> 0 | G3: =$G$2*E3 -> 0 | H3: =$H$2*E3 -> 0 | I3: =$I$2*E3 -> 0 | J3: =SUM(F3:I3) -> 0
B4: 2 | F4: =$F$2*E4 -> 0 | G4: =$G$2*E4 -> 0 | H4: =$H$2*E4 -> 0 | I4: =$I$2*E4 -> 0 | J4: =SUM(F4:I4) -> 0
B5: 3 | F5: =$F$2*E5 -> 0 | G5: =$G$2*E5 -> 0 | H5: =$H$2*E5 -> 0 | I5: =$I$2*E5 -> 0 | J5: =SUM(F5:I5) -> 0
B6: 4 | F6: =$F$2*E6 -> 0 | G6: =$G$2*E6 -> 0 | H6: =$H$2*E6 -> 0 | I6: =$I$2*E6 -> 0 | J6: =SUM(F6:I6) -> 0
B7: 5 | F7: =$F$2*E7 -> 0 | G7: =$G$2*E7 -> 0 | H7: =$H$2*E7 -> 0 | I7: =$I$2*E7 -> 0 | J7: =SUM(F7:I7) -> 0
B8: 6 | F8: =$F$2*E8 -> 0 | G8: =$G$2*E8 -> 0 | H8: =$H$2*E8 -> 0 | I8: =$I$2*E8 -> 0 | J8: =SUM(F8:I8) -> 0
B9: 7 | F9: =$F$2*E9 -> 0 | G9: =$G$2*E9 -> 0 | H9: =$H$2*E9 -> 0 | I9: =$I$2*E9 -> 0 | J9: =SUM(F9:I9) -> 0
B10: 8 | F10: =$F$2*E10 -> 0 | G10: =$G$2*E10 -> 0 | H10: =$H$2*E10 -> 0 | I10: =$I$2*E10 -> 0 | J10: =SUM(F10:I10) -> 0
B11: 9 | F11: =$F$2*E11 -> 0 | G11: =$G$2*E11 -> 0 | H11: =$H$2*E11 -> 0 | I11: =$I$2*E11 -> 0 | J11: =SUM(F11:I11) -> 0
B12: 10 | F12: =$F$2*E12 -> 0 | G12: =$G$2*E12 -> 0 | H12: =$H$2*E12 -> 0 | I12: =$I$2*E12 -> 0 | J12: =SUM(F12:I12) -> 0
B13: 11 | F13: =$F$2*E13 -> 0 | G13: =$G$2*E13 -> 0 | H13: =$H$2*E13 -> 0 | I13: =$I$2*E13 -> 0 | J13: =SUM(F13:I13) -> 0
B14: 12 | F14: =$F$2*E14 -> 0 | G14: =$G$2*E14 -> 0 | H14: =$H$2*E14 -> 0 | I14: =$I$2*E14 -> 0 | J14: =SUM(F14:I14) -> 0
... B37: 35 | F37: =$F$2*E37 -> 0 | G37: =$G$2*E37 -> 0 | H37: =$H$2*E37 -> 0 | I37: =$I$2*E37 -> 0 | J37: =SUM(F37:I37) -> 0
B38: TOTAIS | E38: =SUM(E3:E37) -> 0 | F38: =SUM(F3:F37) -> 0 | G38: =SUM(G3:G37) -> 0 | H38: =SUM(H3:H37) -> 0 | I38: =SUM(I3:I37) -> 0 | J38: =SUM(J3:J37) -> 0
B44: TOTAL ACUMULADO
B45: Ref. | C45: Nome do Funcionário | D45: Cargo | E45: Remuneração acumulada (Salário base + adicionais ) | F45: 13º salário | G45: Férias e terço constitucional | H45: Multa s/ FGTS e Cont.Social sobre aviso previo indenizado e trabalhado | I45: Submodulo 2.2 sobre férias , um terço constitucional e 13° | J45: Total a ser provisionado | K45: Total liberado por funcionário | L45: Total provisionado por funcionário
E46: 1 | F46: =F2 -> 0.0833 | G46: =G2 -> 0.121 | H46: =H2 -> 0.04 | I46: =I2 -> 0.0782 | J46: =SUM(F46:I46) -> 0.3225
B47: 1 | E47: ='PARCELA 1'!E3+'PARCELA 2'!E3+'PARCELA 3'!E3+'PARCELA 4'!E3+'PARCELA 5'!E3+'PARCELA 6'!E3+'PARCELA 7'!E3+'PARCELA 8'!E3+'PARCELA 9'!E3+'PARCELA 10'!E3+'PARCELA 11'!E3+'PARCELA 12'!E3+'PARCELA 13'!E3+'PARCELA 14'!E3+'PARCELA 15'!E3+'PARCELA 16'!E3+'PARCELA 17'!E3+'PARCELA 18'!E3+'PARCELA 19'!E3+'PARCELA 20'!E3 -> 0 | F47: =$F$46*E47 -> 0 | G47: =$G$46*E47 -> 0 | H47: =$H$46*E47 -> 0 | I47: =$I$46*E47 -> 0 | J47: =SUM(F47:I47) -> 0 | L47: =J47-K47-'PARCELA 2'!K47-'PARCELA 3'!K47-'PARCELA 4'!K47-'PARCELA 5'!K47-'PARCELA 6'!K47-'PARCELA 7'!K47-'PARCELA 8'!K47-'PARCELA 9'!K47-'PARCELA 10'!K47-'PARCELA 11'!K47-'PARCELA 12'!K47-'PARCELA 13'!K47-'PARCELA 14'!K47-'PARCELA 15'!K47-'PARCELA 16'!K47-'PARCELA 17'!K47-'PARCELA 18'!K47-'PARCELA 19'!K47 -> 0
B48: 2 | E48: ='PARCELA 1'!E4+'PARCELA 2'!E4+'PARCELA 3'!E4+'PARCELA 4'!E4+'PARCELA 5'!E4+'PARCELA 6'!E4+'PARCELA 7'!E4+'PARCELA 8'!E4+'PARCELA 9'!E4+'PARCELA 10'!E4+'PARCELA 11'!E4+'PARCELA 12'!E4+'PARCELA 13'!E4+'PARCELA 14'!E4+'PARCELA 15'!E4+'PARCELA 16'!E4+'PARCELA 17'!E4+'PARCELA 18'!E4+'PARCELA 19'!E4+'PARCELA 20'!E4 -> 0 | F48: =$F$2*E48 -> 0 | G48: =$G$2*E48 -> 0 | H48: =$H$2*E48 -> 0 | I48: =$I$2*E48 -> 0 | J48: =SUM(F48:I48) -> 0 | L48: =J48-K48-'PARCELA 2'!K48-'PARCELA 3'!K48-'PARCELA 4'!K48-'PARCELA 5'!K48-'PARCELA 6'!K48-'PARCELA 7'!K48-'PARCELA 8'!K48-'PARCELA 9'!K48-'PARCELA 10'!K48-'PARCELA 11'!K48-'PARCELA 12'!K48-'PARCELA 13'!K48-'PARCELA 14'!K48-'PARCELA 15'!K48-'PARCELA 16'!K48-'PARCELA 17'!K48-'PARCELA 18'!K48-'PARCELA 19'!K48 -> 0
B49: 3 | E49: ='PARCELA 1'!E5+'PARCELA 2'!E5+'PARCELA 3'!E5+'PARCELA 4'!E5+'PARCELA 5'!E5+'PARCELA 6'!E5+'PARCELA 7'!E5+'PARCELA 8'!E5+'PARCELA 9'!E5+'PARCELA 10'!E5+'PARCELA 11'!E5+'PARCELA 12'!E5+'PARCELA 13'!E5+'PARCELA 14'!E5+'PARCELA 15'!E5+'PARCELA 16'!E5+'PARCELA 17'!E5+'PARCELA 18'!E5+'PARCELA 19'!E5+'PARCELA 20'!E5 -> 0 | F49: =$F$2*E49 -> 0 | G49: =$G$2*E49 -> 0 | H49: =$H$2*E49 -> 0 | I49: =$I$2*E49 -> 0 | J49: =SUM(F49:I49) -> 0 | L49: =J49-K49-'PARCELA 2'!K49-'PARCELA 3'!K49-'PARCELA 4'!K49-'PARCELA 5'!K49-'PARCELA 6'!K49-'PARCELA 7'!K49-'PARCELA 8'!K49-'PARCELA 9'!K49-'PARCELA 10'!K49-'PARCELA 11'!K49-'PARCELA 12'!K49-'PARCELA 13'!K49-'PARCELA 14'!K49-'PARCELA 15'!K49-'PARCELA 16'!K49-'PARCELA 17'!K49-'PARCELA 18'!K49-'PARCELA 19'!K49 -> 0
B50: 4 | E50: ='PARCELA 1'!E6+'PARCELA 2'!E6+'PARCELA 3'!E6+'PARCELA 4'!E6+'PARCELA 5'!E6+'PARCELA 6'!E6+'PARCELA 7'!E6+'PARCELA 8'!E6+'PARCELA 9'!E6+'PARCELA 10'!E6+'PARCELA 11'!E6+'PARCELA 12'!E6+'PARCELA 13'!E6+'PARCELA 14'!E6+'PARCELA 15'!E6+'PARCELA 16'!E6+'PARCELA 17'!E6+'PARCELA 18'!E6+'PARCELA 19'!E6+'PARCELA 20'!E6 -> 0 | F50: =$F$2*E50 -> 0 | G50: =$G$2*E50 -> 0 | H50: =$H$2*E50 -> 0 | I50: =$I$2*E50 -> 0 | J50: =SUM(F50:I50) -> 0 | L50: =J50-K50-'PARCELA 2'!K50-'PARCELA 3'!K50-'PARCELA 4'!K50-'PARCELA 5'!K50-'PARCELA 6'!K50-'PARCELA 7'!K50-'PARCELA 8'!K50-'PARCELA 9'!K50-'PARCELA 10'!K50-'PARCELA 11'!K50-'PARCELA 12'!K50-'PARCELA 13'!K50-'PARCELA 14'!K50-'PARCELA 15'!K50-'PARCELA 16'!K50-'PARCELA 17'!K50-'PARCELA 18'!K50-'PARCELA 19'!K50 -> 0
B51: 5 | E51: ='PARCELA 1'!E7+'PARCELA 2'!E7+'PARCELA 3'!E7+'PARCELA 4'!E7+'PARCELA 5'!E7+'PARCELA 6'!E7+'PARCELA 7'!E7+'PARCELA 8'!E7+'PARCELA 9'!E7+'PARCELA 10'!E7+'PARCELA 11'!E7+'PARCELA 12'!E7+'PARCELA 13'!E7+'PARCELA 14'!E7+'PARCELA 15'!E7+'PARCELA 16'!E7+'PARCELA 17'!E7+'PARCELA 18'!E7+'PARCELA 19'!E7+'PARCELA 20'!E7 -> 0 | F51: =$F$2*E51 -> 0 | G51: =$G$2*E51 -> 0 | H51: =$H$2*E51 -> 0 | I51: =$I$2*E51 -> 0 | J51: =SUM(F51:I51) -> 0 | L51: =J51-K51-'PARCELA 2'!K51-'PARCELA 3'!K51-'PARCELA 4'!K51-'PARCELA 5'!K51-'PARCELA 6'!K51-'PARCELA 7'!K51-'PARCELA 8'!K51-'PARCELA 9'!K51-'PARCELA 10'!K51-'PARCELA 11'!K51-'PARCELA 12'!K51-'PARCELA 13'!K51-'PARCELA 14'!K51-'PARCELA 15'!K51-'PARCELA 16'!K51-'PARCELA 17'!K51-'PARCELA 18'!K51-'PARCELA 19'!K51 -> 0
B52: 6 | E52: ='PARCELA 1'!E8+'PARCELA 2'!E8+'PARCELA 3'!E8+'PARCELA 4'!E8+'PARCELA 5'!E8+'PARCELA 6'!E8+'PARCELA 7'!E8+'PARCELA 8'!E8+'PARCELA 9'!E8+'PARCELA 10'!E8+'PARCELA 11'!E8+'PARCELA 12'!E8+'PARCELA 13'!E8+'PARCELA 14'!E8+'PARCELA 15'!E8+'PARCELA 16'!E8+'PARCELA 17'!E8+'PARCELA 18'!E8+'PARCELA 19'!E8+'PARCELA 20'!E8 -> 0 | F52: =$F$2*E52 -> 0 | G52: =$G$2*E52 -> 0 | H52: =$H$2*E52 -> 0 | I52: =$I$2*E52 -> 0 | J52: =SUM(F52:I52) -> 0 | L52: =J52-K52-'PARCELA 2'!K52-'PARCELA 3'!K52-'PARCELA 4'!K52-'PARCELA 5'!K52-'PARCELA 6'!K52-'PARCELA 7'!K52-'PARCELA 8'!K52-'PARCELA 9'!K52-'PARCELA 10'!K52-'PARCELA 11'!K52-'PARCELA 12'!K52-'PARCELA 13'!K52-'PARCELA 14'!K52-'PARCELA 15'!K52-'PARCELA 16'!K52-'PARCELA 17'!K52-'PARCELA 18'!K52-'PARCELA 19'!K52 -> 0
B53: 7 | E53: ='PARCELA 1'!E9+'PARCELA 2'!E9+'PARCELA 3'!E9+'PARCELA 4'!E9+'PARCELA 5'!E9+'PARCELA 6'!E9+'PARCELA 7'!E9+'PARCELA 8'!E9+'PARCELA 9'!E9+'PARCELA 10'!E9+'PARCELA 11'!E9+'PARCELA 12'!E9+'PARCELA 13'!E9+'PARCELA 14'!E9+'PARCELA 15'!E9+'PARCELA 16'!E9+'PARCELA 17'!E9+'PARCELA 18'!E9+'PARCELA 19'!E9+'PARCELA 20'!E9 -> 0 | F53: =$F$2*E53 -> 0 | G53: =$G$2*E53 -> 0 | H53: =$H$2*E53 -> 0 | I53: =$I$2*E53 -> 0 | J53: =SUM(F53:I53) -> 0 | L53: =J53-K53-'PARCELA 2'!K53-'PARCELA 3'!K53-'PARCELA 4'!K53-'PARCELA 5'!K53-'PARCELA 6'!K53-'PARCELA 7'!K53-'PARCELA 8'!K53-'PARCELA 9'!K53-'PARCELA 10'!K53-'PARCELA 11'!K53-'PARCELA 12'!K53-'PARCELA 13'!K53-'PARCELA 14'!K53-'PARCELA 15'!K53-'PARCELA 16'!K53-'PARCELA 17'!K53-'PARCELA 18'!K53-'PARCELA 19'!K53 -> 0
B54: 8 | E54: ='PARCELA 1'!E10+'PARCELA 2'!E10+'PARCELA 3'!E10+'PARCELA 4'!E10+'PARCELA 5'!E10+'PARCELA 6'!E10+'PARCELA 7'!E10+'PARCELA 8'!E10+'PARCELA 9'!E10+'PARCELA 10'!E10+'PARCELA 11'!E10+'PARCELA 12'!E10+'PARCELA 13'!E10+'PARCELA 14'!E10+'PARCELA 15'!E10+'PARCELA 16'!E10+'PARCELA 17'!E10+'PARCELA 18'!E10+'PARCELA 19'!E10+'PARCELA 20'!E10 -> 0 | F54: =$F$2*E54 -> 0 | G54: =$G$2*E54 -> 0 | H54: =$H$2*E54 -> 0 | I54: =$I$2*E54 -> 0 | J54: =SUM(F54:I54) -> 0 | L54: =J54-K54-'PARCELA 2'!K54-'PARCELA 3'!K54-'PARCELA 4'!K54-'PARCELA 5'!K54-'PARCELA 6'!K54-'PARCELA 7'!K54-'PARCELA 8'!K54-'PARCELA 9'!K54-'PARCELA 10'!K54-'PARCELA 11'!K54-'PARCELA 12'!K54-'PARCELA 13'!K54-'PARCELA 14'!K54-'PARCELA 15'!K54-'PARCELA 16'!K54-'PARCELA 17'!K54-'PARCELA 18'!K54-'PARCELA 19'!K54 -> 0
B55: 9 | E55: ='PARCELA 1'!E11+'PARCELA 2'!E11+'PARCELA 3'!E11+'PARCELA 4'!E11+'PARCELA 5'!E11+'PARCELA 6'!E11+'PARCELA 7'!E11+'PARCELA 8'!E11+'PARCELA 9'!E11+'PARCELA 10'!E11+'PARCELA 11'!E11+'PARCELA 12'!E11+'PARCELA 13'!E11+'PARCELA 14'!E11+'PARCELA 15'!E11+'PARCELA 16'!E11+'PARCELA 17'!E11+'PARCELA 18'!E11+'PARCELA 19'!E11+'PARCELA 20'!E11 -> 0 | F55: =$F$2*E55 -> 0 | G55: =$G$2*E55 -> 0 | H55: =$H$2*E55 -> 0 | I55: =$I$2*E55 -> 0 | J55: =SUM(F55:I55) -> 0 | L55: =J55-K55-'PARCELA 2'!K55-'PARCELA 3'!K55-'PARCELA 4'!K55-'PARCELA 5'!K55-'PARCELA 6'!K55-'PARCELA 7'!K55-'PARCELA 8'!K55-'PARCELA 9'!K55-'PARCELA 10'!K55-'PARCELA 11'!K55-'PARCELA 12'!K55-'PARCELA 13'!K55-'PARCELA 14'!K55-'PARCELA 15'!K55-'PARCELA 16'!K55-'PARCELA 17'!K55-'PARCELA 18'!K55-'PARCELA 19'!K55 -> 0
